BEGIN:VCALENDAR
VERSION:2.0
PRODID:Abfalltermine Forchheim
NAME:Abfalltermine für Forchheim - Kolpingsplatz\, Forchheim
DESCRIPTION:Abfalltermine für Forchheim - Kolpingsplatz\, Forchheim
LAST-MODIFIED:20251008T100000Z
BEGIN:VTIMEZONE
TZID:Europe/Berlin
LAST-MODIFIED:20260306T231828Z
TZURL:https://www.tzurl.org/zoneinfo-outlook/Europe/Berlin
X-LIC-LOCATION:Europe/Berlin
BEGIN:DAYLIGHT
TZNAME:CEST
TZOFFSETFROM:+0100
TZOFFSETTO:+0200
DTSTART:19700329T020000
RRULE:FREQ=YEARLY;BYDAY=-1SU;BYMONTH=3
END:DAYLIGHT
BEGIN:STANDARD
TZNAME:CET
TZOFFSETFROM:+0200
TZOFFSETTO:+0100
DTSTART:19701025T030000
RRULE:FREQ=YEARLY;BYDAY=-1SU;BYMONTH=10
END:STANDARD
END:VTIMEZONE
BEGIN:VEVENT
UID:72a5fce7-c058-406d-8fa4-8b598ebbc9cc
DTSTAMP:20260422T033559Z
LAST-MODIFIED:20251008T100000Z
CREATED:20251008T100000Z
SUMMARY;LANGUAGE=de-de:Restmülltonne
LOCATION:Forchheim - Kolpingsplatz\, Forchheim
DTSTART;VALUE=DATE:20260114
END:VEVENT
BEGIN:VEVENT
UID:d49fb12d-24bf-42a5-a790-29dd77e811eb
DTSTAMP:20260422T033559Z
LAST-MODIFIED:20251008T100000Z
CREATED:20251008T100000Z
SUMMARY;LANGUAGE=de-de:Restmülltonne
LOCATION:Forchheim - Kolpingsplatz\, Forchheim
DTSTART;VALUE=DATE:20260128
END:VEVENT
BEGIN:VEVENT
UID:83d730f1-1a66-407e-91de-b7e2ffbd3bc2
DTSTAMP:20260422T033559Z
LAST-MODIFIED:20251008T100000Z
CREATED:20251008T100000Z
SUMMARY;LANGUAGE=de-de:Restmülltonne
LOCATION:Forchheim - Kolpingsplatz\, Forchheim
DTSTART;VALUE=DATE:20260211
END:VEVENT
BEGIN:VEVENT
UID:987bf70b-3415-4b1c-bcc8-22ce27870548
DTSTAMP:20260422T033559Z
LAST-MODIFIED:20251008T100000Z
CREATED:20251008T100000Z
SUMMARY;LANGUAGE=de-de:Restmülltonne
LOCATION:Forchheim - Kolpingsplatz\, Forchheim
DTSTART;VALUE=DATE:20260225
END:VEVENT
BEGIN:VEVENT
UID:2f9fc763-34c4-429f-8f87-9d31ee5965d6
DTSTAMP:20260422T033559Z
LAST-MODIFIED:20251008T100000Z
CREATED:20251008T100000Z
SUMMARY;LANGUAGE=de-de:Restmülltonne
LOCATION:Forchheim - Kolpingsplatz\, Forchheim
DTSTART;VALUE=DATE:20260311
END:VEVENT
BEGIN:VEVENT
UID:1c8de79f-412a-4c35-966e-13efa62329c7
DTSTAMP:20260422T033559Z
LAST-MODIFIED:20251008T100000Z
CREATED:20251008T100000Z
SUMMARY;LANGUAGE=de-de:Restmülltonne
LOCATION:Forchheim - Kolpingsplatz\, Forchheim
DTSTART;VALUE=DATE:20260325
END:VEVENT
BEGIN:VEVENT
UID:866fa4f6-5383-4664-a082-8cd55a3f2236
DTSTAMP:20260422T033559Z
LAST-MODIFIED:20251008T100000Z
CREATED:20251008T100000Z
SUMMARY;LANGUAGE=de-de:Restmülltonne
LOCATION:Forchheim - Kolpingsplatz\, Forchheim
DTSTART;VALUE=DATE:20260409
END:VEVENT
BEGIN:VEVENT
UID:f5dcf476-73b2-404b-92f7-78e4260fe840
DTSTAMP:20260422T033559Z
LAST-MODIFIED:20251008T100000Z
CREATED:20251008T100000Z
SUMMARY;LANGUAGE=de-de:Restmülltonne
LOCATION:Forchheim - Kolpingsplatz\, Forchheim
DTSTART;VALUE=DATE:20260422
END:VEVENT
BEGIN:VEVENT
UID:0b3c9495-3974-42f4-b3b7-0611523d9bde
DTSTAMP:20260422T033559Z
LAST-MODIFIED:20251008T100000Z
CREATED:20251008T100000Z
SUMMARY;LANGUAGE=de-de:Restmülltonne
LOCATION:Forchheim - Kolpingsplatz\, Forchheim
DTSTART;VALUE=DATE:20260506
END:VEVENT
BEGIN:VEVENT
UID:abe73b24-949d-4511-bc05-f92aba870aa2
DTSTAMP:20260422T033559Z
LAST-MODIFIED:20251008T100000Z
CREATED:20251008T100000Z
SUMMARY;LANGUAGE=de-de:Restmülltonne
LOCATION:Forchheim - Kolpingsplatz\, Forchheim
DTSTART;VALUE=DATE:20260520
END:VEVENT
BEGIN:VEVENT
UID:03c56566-0046-428d-ae1f-90e6c50500e4
DTSTAMP:20260422T033559Z
LAST-MODIFIED:20251008T100000Z
CREATED:20251008T100000Z
SUMMARY;LANGUAGE=de-de:Restmülltonne
LOCATION:Forchheim - Kolpingsplatz\, Forchheim
DTSTART;VALUE=DATE:20260603
END:VEVENT
BEGIN:VEVENT
UID:87f9c123-094b-484d-8012-1c43b7238d3a
DTSTAMP:20260422T033559Z
LAST-MODIFIED:20251008T100000Z
CREATED:20251008T100000Z
SUMMARY;LANGUAGE=de-de:Restmülltonne
LOCATION:Forchheim - Kolpingsplatz\, Forchheim
DTSTART;VALUE=DATE:20260617
END:VEVENT
BEGIN:VEVENT
UID:17f0bda2-5874-4d90-a768-b70a0a55bd51
DTSTAMP:20260422T033559Z
LAST-MODIFIED:20251008T100000Z
CREATED:20251008T100000Z
SUMMARY;LANGUAGE=de-de:Restmülltonne
LOCATION:Forchheim - Kolpingsplatz\, Forchheim
DTSTART;VALUE=DATE:20260702
END:VEVENT
BEGIN:VEVENT
UID:83b9e669-cb67-4ff0-ad85-4e6d52cc4f2e
DTSTAMP:20260422T033559Z
LAST-MODIFIED:20251008T100000Z
CREATED:20251008T100000Z
SUMMARY;LANGUAGE=de-de:Restmülltonne
LOCATION:Forchheim - Kolpingsplatz\, Forchheim
DTSTART;VALUE=DATE:20260715
END:VEVENT
BEGIN:VEVENT
UID:0a09fbf6-aee0-49e1-a06c-bc0b1cdc1fb4
DTSTAMP:20260422T033559Z
LAST-MODIFIED:20251008T100000Z
CREATED:20251008T100000Z
SUMMARY;LANGUAGE=de-de:Restmülltonne
LOCATION:Forchheim - Kolpingsplatz\, Forchheim
DTSTART;VALUE=DATE:20260729
END:VEVENT
BEGIN:VEVENT
UID:3d5e12b5-d752-4f67-82ed-b4f4e0cea3ec
DTSTAMP:20260422T033559Z
LAST-MODIFIED:20251008T100000Z
CREATED:20251008T100000Z
SUMMARY;LANGUAGE=de-de:Restmülltonne
LOCATION:Forchheim - Kolpingsplatz\, Forchheim
DTSTART;VALUE=DATE:20260812
END:VEVENT
BEGIN:VEVENT
UID:3a4dc6e7-6aab-4856-87a0-7e18aed47207
DTSTAMP:20260422T033559Z
LAST-MODIFIED:20251008T100000Z
CREATED:20251008T100000Z
SUMMARY;LANGUAGE=de-de:Restmülltonne
LOCATION:Forchheim - Kolpingsplatz\, Forchheim
DTSTART;VALUE=DATE:20260826
END:VEVENT
BEGIN:VEVENT
UID:d2a04f71-395c-4aa0-a2d5-d415902ac98d
DTSTAMP:20260422T033559Z
LAST-MODIFIED:20251008T100000Z
CREATED:20251008T100000Z
SUMMARY;LANGUAGE=de-de:Restmülltonne
LOCATION:Forchheim - Kolpingsplatz\, Forchheim
DTSTART;VALUE=DATE:20260909
END:VEVENT
BEGIN:VEVENT
UID:4347d711-bbe9-4483-9047-8e5a879f5155
DTSTAMP:20260422T033559Z
LAST-MODIFIED:20251008T100000Z
CREATED:20251008T100000Z
SUMMARY;LANGUAGE=de-de:Restmülltonne
LOCATION:Forchheim - Kolpingsplatz\, Forchheim
DTSTART;VALUE=DATE:20260923
END:VEVENT
BEGIN:VEVENT
UID:110a9a7f-6e3c-45f9-9bf6-2afc56045c43
DTSTAMP:20260422T033559Z
LAST-MODIFIED:20251008T100000Z
CREATED:20251008T100000Z
SUMMARY;LANGUAGE=de-de:Restmülltonne
LOCATION:Forchheim - Kolpingsplatz\, Forchheim
DTSTART;VALUE=DATE:20261007
END:VEVENT
BEGIN:VEVENT
UID:9b8b76be-a62b-420a-80e1-d3200bfeb5f8
DTSTAMP:20260422T033559Z
LAST-MODIFIED:20251008T100000Z
CREATED:20251008T100000Z
SUMMARY;LANGUAGE=de-de:Restmülltonne
LOCATION:Forchheim - Kolpingsplatz\, Forchheim
DTSTART;VALUE=DATE:20261021
END:VEVENT
BEGIN:VEVENT
UID:2f513f13-a16a-4bbc-825e-c490db30fdf0
DTSTAMP:20260422T033559Z
LAST-MODIFIED:20251008T100000Z
CREATED:20251008T100000Z
SUMMARY;LANGUAGE=de-de:Restmülltonne
LOCATION:Forchheim - Kolpingsplatz\, Forchheim
DTSTART;VALUE=DATE:20261104
END:VEVENT
BEGIN:VEVENT
UID:a7822f5f-abd8-4648-b402-843c0f9b3469
DTSTAMP:20260422T033559Z
LAST-MODIFIED:20251008T100000Z
CREATED:20251008T100000Z
SUMMARY;LANGUAGE=de-de:Restmülltonne
LOCATION:Forchheim - Kolpingsplatz\, Forchheim
DTSTART;VALUE=DATE:20261118
END:VEVENT
BEGIN:VEVENT
UID:8a0df419-161f-46e4-bf3b-afb07c29eb33
DTSTAMP:20260422T033559Z
LAST-MODIFIED:20251008T100000Z
CREATED:20251008T100000Z
SUMMARY;LANGUAGE=de-de:Restmülltonne
LOCATION:Forchheim - Kolpingsplatz\, Forchheim
DTSTART;VALUE=DATE:20261202
END:VEVENT
BEGIN:VEVENT
UID:bc0f4a00-7747-4842-8cdb-6746b900cbbf
DTSTAMP:20260422T033559Z
LAST-MODIFIED:20251008T100000Z
CREATED:20251008T100000Z
SUMMARY;LANGUAGE=de-de:Restmülltonne
LOCATION:Forchheim - Kolpingsplatz\, Forchheim
DTSTART;VALUE=DATE:20261216
END:VEVENT
BEGIN:VEVENT
UID:4677f986-66ca-47d2-835f-8aee9e2524a9
DTSTAMP:20260422T033559Z
LAST-MODIFIED:20251008T100000Z
CREATED:20251008T100000Z
SUMMARY;LANGUAGE=de-de:Restmülltonne
LOCATION:Forchheim - Kolpingsplatz\, Forchheim
DTSTART;VALUE=DATE:20261229
END:VEVENT
BEGIN:VEVENT
UID:7ec5f7c1-b59a-49b5-a07a-3ce9d73d9955
DTSTAMP:20260422T033559Z
LAST-MODIFIED:20251008T100000Z
CREATED:20251008T100000Z
SUMMARY;LANGUAGE=de-de:Singletonne (Restmüll)
LOCATION:Forchheim - Kolpingsplatz\, Forchheim
DTSTART;VALUE=DATE:20260128
END:VEVENT
BEGIN:VEVENT
UID:ae373189-718e-458f-88c3-ecb7b66d1c38
DTSTAMP:20260422T033559Z
LAST-MODIFIED:20251008T100000Z
CREATED:20251008T100000Z
SUMMARY;LANGUAGE=de-de:Singletonne (Restmüll)
LOCATION:Forchheim - Kolpingsplatz\, Forchheim
DTSTART;VALUE=DATE:20260225
END:VEVENT
BEGIN:VEVENT
UID:c31aa27e-8ba0-4df6-8fa1-df6382759d16
DTSTAMP:20260422T033559Z
LAST-MODIFIED:20251008T100000Z
CREATED:20251008T100000Z
SUMMARY;LANGUAGE=de-de:Singletonne (Restmüll)
LOCATION:Forchheim - Kolpingsplatz\, Forchheim
DTSTART;VALUE=DATE:20260325
END:VEVENT
BEGIN:VEVENT
UID:cc3c010d-c31f-4819-a004-5d6b054f0fc2
DTSTAMP:20260422T033559Z
LAST-MODIFIED:20251008T100000Z
CREATED:20251008T100000Z
SUMMARY;LANGUAGE=de-de:Singletonne (Restmüll)
LOCATION:Forchheim - Kolpingsplatz\, Forchheim
DTSTART;VALUE=DATE:20260422
END:VEVENT
BEGIN:VEVENT
UID:887c15fa-c565-4c76-afb8-353db89b7669
DTSTAMP:20260422T033559Z
LAST-MODIFIED:20251008T100000Z
CREATED:20251008T100000Z
SUMMARY;LANGUAGE=de-de:Singletonne (Restmüll)
LOCATION:Forchheim - Kolpingsplatz\, Forchheim
DTSTART;VALUE=DATE:20260520
END:VEVENT
BEGIN:VEVENT
UID:1eba967a-e245-476e-9618-e3ae0f155bcf
DTSTAMP:20260422T033559Z
LAST-MODIFIED:20251008T100000Z
CREATED:20251008T100000Z
SUMMARY;LANGUAGE=de-de:Singletonne (Restmüll)
LOCATION:Forchheim - Kolpingsplatz\, Forchheim
DTSTART;VALUE=DATE:20260617
END:VEVENT
BEGIN:VEVENT
UID:d23b5231-282e-44c4-a129-2fff41084e24
DTSTAMP:20260422T033559Z
LAST-MODIFIED:20251008T100000Z
CREATED:20251008T100000Z
SUMMARY;LANGUAGE=de-de:Singletonne (Restmüll)
LOCATION:Forchheim - Kolpingsplatz\, Forchheim
DTSTART;VALUE=DATE:20260715
END:VEVENT
BEGIN:VEVENT
UID:4112a21c-d44f-44b1-9c6b-cdc71335307e
DTSTAMP:20260422T033559Z
LAST-MODIFIED:20251008T100000Z
CREATED:20251008T100000Z
SUMMARY;LANGUAGE=de-de:Singletonne (Restmüll)
LOCATION:Forchheim - Kolpingsplatz\, Forchheim
DTSTART;VALUE=DATE:20260812
END:VEVENT
BEGIN:VEVENT
UID:74f634f0-2c18-413d-b6f8-a9d52a90b51f
DTSTAMP:20260422T033559Z
LAST-MODIFIED:20251008T100000Z
CREATED:20251008T100000Z
SUMMARY;LANGUAGE=de-de:Singletonne (Restmüll)
LOCATION:Forchheim - Kolpingsplatz\, Forchheim
DTSTART;VALUE=DATE:20260909
END:VEVENT
BEGIN:VEVENT
UID:77d3bfd9-acc8-4139-ab24-3342976cd666
DTSTAMP:20260422T033559Z
LAST-MODIFIED:20251008T100000Z
CREATED:20251008T100000Z
SUMMARY;LANGUAGE=de-de:Singletonne (Restmüll)
LOCATION:Forchheim - Kolpingsplatz\, Forchheim
DTSTART;VALUE=DATE:20261007
END:VEVENT
BEGIN:VEVENT
UID:83090e07-d907-4683-85bc-c354ae0c777c
DTSTAMP:20260422T033559Z
LAST-MODIFIED:20251008T100000Z
CREATED:20251008T100000Z
SUMMARY;LANGUAGE=de-de:Singletonne (Restmüll)
LOCATION:Forchheim - Kolpingsplatz\, Forchheim
DTSTART;VALUE=DATE:20261104
END:VEVENT
BEGIN:VEVENT
UID:400837fa-ab68-4ea9-b863-d4a3c9035760
DTSTAMP:20260422T033559Z
LAST-MODIFIED:20251008T100000Z
CREATED:20251008T100000Z
SUMMARY;LANGUAGE=de-de:Singletonne (Restmüll)
LOCATION:Forchheim - Kolpingsplatz\, Forchheim
DTSTART;VALUE=DATE:20261202
END:VEVENT
BEGIN:VEVENT
UID:a87b4722-7eac-4372-afe8-94aa10626aa5
DTSTAMP:20260422T033559Z
LAST-MODIFIED:20251008T100000Z
CREATED:20251008T100000Z
SUMMARY;LANGUAGE=de-de:Singletonne (Restmüll)
LOCATION:Forchheim - Kolpingsplatz\, Forchheim
DTSTART;VALUE=DATE:20261229
END:VEVENT
BEGIN:VEVENT
UID:46ecca36-d75f-49cb-b4fb-06f54379790d
DTSTAMP:20260422T033559Z
LAST-MODIFIED:20251008T100000Z
CREATED:20251008T100000Z
SUMMARY;LANGUAGE=de-de:Biotonne
LOCATION:Forchheim - Kolpingsplatz\, Forchheim
DTSTART;VALUE=DATE:20260114
END:VEVENT
BEGIN:VEVENT
UID:69be3a27-cf64-49a0-a054-94a6a6bdbeb9
DTSTAMP:20260422T033559Z
LAST-MODIFIED:20251008T100000Z
CREATED:20251008T100000Z
SUMMARY;LANGUAGE=de-de:Biotonne
LOCATION:Forchheim - Kolpingsplatz\, Forchheim
DTSTART;VALUE=DATE:20260128
END:VEVENT
BEGIN:VEVENT
UID:ff849753-de10-455c-bf59-ceaa4af503b7
DTSTAMP:20260422T033559Z
LAST-MODIFIED:20251008T100000Z
CREATED:20251008T100000Z
SUMMARY;LANGUAGE=de-de:Biotonne
LOCATION:Forchheim - Kolpingsplatz\, Forchheim
DTSTART;VALUE=DATE:20260211
END:VEVENT
BEGIN:VEVENT
UID:8e9cd98a-3756-40ab-9f59-64d232bbf5ac
DTSTAMP:20260422T033559Z
LAST-MODIFIED:20251008T100000Z
CREATED:20251008T100000Z
SUMMARY;LANGUAGE=de-de:Biotonne
LOCATION:Forchheim - Kolpingsplatz\, Forchheim
DTSTART;VALUE=DATE:20260225
END:VEVENT
BEGIN:VEVENT
UID:33979b00-79a4-4bdb-a0a4-3d52f7ea3607
DTSTAMP:20260422T033559Z
LAST-MODIFIED:20251008T100000Z
CREATED:20251008T100000Z
SUMMARY;LANGUAGE=de-de:Biotonne
LOCATION:Forchheim - Kolpingsplatz\, Forchheim
DTSTART;VALUE=DATE:20260304
END:VEVENT
BEGIN:VEVENT
UID:c0fa5f01-956f-4061-a1c6-2857c0d7195b
DTSTAMP:20260422T033559Z
LAST-MODIFIED:20251008T100000Z
CREATED:20251008T100000Z
SUMMARY;LANGUAGE=de-de:Biotonne
LOCATION:Forchheim - Kolpingsplatz\, Forchheim
DTSTART;VALUE=DATE:20260311
END:VEVENT
BEGIN:VEVENT
UID:0cbdaccc-8d0a-4c4f-9862-76f879035814
DTSTAMP:20260422T033559Z
LAST-MODIFIED:20251008T100000Z
CREATED:20251008T100000Z
SUMMARY;LANGUAGE=de-de:Biotonne
LOCATION:Forchheim - Kolpingsplatz\, Forchheim
DTSTART;VALUE=DATE:20260318
END:VEVENT
BEGIN:VEVENT
UID:1e11f05e-75f1-4407-9758-5b8deabd16b4
DTSTAMP:20260422T033559Z
LAST-MODIFIED:20251008T100000Z
CREATED:20251008T100000Z
SUMMARY;LANGUAGE=de-de:Biotonne
LOCATION:Forchheim - Kolpingsplatz\, Forchheim
DTSTART;VALUE=DATE:20260325
END:VEVENT
BEGIN:VEVENT
UID:a48ff1f5-34f4-45aa-a9d9-214ce40fa04e
DTSTAMP:20260422T033559Z
LAST-MODIFIED:20251008T100000Z
CREATED:20251008T100000Z
SUMMARY;LANGUAGE=de-de:Biotonne
LOCATION:Forchheim - Kolpingsplatz\, Forchheim
DTSTART;VALUE=DATE:20260401
END:VEVENT
BEGIN:VEVENT
UID:1479a2d7-b188-4e49-b299-d1dc6a585266
DTSTAMP:20260422T033559Z
LAST-MODIFIED:20251008T100000Z
CREATED:20251008T100000Z
SUMMARY;LANGUAGE=de-de:Biotonne
LOCATION:Forchheim - Kolpingsplatz\, Forchheim
DTSTART;VALUE=DATE:20260409
END:VEVENT
BEGIN:VEVENT
UID:ec8aa33a-1118-4987-a875-ca10726e7d3c
DTSTAMP:20260422T033559Z
LAST-MODIFIED:20251008T100000Z
CREATED:20251008T100000Z
SUMMARY;LANGUAGE=de-de:Biotonne
LOCATION:Forchheim - Kolpingsplatz\, Forchheim
DTSTART;VALUE=DATE:20260415
END:VEVENT
BEGIN:VEVENT
UID:e39c18ec-1c42-40eb-8371-dac1540d6ab7
DTSTAMP:20260422T033559Z
LAST-MODIFIED:20251008T100000Z
CREATED:20251008T100000Z
SUMMARY;LANGUAGE=de-de:Biotonne
LOCATION:Forchheim - Kolpingsplatz\, Forchheim
DTSTART;VALUE=DATE:20260422
END:VEVENT
BEGIN:VEVENT
UID:86297798-3d30-4eac-8b52-f7d4574f6feb
DTSTAMP:20260422T033559Z
LAST-MODIFIED:20251008T100000Z
CREATED:20251008T100000Z
SUMMARY;LANGUAGE=de-de:Biotonne
LOCATION:Forchheim - Kolpingsplatz\, Forchheim
DTSTART;VALUE=DATE:20260429
END:VEVENT
BEGIN:VEVENT
UID:acda30e9-fe48-4ab4-8746-10aa6470db18
DTSTAMP:20260422T033559Z
LAST-MODIFIED:20251008T100000Z
CREATED:20251008T100000Z
SUMMARY;LANGUAGE=de-de:Biotonne
LOCATION:Forchheim - Kolpingsplatz\, Forchheim
DTSTART;VALUE=DATE:20260506
END:VEVENT
BEGIN:VEVENT
UID:f33cf0fc-3591-40aa-ba60-161d206a6cb7
DTSTAMP:20260422T033559Z
LAST-MODIFIED:20251008T100000Z
CREATED:20251008T100000Z
SUMMARY;LANGUAGE=de-de:Biotonne
LOCATION:Forchheim - Kolpingsplatz\, Forchheim
DTSTART;VALUE=DATE:20260512
END:VEVENT
BEGIN:VEVENT
UID:a95023ca-8f6a-4644-869d-1c253023c237
DTSTAMP:20260422T033559Z
LAST-MODIFIED:20251008T100000Z
CREATED:20251008T100000Z
SUMMARY;LANGUAGE=de-de:Biotonne
LOCATION:Forchheim - Kolpingsplatz\, Forchheim
DTSTART;VALUE=DATE:20260520
END:VEVENT
BEGIN:VEVENT
UID:baa7d89c-b241-4639-8875-34756a8ac49f
DTSTAMP:20260422T033559Z
LAST-MODIFIED:20251008T100000Z
CREATED:20251008T100000Z
SUMMARY;LANGUAGE=de-de:Biotonne
LOCATION:Forchheim - Kolpingsplatz\, Forchheim
DTSTART;VALUE=DATE:20260528
END:VEVENT
BEGIN:VEVENT
UID:36f512ef-c1ea-46c9-839e-a4df5e4472fa
DTSTAMP:20260422T033559Z
LAST-MODIFIED:20251008T100000Z
CREATED:20251008T100000Z
SUMMARY;LANGUAGE=de-de:Biotonne
LOCATION:Forchheim - Kolpingsplatz\, Forchheim
DTSTART;VALUE=DATE:20260603
END:VEVENT
BEGIN:VEVENT
UID:755d96fa-9611-401f-83fe-b9ab5ca3a47c
DTSTAMP:20260422T033559Z
LAST-MODIFIED:20251008T100000Z
CREATED:20251008T100000Z
SUMMARY;LANGUAGE=de-de:Biotonne
LOCATION:Forchheim - Kolpingsplatz\, Forchheim
DTSTART;VALUE=DATE:20260610
END:VEVENT
BEGIN:VEVENT
UID:0774a9b7-d26e-46a4-a4cf-276ac97bd33f
DTSTAMP:20260422T033559Z
LAST-MODIFIED:20251008T100000Z
CREATED:20251008T100000Z
SUMMARY;LANGUAGE=de-de:Biotonne
LOCATION:Forchheim - Kolpingsplatz\, Forchheim
DTSTART;VALUE=DATE:20260617
END:VEVENT
BEGIN:VEVENT
UID:68787120-1919-436b-be70-aae7c6920ca7
DTSTAMP:20260422T033559Z
LAST-MODIFIED:20251008T100000Z
CREATED:20251008T100000Z
SUMMARY;LANGUAGE=de-de:Biotonne
LOCATION:Forchheim - Kolpingsplatz\, Forchheim
DTSTART;VALUE=DATE:20260624
END:VEVENT
BEGIN:VEVENT
UID:99edb631-a3bf-4ae6-b7aa-d9d1363fc880
DTSTAMP:20260422T033559Z
LAST-MODIFIED:20251008T100000Z
CREATED:20251008T100000Z
SUMMARY;LANGUAGE=de-de:Biotonne
LOCATION:Forchheim - Kolpingsplatz\, Forchheim
DTSTART;VALUE=DATE:20260702
END:VEVENT
BEGIN:VEVENT
UID:5a8f24fe-676f-4230-8e81-d0d20f8614d7
DTSTAMP:20260422T033559Z
LAST-MODIFIED:20251008T100000Z
CREATED:20251008T100000Z
SUMMARY;LANGUAGE=de-de:Biotonne
LOCATION:Forchheim - Kolpingsplatz\, Forchheim
DTSTART;VALUE=DATE:20260708
END:VEVENT
BEGIN:VEVENT
UID:03d5ace8-268a-4bee-b072-72dd208f551e
DTSTAMP:20260422T033559Z
LAST-MODIFIED:20251008T100000Z
CREATED:20251008T100000Z
SUMMARY;LANGUAGE=de-de:Biotonne
LOCATION:Forchheim - Kolpingsplatz\, Forchheim
DTSTART;VALUE=DATE:20260715
END:VEVENT
BEGIN:VEVENT
UID:a162987c-9e16-451a-8917-09bcaa29b45d
DTSTAMP:20260422T033559Z
LAST-MODIFIED:20251008T100000Z
CREATED:20251008T100000Z
SUMMARY;LANGUAGE=de-de:Biotonne
LOCATION:Forchheim - Kolpingsplatz\, Forchheim
DTSTART;VALUE=DATE:20260722
END:VEVENT
BEGIN:VEVENT
UID:78d89160-e0b2-4a8c-bb3e-244e0e22bfe8
DTSTAMP:20260422T033559Z
LAST-MODIFIED:20251008T100000Z
CREATED:20251008T100000Z
SUMMARY;LANGUAGE=de-de:Biotonne
LOCATION:Forchheim - Kolpingsplatz\, Forchheim
DTSTART;VALUE=DATE:20260729
END:VEVENT
BEGIN:VEVENT
UID:ea27c123-498d-4d66-8c4c-fd10ae28f53a
DTSTAMP:20260422T033559Z
LAST-MODIFIED:20251008T100000Z
CREATED:20251008T100000Z
SUMMARY;LANGUAGE=de-de:Biotonne
LOCATION:Forchheim - Kolpingsplatz\, Forchheim
DTSTART;VALUE=DATE:20260805
END:VEVENT
BEGIN:VEVENT
UID:b5a6f7f3-a4d6-43f8-8e2c-d70c233b3771
DTSTAMP:20260422T033559Z
LAST-MODIFIED:20251008T100000Z
CREATED:20251008T100000Z
SUMMARY;LANGUAGE=de-de:Biotonne
LOCATION:Forchheim - Kolpingsplatz\, Forchheim
DTSTART;VALUE=DATE:20260812
END:VEVENT
BEGIN:VEVENT
UID:c3112dfc-6b76-48ce-8333-b66d404a4421
DTSTAMP:20260422T033559Z
LAST-MODIFIED:20251008T100000Z
CREATED:20251008T100000Z
SUMMARY;LANGUAGE=de-de:Biotonne
LOCATION:Forchheim - Kolpingsplatz\, Forchheim
DTSTART;VALUE=DATE:20260819
END:VEVENT
BEGIN:VEVENT
UID:1924e3b1-582c-4882-806d-f8ce6a99230b
DTSTAMP:20260422T033559Z
LAST-MODIFIED:20251008T100000Z
CREATED:20251008T100000Z
SUMMARY;LANGUAGE=de-de:Biotonne
LOCATION:Forchheim - Kolpingsplatz\, Forchheim
DTSTART;VALUE=DATE:20260826
END:VEVENT
BEGIN:VEVENT
UID:2d174ed7-b69b-49b4-b345-b6429ab3816f
DTSTAMP:20260422T033559Z
LAST-MODIFIED:20251008T100000Z
CREATED:20251008T100000Z
SUMMARY;LANGUAGE=de-de:Biotonne
LOCATION:Forchheim - Kolpingsplatz\, Forchheim
DTSTART;VALUE=DATE:20260902
END:VEVENT
BEGIN:VEVENT
UID:3096ede1-470e-45c6-9b0f-e3ad727f48fc
DTSTAMP:20260422T033559Z
LAST-MODIFIED:20251008T100000Z
CREATED:20251008T100000Z
SUMMARY;LANGUAGE=de-de:Biotonne
LOCATION:Forchheim - Kolpingsplatz\, Forchheim
DTSTART;VALUE=DATE:20260909
END:VEVENT
BEGIN:VEVENT
UID:7f06f9e5-126f-4b91-984f-36bbe4a3cd97
DTSTAMP:20260422T033559Z
LAST-MODIFIED:20251008T100000Z
CREATED:20251008T100000Z
SUMMARY;LANGUAGE=de-de:Biotonne
LOCATION:Forchheim - Kolpingsplatz\, Forchheim
DTSTART;VALUE=DATE:20260916
END:VEVENT
BEGIN:VEVENT
UID:699cdd1b-2742-442d-9778-ef798869c407
DTSTAMP:20260422T033559Z
LAST-MODIFIED:20251008T100000Z
CREATED:20251008T100000Z
SUMMARY;LANGUAGE=de-de:Biotonne
LOCATION:Forchheim - Kolpingsplatz\, Forchheim
DTSTART;VALUE=DATE:20260923
END:VEVENT
BEGIN:VEVENT
UID:c9db97ad-e168-446f-902e-1d76ccf735ee
DTSTAMP:20260422T033559Z
LAST-MODIFIED:20251008T100000Z
CREATED:20251008T100000Z
SUMMARY;LANGUAGE=de-de:Biotonne
LOCATION:Forchheim - Kolpingsplatz\, Forchheim
DTSTART;VALUE=DATE:20260930
END:VEVENT
BEGIN:VEVENT
UID:ca9d501e-fc78-4a94-9ca1-e5d8b49c97dd
DTSTAMP:20260422T033559Z
LAST-MODIFIED:20251008T100000Z
CREATED:20251008T100000Z
SUMMARY;LANGUAGE=de-de:Biotonne
LOCATION:Forchheim - Kolpingsplatz\, Forchheim
DTSTART;VALUE=DATE:20261007
END:VEVENT
BEGIN:VEVENT
UID:c0a9b1be-fea7-41f4-85a6-a3420808b134
DTSTAMP:20260422T033559Z
LAST-MODIFIED:20251008T100000Z
CREATED:20251008T100000Z
SUMMARY;LANGUAGE=de-de:Biotonne
LOCATION:Forchheim - Kolpingsplatz\, Forchheim
DTSTART;VALUE=DATE:20261014
END:VEVENT
BEGIN:VEVENT
UID:b5759fca-0f31-4bb8-84a8-0a6414c95f46
DTSTAMP:20260422T033559Z
LAST-MODIFIED:20251008T100000Z
CREATED:20251008T100000Z
SUMMARY;LANGUAGE=de-de:Biotonne
LOCATION:Forchheim - Kolpingsplatz\, Forchheim
DTSTART;VALUE=DATE:20261021
END:VEVENT
BEGIN:VEVENT
UID:72ee9ed8-4214-40a2-b04a-75f2bc31aefd
DTSTAMP:20260422T033559Z
LAST-MODIFIED:20251008T100000Z
CREATED:20251008T100000Z
SUMMARY;LANGUAGE=de-de:Biotonne
LOCATION:Forchheim - Kolpingsplatz\, Forchheim
DTSTART;VALUE=DATE:20261028
END:VEVENT
BEGIN:VEVENT
UID:6fa82a6b-a447-48a4-945a-465f4f2032b9
DTSTAMP:20260422T033559Z
LAST-MODIFIED:20251008T100000Z
CREATED:20251008T100000Z
SUMMARY;LANGUAGE=de-de:Biotonne
LOCATION:Forchheim - Kolpingsplatz\, Forchheim
DTSTART;VALUE=DATE:20261104
END:VEVENT
BEGIN:VEVENT
UID:5857dfc6-345d-45a4-a4de-7d1c84488099
DTSTAMP:20260422T033559Z
LAST-MODIFIED:20251008T100000Z
CREATED:20251008T100000Z
SUMMARY;LANGUAGE=de-de:Biotonne
LOCATION:Forchheim - Kolpingsplatz\, Forchheim
DTSTART;VALUE=DATE:20261111
END:VEVENT
BEGIN:VEVENT
UID:b53009ca-f3b2-46d7-8470-d62ef2a232c3
DTSTAMP:20260422T033559Z
LAST-MODIFIED:20251008T100000Z
CREATED:20251008T100000Z
SUMMARY;LANGUAGE=de-de:Biotonne
LOCATION:Forchheim - Kolpingsplatz\, Forchheim
DTSTART;VALUE=DATE:20261118
END:VEVENT
BEGIN:VEVENT
UID:aa3a0c0c-173f-4927-bf4d-af84527ecba3
DTSTAMP:20260422T033559Z
LAST-MODIFIED:20251008T100000Z
CREATED:20251008T100000Z
SUMMARY;LANGUAGE=de-de:Biotonne
LOCATION:Forchheim - Kolpingsplatz\, Forchheim
DTSTART;VALUE=DATE:20261125
END:VEVENT
BEGIN:VEVENT
UID:35737d18-4514-4001-8aea-b8445af5c6b5
DTSTAMP:20260422T033559Z
LAST-MODIFIED:20251008T100000Z
CREATED:20251008T100000Z
SUMMARY;LANGUAGE=de-de:Biotonne
LOCATION:Forchheim - Kolpingsplatz\, Forchheim
DTSTART;VALUE=DATE:20261202
END:VEVENT
BEGIN:VEVENT
UID:bcc35482-e122-461e-a08d-4d65cab0dcf6
DTSTAMP:20260422T033559Z
LAST-MODIFIED:20251008T100000Z
CREATED:20251008T100000Z
SUMMARY;LANGUAGE=de-de:Biotonne
LOCATION:Forchheim - Kolpingsplatz\, Forchheim
DTSTART;VALUE=DATE:20261216
END:VEVENT
BEGIN:VEVENT
UID:b1e6ebfe-1879-42a3-b635-cbf4be7c2dd1
DTSTAMP:20260422T033559Z
LAST-MODIFIED:20251008T100000Z
CREATED:20251008T100000Z
SUMMARY;LANGUAGE=de-de:Biotonne
LOCATION:Forchheim - Kolpingsplatz\, Forchheim
DTSTART;VALUE=DATE:20261228
END:VEVENT
BEGIN:VEVENT
UID:40cf010e-e60b-4c2b-b58e-a058c1c57239
DTSTAMP:20260422T033559Z
LAST-MODIFIED:20251008T100000Z
CREATED:20251008T100000Z
SUMMARY;LANGUAGE=de-de:Gelbe Tonne
LOCATION:Forchheim - Kolpingsplatz\, Forchheim
DTSTART;VALUE=DATE:20260122
END:VEVENT
BEGIN:VEVENT
UID:a22baa61-5b23-4a53-bb1f-d2227eed70c2
DTSTAMP:20260422T033559Z
LAST-MODIFIED:20251008T100000Z
CREATED:20251008T100000Z
SUMMARY;LANGUAGE=de-de:Gelbe Tonne
LOCATION:Forchheim - Kolpingsplatz\, Forchheim
DTSTART;VALUE=DATE:20260219
END:VEVENT
BEGIN:VEVENT
UID:b23fc88f-d40b-4d07-b2dd-f4b4f9097728
DTSTAMP:20260422T033559Z
LAST-MODIFIED:20251008T100000Z
CREATED:20251008T100000Z
SUMMARY;LANGUAGE=de-de:Gelbe Tonne
LOCATION:Forchheim - Kolpingsplatz\, Forchheim
DTSTART;VALUE=DATE:20260319
END:VEVENT
BEGIN:VEVENT
UID:3d6aec4f-f75f-4575-9c17-9a3983e3a777
DTSTAMP:20260422T033559Z
LAST-MODIFIED:20251008T100000Z
CREATED:20251008T100000Z
SUMMARY;LANGUAGE=de-de:Gelbe Tonne
LOCATION:Forchheim - Kolpingsplatz\, Forchheim
DTSTART;VALUE=DATE:20260420
END:VEVENT
BEGIN:VEVENT
UID:7bf09b91-6df2-4565-ac15-590bc6f7535b
DTSTAMP:20260422T033559Z
LAST-MODIFIED:20251008T100000Z
CREATED:20251008T100000Z
SUMMARY;LANGUAGE=de-de:Gelbe Tonne
LOCATION:Forchheim - Kolpingsplatz\, Forchheim
DTSTART;VALUE=DATE:20260520
END:VEVENT
BEGIN:VEVENT
UID:52311383-f1ee-4d24-96e3-c55c6ae66388
DTSTAMP:20260422T033559Z
LAST-MODIFIED:20251008T100000Z
CREATED:20251008T100000Z
SUMMARY;LANGUAGE=de-de:Gelbe Tonne
LOCATION:Forchheim - Kolpingsplatz\, Forchheim
DTSTART;VALUE=DATE:20260619
END:VEVENT
BEGIN:VEVENT
UID:2a771b37-7bb6-48b6-a57b-9e91db516bc4
DTSTAMP:20260422T033559Z
LAST-MODIFIED:20251008T100000Z
CREATED:20251008T100000Z
SUMMARY;LANGUAGE=de-de:Gelbe Tonne
LOCATION:Forchheim - Kolpingsplatz\, Forchheim
DTSTART;VALUE=DATE:20260717
END:VEVENT
BEGIN:VEVENT
UID:1dc99789-ab48-4684-9dc7-ed5d4eabfae0
DTSTAMP:20260422T033559Z
LAST-MODIFIED:20251008T100000Z
CREATED:20251008T100000Z
SUMMARY;LANGUAGE=de-de:Gelbe Tonne
LOCATION:Forchheim - Kolpingsplatz\, Forchheim
DTSTART;VALUE=DATE:20260814
END:VEVENT
BEGIN:VEVENT
UID:5f63d185-036b-410a-8c17-31766b3b36ce
DTSTAMP:20260422T033559Z
LAST-MODIFIED:20251008T100000Z
CREATED:20251008T100000Z
SUMMARY;LANGUAGE=de-de:Gelbe Tonne
LOCATION:Forchheim - Kolpingsplatz\, Forchheim
DTSTART;VALUE=DATE:20260911
END:VEVENT
BEGIN:VEVENT
UID:c1aac377-3ec3-4220-ad78-7f0e29c6e094
DTSTAMP:20260422T033559Z
LAST-MODIFIED:20251008T100000Z
CREATED:20251008T100000Z
SUMMARY;LANGUAGE=de-de:Gelbe Tonne
LOCATION:Forchheim - Kolpingsplatz\, Forchheim
DTSTART;VALUE=DATE:20261009
END:VEVENT
BEGIN:VEVENT
UID:4a3d5399-c868-44e6-9905-830b47566bd3
DTSTAMP:20260422T033559Z
LAST-MODIFIED:20251008T100000Z
CREATED:20251008T100000Z
SUMMARY;LANGUAGE=de-de:Gelbe Tonne
LOCATION:Forchheim - Kolpingsplatz\, Forchheim
DTSTART;VALUE=DATE:20261106
END:VEVENT
BEGIN:VEVENT
UID:0e0f94b7-d842-42e4-8aba-9727f001e3aa
DTSTAMP:20260422T033559Z
LAST-MODIFIED:20251008T100000Z
CREATED:20251008T100000Z
SUMMARY;LANGUAGE=de-de:Gelbe Tonne
LOCATION:Forchheim - Kolpingsplatz\, Forchheim
DTSTART;VALUE=DATE:20261204
END:VEVENT
BEGIN:VEVENT
UID:466118e6-480a-4032-98fc-f829930ec0a3
DTSTAMP:20260422T033559Z
LAST-MODIFIED:20251008T100000Z
CREATED:20251008T100000Z
SUMMARY;LANGUAGE=de-de:Papiertonne
LOCATION:Forchheim - Kolpingsplatz\, Forchheim
DTSTART;VALUE=DATE:20260120
END:VEVENT
BEGIN:VEVENT
UID:32277dd2-d628-44a2-820c-85714ecd3862
DTSTAMP:20260422T033559Z
LAST-MODIFIED:20251008T100000Z
CREATED:20251008T100000Z
SUMMARY;LANGUAGE=de-de:Papiertonne
LOCATION:Forchheim - Kolpingsplatz\, Forchheim
DTSTART;VALUE=DATE:20260212
END:VEVENT
BEGIN:VEVENT
UID:a4b3aec6-4a53-4d4b-b326-fe1b3bda5b3b
DTSTAMP:20260422T033559Z
LAST-MODIFIED:20251008T100000Z
CREATED:20251008T100000Z
SUMMARY;LANGUAGE=de-de:Papiertonne
LOCATION:Forchheim - Kolpingsplatz\, Forchheim
DTSTART;VALUE=DATE:20260312
END:VEVENT
BEGIN:VEVENT
UID:1160c435-ea6b-4ef9-8106-37138053c1a3
DTSTAMP:20260422T033559Z
LAST-MODIFIED:20251008T100000Z
CREATED:20251008T100000Z
SUMMARY;LANGUAGE=de-de:Papiertonne
LOCATION:Forchheim - Kolpingsplatz\, Forchheim
DTSTART;VALUE=DATE:20260409
END:VEVENT
BEGIN:VEVENT
UID:1bd33c56-c491-484e-95b3-7bfa0a3b14b6
DTSTAMP:20260422T033559Z
LAST-MODIFIED:20251008T100000Z
CREATED:20251008T100000Z
SUMMARY;LANGUAGE=de-de:Papiertonne
LOCATION:Forchheim - Kolpingsplatz\, Forchheim
DTSTART;VALUE=DATE:20260507
END:VEVENT
BEGIN:VEVENT
UID:6112174d-1e11-47c3-af3f-f09fb7a9e717
DTSTAMP:20260422T033559Z
LAST-MODIFIED:20251008T100000Z
CREATED:20251008T100000Z
SUMMARY;LANGUAGE=de-de:Papiertonne
LOCATION:Forchheim - Kolpingsplatz\, Forchheim
DTSTART;VALUE=DATE:20260611
END:VEVENT
BEGIN:VEVENT
UID:23e9fb7c-f3cd-4361-b90d-20f4e5179b52
DTSTAMP:20260422T033559Z
LAST-MODIFIED:20251008T100000Z
CREATED:20251008T100000Z
SUMMARY;LANGUAGE=de-de:Papiertonne
LOCATION:Forchheim - Kolpingsplatz\, Forchheim
DTSTART;VALUE=DATE:20260708
END:VEVENT
BEGIN:VEVENT
UID:a6b0579e-8c89-4744-a5a4-87866a454467
DTSTAMP:20260422T033559Z
LAST-MODIFIED:20251008T100000Z
CREATED:20251008T100000Z
SUMMARY;LANGUAGE=de-de:Papiertonne
LOCATION:Forchheim - Kolpingsplatz\, Forchheim
DTSTART;VALUE=DATE:20260804
END:VEVENT
BEGIN:VEVENT
UID:0d32904b-0627-4381-ac91-e38887119b00
DTSTAMP:20260422T033559Z
LAST-MODIFIED:20251008T100000Z
CREATED:20251008T100000Z
SUMMARY;LANGUAGE=de-de:Papiertonne
LOCATION:Forchheim - Kolpingsplatz\, Forchheim
DTSTART;VALUE=DATE:20260901
END:VEVENT
BEGIN:VEVENT
UID:f2e2759b-0977-4f8d-ab09-25499c0b7c5e
DTSTAMP:20260422T033559Z
LAST-MODIFIED:20251008T100000Z
CREATED:20251008T100000Z
SUMMARY;LANGUAGE=de-de:Papiertonne
LOCATION:Forchheim - Kolpingsplatz\, Forchheim
DTSTART;VALUE=DATE:20260924
END:VEVENT
BEGIN:VEVENT
UID:4f642dd1-9ab2-4c1e-a51c-de26ec146299
DTSTAMP:20260422T033559Z
LAST-MODIFIED:20251008T100000Z
CREATED:20251008T100000Z
SUMMARY;LANGUAGE=de-de:Papiertonne
LOCATION:Forchheim - Kolpingsplatz\, Forchheim
DTSTART;VALUE=DATE:20261022
END:VEVENT
BEGIN:VEVENT
UID:102e8b48-2cf5-44bc-8eaa-6d85256a4cdd
DTSTAMP:20260422T033559Z
LAST-MODIFIED:20251008T100000Z
CREATED:20251008T100000Z
SUMMARY;LANGUAGE=de-de:Papiertonne
LOCATION:Forchheim - Kolpingsplatz\, Forchheim
DTSTART;VALUE=DATE:20261118
END:VEVENT
BEGIN:VEVENT
UID:0cb1f799-b89c-4227-af00-feb5ee95be38
DTSTAMP:20260422T033559Z
LAST-MODIFIED:20251008T100000Z
CREATED:20251008T100000Z
SUMMARY;LANGUAGE=de-de:Papiertonne
LOCATION:Forchheim - Kolpingsplatz\, Forchheim
DTSTART;VALUE=DATE:20261215
END:VEVENT
END:VCALENDAR
