BEGIN:VCALENDAR
VERSION:2.0
PRODID:Abfalltermine Forchheim
NAME:Abfalltermine für Forchheim - Krottental\, Forchheim
DESCRIPTION:Abfalltermine für Forchheim - Krottental\, Forchheim
LAST-MODIFIED:20251008T100000Z
BEGIN:VTIMEZONE
TZID:Europe/Berlin
LAST-MODIFIED:20260306T231828Z
TZURL:https://www.tzurl.org/zoneinfo-outlook/Europe/Berlin
X-LIC-LOCATION:Europe/Berlin
BEGIN:DAYLIGHT
TZNAME:CEST
TZOFFSETFROM:+0100
TZOFFSETTO:+0200
DTSTART:19700329T020000
RRULE:FREQ=YEARLY;BYDAY=-1SU;BYMONTH=3
END:DAYLIGHT
BEGIN:STANDARD
TZNAME:CET
TZOFFSETFROM:+0200
TZOFFSETTO:+0100
DTSTART:19701025T030000
RRULE:FREQ=YEARLY;BYDAY=-1SU;BYMONTH=10
END:STANDARD
END:VTIMEZONE
BEGIN:VEVENT
UID:d6582ddc-9c53-403d-8150-f11bcf273b8d
DTSTAMP:20260422T064718Z
LAST-MODIFIED:20251008T100000Z
CREATED:20251008T100000Z
SUMMARY;LANGUAGE=de-de:Restmülltonne
LOCATION:Forchheim - Krottental\, Forchheim
DTSTART;VALUE=DATE:20260113
END:VEVENT
BEGIN:VEVENT
UID:98cbd499-e46b-432f-ab5f-e5555ab661b6
DTSTAMP:20260422T064718Z
LAST-MODIFIED:20251008T100000Z
CREATED:20251008T100000Z
SUMMARY;LANGUAGE=de-de:Restmülltonne
LOCATION:Forchheim - Krottental\, Forchheim
DTSTART;VALUE=DATE:20260127
END:VEVENT
BEGIN:VEVENT
UID:274cfc81-a9d2-4cee-9515-1e55f57308eb
DTSTAMP:20260422T064718Z
LAST-MODIFIED:20251008T100000Z
CREATED:20251008T100000Z
SUMMARY;LANGUAGE=de-de:Restmülltonne
LOCATION:Forchheim - Krottental\, Forchheim
DTSTART;VALUE=DATE:20260210
END:VEVENT
BEGIN:VEVENT
UID:3eb31e05-1b7d-4f67-9087-ad13b1f533d1
DTSTAMP:20260422T064718Z
LAST-MODIFIED:20251008T100000Z
CREATED:20251008T100000Z
SUMMARY;LANGUAGE=de-de:Restmülltonne
LOCATION:Forchheim - Krottental\, Forchheim
DTSTART;VALUE=DATE:20260224
END:VEVENT
BEGIN:VEVENT
UID:4a7fb026-6c37-48d0-844a-375e26e0f391
DTSTAMP:20260422T064718Z
LAST-MODIFIED:20251008T100000Z
CREATED:20251008T100000Z
SUMMARY;LANGUAGE=de-de:Restmülltonne
LOCATION:Forchheim - Krottental\, Forchheim
DTSTART;VALUE=DATE:20260310
END:VEVENT
BEGIN:VEVENT
UID:516bf4b9-5c75-431b-a86b-3ea470721737
DTSTAMP:20260422T064718Z
LAST-MODIFIED:20251008T100000Z
CREATED:20251008T100000Z
SUMMARY;LANGUAGE=de-de:Restmülltonne
LOCATION:Forchheim - Krottental\, Forchheim
DTSTART;VALUE=DATE:20260324
END:VEVENT
BEGIN:VEVENT
UID:e38ddf94-cfed-4b33-9aeb-ce5a67be96b7
DTSTAMP:20260422T064718Z
LAST-MODIFIED:20251008T100000Z
CREATED:20251008T100000Z
SUMMARY;LANGUAGE=de-de:Restmülltonne
LOCATION:Forchheim - Krottental\, Forchheim
DTSTART;VALUE=DATE:20260408
END:VEVENT
BEGIN:VEVENT
UID:ee5881bc-0b19-429e-a7be-6d28552a503a
DTSTAMP:20260422T064718Z
LAST-MODIFIED:20251008T100000Z
CREATED:20251008T100000Z
SUMMARY;LANGUAGE=de-de:Restmülltonne
LOCATION:Forchheim - Krottental\, Forchheim
DTSTART;VALUE=DATE:20260421
END:VEVENT
BEGIN:VEVENT
UID:744c8b75-e2bc-48a4-a22e-07f4a094a091
DTSTAMP:20260422T064718Z
LAST-MODIFIED:20251008T100000Z
CREATED:20251008T100000Z
SUMMARY;LANGUAGE=de-de:Restmülltonne
LOCATION:Forchheim - Krottental\, Forchheim
DTSTART;VALUE=DATE:20260505
END:VEVENT
BEGIN:VEVENT
UID:7f70ddc1-e010-4206-b24b-3dd6deedac6e
DTSTAMP:20260422T064718Z
LAST-MODIFIED:20251008T100000Z
CREATED:20251008T100000Z
SUMMARY;LANGUAGE=de-de:Restmülltonne
LOCATION:Forchheim - Krottental\, Forchheim
DTSTART;VALUE=DATE:20260519
END:VEVENT
BEGIN:VEVENT
UID:dd6d7a31-796b-4979-9934-e4b8a189702e
DTSTAMP:20260422T064718Z
LAST-MODIFIED:20251008T100000Z
CREATED:20251008T100000Z
SUMMARY;LANGUAGE=de-de:Restmülltonne
LOCATION:Forchheim - Krottental\, Forchheim
DTSTART;VALUE=DATE:20260602
END:VEVENT
BEGIN:VEVENT
UID:4d4e1723-b386-4468-8767-1fc87bf2aab5
DTSTAMP:20260422T064718Z
LAST-MODIFIED:20251008T100000Z
CREATED:20251008T100000Z
SUMMARY;LANGUAGE=de-de:Restmülltonne
LOCATION:Forchheim - Krottental\, Forchheim
DTSTART;VALUE=DATE:20260616
END:VEVENT
BEGIN:VEVENT
UID:3888d86c-34b6-444f-8cbd-430642569e86
DTSTAMP:20260422T064718Z
LAST-MODIFIED:20251008T100000Z
CREATED:20251008T100000Z
SUMMARY;LANGUAGE=de-de:Restmülltonne
LOCATION:Forchheim - Krottental\, Forchheim
DTSTART;VALUE=DATE:20260630
END:VEVENT
BEGIN:VEVENT
UID:2f3199c3-947e-4922-b29f-71f5df02ae5a
DTSTAMP:20260422T064718Z
LAST-MODIFIED:20251008T100000Z
CREATED:20251008T100000Z
SUMMARY;LANGUAGE=de-de:Restmülltonne
LOCATION:Forchheim - Krottental\, Forchheim
DTSTART;VALUE=DATE:20260714
END:VEVENT
BEGIN:VEVENT
UID:f77ab5ce-4c22-4a3d-a620-f7d1a649abdb
DTSTAMP:20260422T064718Z
LAST-MODIFIED:20251008T100000Z
CREATED:20251008T100000Z
SUMMARY;LANGUAGE=de-de:Restmülltonne
LOCATION:Forchheim - Krottental\, Forchheim
DTSTART;VALUE=DATE:20260728
END:VEVENT
BEGIN:VEVENT
UID:06c85951-8613-4c12-94df-92957d29f95f
DTSTAMP:20260422T064718Z
LAST-MODIFIED:20251008T100000Z
CREATED:20251008T100000Z
SUMMARY;LANGUAGE=de-de:Restmülltonne
LOCATION:Forchheim - Krottental\, Forchheim
DTSTART;VALUE=DATE:20260811
END:VEVENT
BEGIN:VEVENT
UID:ea610360-ce31-4543-bb39-30ce5b20949b
DTSTAMP:20260422T064718Z
LAST-MODIFIED:20251008T100000Z
CREATED:20251008T100000Z
SUMMARY;LANGUAGE=de-de:Restmülltonne
LOCATION:Forchheim - Krottental\, Forchheim
DTSTART;VALUE=DATE:20260825
END:VEVENT
BEGIN:VEVENT
UID:b2e29daa-e52d-44a3-b0e8-f7f23dd714ad
DTSTAMP:20260422T064718Z
LAST-MODIFIED:20251008T100000Z
CREATED:20251008T100000Z
SUMMARY;LANGUAGE=de-de:Restmülltonne
LOCATION:Forchheim - Krottental\, Forchheim
DTSTART;VALUE=DATE:20260908
END:VEVENT
BEGIN:VEVENT
UID:bb1cdb63-df7e-4fef-87c6-47c7d42eb41f
DTSTAMP:20260422T064718Z
LAST-MODIFIED:20251008T100000Z
CREATED:20251008T100000Z
SUMMARY;LANGUAGE=de-de:Restmülltonne
LOCATION:Forchheim - Krottental\, Forchheim
DTSTART;VALUE=DATE:20260922
END:VEVENT
BEGIN:VEVENT
UID:b8bd3bb3-d08d-4ae9-9a71-948d00696f39
DTSTAMP:20260422T064718Z
LAST-MODIFIED:20251008T100000Z
CREATED:20251008T100000Z
SUMMARY;LANGUAGE=de-de:Restmülltonne
LOCATION:Forchheim - Krottental\, Forchheim
DTSTART;VALUE=DATE:20261006
END:VEVENT
BEGIN:VEVENT
UID:98bd3300-aaa7-40c6-9cc8-d36ec35abce5
DTSTAMP:20260422T064718Z
LAST-MODIFIED:20251008T100000Z
CREATED:20251008T100000Z
SUMMARY;LANGUAGE=de-de:Restmülltonne
LOCATION:Forchheim - Krottental\, Forchheim
DTSTART;VALUE=DATE:20261020
END:VEVENT
BEGIN:VEVENT
UID:b1d244a2-b97e-43a8-be65-198edb9baebf
DTSTAMP:20260422T064718Z
LAST-MODIFIED:20251008T100000Z
CREATED:20251008T100000Z
SUMMARY;LANGUAGE=de-de:Restmülltonne
LOCATION:Forchheim - Krottental\, Forchheim
DTSTART;VALUE=DATE:20261103
END:VEVENT
BEGIN:VEVENT
UID:23844087-8791-481b-99e9-28d14096439d
DTSTAMP:20260422T064718Z
LAST-MODIFIED:20251008T100000Z
CREATED:20251008T100000Z
SUMMARY;LANGUAGE=de-de:Restmülltonne
LOCATION:Forchheim - Krottental\, Forchheim
DTSTART;VALUE=DATE:20261117
END:VEVENT
BEGIN:VEVENT
UID:a4a27bc7-fdc4-4f51-99d7-c603f543175a
DTSTAMP:20260422T064718Z
LAST-MODIFIED:20251008T100000Z
CREATED:20251008T100000Z
SUMMARY;LANGUAGE=de-de:Restmülltonne
LOCATION:Forchheim - Krottental\, Forchheim
DTSTART;VALUE=DATE:20261201
END:VEVENT
BEGIN:VEVENT
UID:5be58632-0f3c-4c45-b974-309a1279f510
DTSTAMP:20260422T064718Z
LAST-MODIFIED:20251008T100000Z
CREATED:20251008T100000Z
SUMMARY;LANGUAGE=de-de:Restmülltonne
LOCATION:Forchheim - Krottental\, Forchheim
DTSTART;VALUE=DATE:20261215
END:VEVENT
BEGIN:VEVENT
UID:1b55f2a3-ffb0-4fc7-8a42-1057f38bde61
DTSTAMP:20260422T064718Z
LAST-MODIFIED:20251008T100000Z
CREATED:20251008T100000Z
SUMMARY;LANGUAGE=de-de:Restmülltonne
LOCATION:Forchheim - Krottental\, Forchheim
DTSTART;VALUE=DATE:20261229
END:VEVENT
BEGIN:VEVENT
UID:489f49f5-8163-4d76-90bd-3e6b51057885
DTSTAMP:20260422T064718Z
LAST-MODIFIED:20251008T100000Z
CREATED:20251008T100000Z
SUMMARY;LANGUAGE=de-de:Singletonne (Restmüll)
LOCATION:Forchheim - Krottental\, Forchheim
DTSTART;VALUE=DATE:20260127
END:VEVENT
BEGIN:VEVENT
UID:2cac82a0-115c-485e-9a08-37d5c7cc3494
DTSTAMP:20260422T064718Z
LAST-MODIFIED:20251008T100000Z
CREATED:20251008T100000Z
SUMMARY;LANGUAGE=de-de:Singletonne (Restmüll)
LOCATION:Forchheim - Krottental\, Forchheim
DTSTART;VALUE=DATE:20260224
END:VEVENT
BEGIN:VEVENT
UID:c6cb9141-c9ba-40e6-8c66-318efe186be8
DTSTAMP:20260422T064718Z
LAST-MODIFIED:20251008T100000Z
CREATED:20251008T100000Z
SUMMARY;LANGUAGE=de-de:Singletonne (Restmüll)
LOCATION:Forchheim - Krottental\, Forchheim
DTSTART;VALUE=DATE:20260324
END:VEVENT
BEGIN:VEVENT
UID:7a079e13-d448-4e0d-a239-20283b12a884
DTSTAMP:20260422T064718Z
LAST-MODIFIED:20251008T100000Z
CREATED:20251008T100000Z
SUMMARY;LANGUAGE=de-de:Singletonne (Restmüll)
LOCATION:Forchheim - Krottental\, Forchheim
DTSTART;VALUE=DATE:20260421
END:VEVENT
BEGIN:VEVENT
UID:69e18400-e858-43c1-9ca1-c857417540c1
DTSTAMP:20260422T064718Z
LAST-MODIFIED:20251008T100000Z
CREATED:20251008T100000Z
SUMMARY;LANGUAGE=de-de:Singletonne (Restmüll)
LOCATION:Forchheim - Krottental\, Forchheim
DTSTART;VALUE=DATE:20260519
END:VEVENT
BEGIN:VEVENT
UID:02757d1c-462d-420a-b03d-2274dc36d589
DTSTAMP:20260422T064718Z
LAST-MODIFIED:20251008T100000Z
CREATED:20251008T100000Z
SUMMARY;LANGUAGE=de-de:Singletonne (Restmüll)
LOCATION:Forchheim - Krottental\, Forchheim
DTSTART;VALUE=DATE:20260616
END:VEVENT
BEGIN:VEVENT
UID:f483e9fd-e748-4a88-b0a6-784ec194c1a8
DTSTAMP:20260422T064718Z
LAST-MODIFIED:20251008T100000Z
CREATED:20251008T100000Z
SUMMARY;LANGUAGE=de-de:Singletonne (Restmüll)
LOCATION:Forchheim - Krottental\, Forchheim
DTSTART;VALUE=DATE:20260714
END:VEVENT
BEGIN:VEVENT
UID:e28a477b-37cf-40b0-9279-8ba3a8e923c4
DTSTAMP:20260422T064718Z
LAST-MODIFIED:20251008T100000Z
CREATED:20251008T100000Z
SUMMARY;LANGUAGE=de-de:Singletonne (Restmüll)
LOCATION:Forchheim - Krottental\, Forchheim
DTSTART;VALUE=DATE:20260811
END:VEVENT
BEGIN:VEVENT
UID:b0fefc89-95e1-4f0d-983c-5fb55e9b4b62
DTSTAMP:20260422T064718Z
LAST-MODIFIED:20251008T100000Z
CREATED:20251008T100000Z
SUMMARY;LANGUAGE=de-de:Singletonne (Restmüll)
LOCATION:Forchheim - Krottental\, Forchheim
DTSTART;VALUE=DATE:20260908
END:VEVENT
BEGIN:VEVENT
UID:dcee45cd-8489-4d28-999b-bfdd1a030d9f
DTSTAMP:20260422T064718Z
LAST-MODIFIED:20251008T100000Z
CREATED:20251008T100000Z
SUMMARY;LANGUAGE=de-de:Singletonne (Restmüll)
LOCATION:Forchheim - Krottental\, Forchheim
DTSTART;VALUE=DATE:20261006
END:VEVENT
BEGIN:VEVENT
UID:23ebbe9c-24e3-4235-8f4a-0cd5c4fb2a07
DTSTAMP:20260422T064718Z
LAST-MODIFIED:20251008T100000Z
CREATED:20251008T100000Z
SUMMARY;LANGUAGE=de-de:Singletonne (Restmüll)
LOCATION:Forchheim - Krottental\, Forchheim
DTSTART;VALUE=DATE:20261103
END:VEVENT
BEGIN:VEVENT
UID:b1749253-9129-4dd5-bec7-3dddedd21683
DTSTAMP:20260422T064718Z
LAST-MODIFIED:20251008T100000Z
CREATED:20251008T100000Z
SUMMARY;LANGUAGE=de-de:Singletonne (Restmüll)
LOCATION:Forchheim - Krottental\, Forchheim
DTSTART;VALUE=DATE:20261201
END:VEVENT
BEGIN:VEVENT
UID:1faa7884-3d50-408f-8f16-1d51d14a62c6
DTSTAMP:20260422T064718Z
LAST-MODIFIED:20251008T100000Z
CREATED:20251008T100000Z
SUMMARY;LANGUAGE=de-de:Singletonne (Restmüll)
LOCATION:Forchheim - Krottental\, Forchheim
DTSTART;VALUE=DATE:20261229
END:VEVENT
BEGIN:VEVENT
UID:34ebf219-4a42-4dfe-896f-38525ce79f3c
DTSTAMP:20260422T064718Z
LAST-MODIFIED:20251008T100000Z
CREATED:20251008T100000Z
SUMMARY;LANGUAGE=de-de:Biotonne
LOCATION:Forchheim - Krottental\, Forchheim
DTSTART;VALUE=DATE:20260113
END:VEVENT
BEGIN:VEVENT
UID:06e8fc68-bbc9-4e6c-bb72-f57880a79825
DTSTAMP:20260422T064718Z
LAST-MODIFIED:20251008T100000Z
CREATED:20251008T100000Z
SUMMARY;LANGUAGE=de-de:Biotonne
LOCATION:Forchheim - Krottental\, Forchheim
DTSTART;VALUE=DATE:20260127
END:VEVENT
BEGIN:VEVENT
UID:f247f2f7-74b8-4253-a541-fc003bae7a00
DTSTAMP:20260422T064718Z
LAST-MODIFIED:20251008T100000Z
CREATED:20251008T100000Z
SUMMARY;LANGUAGE=de-de:Biotonne
LOCATION:Forchheim - Krottental\, Forchheim
DTSTART;VALUE=DATE:20260210
END:VEVENT
BEGIN:VEVENT
UID:c221bc17-891c-4dd6-b009-bcee569483ec
DTSTAMP:20260422T064718Z
LAST-MODIFIED:20251008T100000Z
CREATED:20251008T100000Z
SUMMARY;LANGUAGE=de-de:Biotonne
LOCATION:Forchheim - Krottental\, Forchheim
DTSTART;VALUE=DATE:20260224
END:VEVENT
BEGIN:VEVENT
UID:47092d0a-7dc4-4a62-8510-00d7d51a9dd1
DTSTAMP:20260422T064718Z
LAST-MODIFIED:20251008T100000Z
CREATED:20251008T100000Z
SUMMARY;LANGUAGE=de-de:Biotonne
LOCATION:Forchheim - Krottental\, Forchheim
DTSTART;VALUE=DATE:20260303
END:VEVENT
BEGIN:VEVENT
UID:59a5eb2d-882e-4bb7-b670-b8fc4894ee8b
DTSTAMP:20260422T064718Z
LAST-MODIFIED:20251008T100000Z
CREATED:20251008T100000Z
SUMMARY;LANGUAGE=de-de:Biotonne
LOCATION:Forchheim - Krottental\, Forchheim
DTSTART;VALUE=DATE:20260310
END:VEVENT
BEGIN:VEVENT
UID:4d58a455-826c-4974-ad86-b536897495e0
DTSTAMP:20260422T064718Z
LAST-MODIFIED:20251008T100000Z
CREATED:20251008T100000Z
SUMMARY;LANGUAGE=de-de:Biotonne
LOCATION:Forchheim - Krottental\, Forchheim
DTSTART;VALUE=DATE:20260317
END:VEVENT
BEGIN:VEVENT
UID:70692e99-62fc-49fc-aa4a-2d778a213d71
DTSTAMP:20260422T064718Z
LAST-MODIFIED:20251008T100000Z
CREATED:20251008T100000Z
SUMMARY;LANGUAGE=de-de:Biotonne
LOCATION:Forchheim - Krottental\, Forchheim
DTSTART;VALUE=DATE:20260324
END:VEVENT
BEGIN:VEVENT
UID:7170fdfc-04ac-4473-b505-2886b43c3407
DTSTAMP:20260422T064718Z
LAST-MODIFIED:20251008T100000Z
CREATED:20251008T100000Z
SUMMARY;LANGUAGE=de-de:Biotonne
LOCATION:Forchheim - Krottental\, Forchheim
DTSTART;VALUE=DATE:20260331
END:VEVENT
BEGIN:VEVENT
UID:400fb63a-ecd4-4f61-9090-9f9cff64127e
DTSTAMP:20260422T064718Z
LAST-MODIFIED:20251008T100000Z
CREATED:20251008T100000Z
SUMMARY;LANGUAGE=de-de:Biotonne
LOCATION:Forchheim - Krottental\, Forchheim
DTSTART;VALUE=DATE:20260408
END:VEVENT
BEGIN:VEVENT
UID:08d3595d-2eef-444d-ab2a-96b94f08d2aa
DTSTAMP:20260422T064718Z
LAST-MODIFIED:20251008T100000Z
CREATED:20251008T100000Z
SUMMARY;LANGUAGE=de-de:Biotonne
LOCATION:Forchheim - Krottental\, Forchheim
DTSTART;VALUE=DATE:20260414
END:VEVENT
BEGIN:VEVENT
UID:8982af09-a7f9-4175-8dd0-4e8f8d0fdb25
DTSTAMP:20260422T064718Z
LAST-MODIFIED:20251008T100000Z
CREATED:20251008T100000Z
SUMMARY;LANGUAGE=de-de:Biotonne
LOCATION:Forchheim - Krottental\, Forchheim
DTSTART;VALUE=DATE:20260421
END:VEVENT
BEGIN:VEVENT
UID:ca865342-6bbc-406f-8805-66d8f91f2e41
DTSTAMP:20260422T064718Z
LAST-MODIFIED:20251008T100000Z
CREATED:20251008T100000Z
SUMMARY;LANGUAGE=de-de:Biotonne
LOCATION:Forchheim - Krottental\, Forchheim
DTSTART;VALUE=DATE:20260428
END:VEVENT
BEGIN:VEVENT
UID:984fcf63-b26b-4985-94b0-00c7c1aab843
DTSTAMP:20260422T064718Z
LAST-MODIFIED:20251008T100000Z
CREATED:20251008T100000Z
SUMMARY;LANGUAGE=de-de:Biotonne
LOCATION:Forchheim - Krottental\, Forchheim
DTSTART;VALUE=DATE:20260505
END:VEVENT
BEGIN:VEVENT
UID:639ce521-2ba6-4a46-9d90-6504bdb097be
DTSTAMP:20260422T064718Z
LAST-MODIFIED:20251008T100000Z
CREATED:20251008T100000Z
SUMMARY;LANGUAGE=de-de:Biotonne
LOCATION:Forchheim - Krottental\, Forchheim
DTSTART;VALUE=DATE:20260511
END:VEVENT
BEGIN:VEVENT
UID:ee370818-fdaa-4c00-9f39-05646cec74a8
DTSTAMP:20260422T064718Z
LAST-MODIFIED:20251008T100000Z
CREATED:20251008T100000Z
SUMMARY;LANGUAGE=de-de:Biotonne
LOCATION:Forchheim - Krottental\, Forchheim
DTSTART;VALUE=DATE:20260519
END:VEVENT
BEGIN:VEVENT
UID:1faa9be1-b7b7-4323-963b-baf47ea31c4c
DTSTAMP:20260422T064718Z
LAST-MODIFIED:20251008T100000Z
CREATED:20251008T100000Z
SUMMARY;LANGUAGE=de-de:Biotonne
LOCATION:Forchheim - Krottental\, Forchheim
DTSTART;VALUE=DATE:20260527
END:VEVENT
BEGIN:VEVENT
UID:a5bc3095-1263-47b6-b0c1-decc5b93d5b9
DTSTAMP:20260422T064718Z
LAST-MODIFIED:20251008T100000Z
CREATED:20251008T100000Z
SUMMARY;LANGUAGE=de-de:Biotonne
LOCATION:Forchheim - Krottental\, Forchheim
DTSTART;VALUE=DATE:20260602
END:VEVENT
BEGIN:VEVENT
UID:df292070-0a64-430b-9706-b5e1dade3d93
DTSTAMP:20260422T064718Z
LAST-MODIFIED:20251008T100000Z
CREATED:20251008T100000Z
SUMMARY;LANGUAGE=de-de:Biotonne
LOCATION:Forchheim - Krottental\, Forchheim
DTSTART;VALUE=DATE:20260609
END:VEVENT
BEGIN:VEVENT
UID:769974f4-9982-4420-a2de-1635ab4e733d
DTSTAMP:20260422T064718Z
LAST-MODIFIED:20251008T100000Z
CREATED:20251008T100000Z
SUMMARY;LANGUAGE=de-de:Biotonne
LOCATION:Forchheim - Krottental\, Forchheim
DTSTART;VALUE=DATE:20260616
END:VEVENT
BEGIN:VEVENT
UID:5135af23-7faf-4451-a110-967de4a7a8f3
DTSTAMP:20260422T064718Z
LAST-MODIFIED:20251008T100000Z
CREATED:20251008T100000Z
SUMMARY;LANGUAGE=de-de:Biotonne
LOCATION:Forchheim - Krottental\, Forchheim
DTSTART;VALUE=DATE:20260623
END:VEVENT
BEGIN:VEVENT
UID:9d65d1ff-4936-4cdf-a38f-41bcde545673
DTSTAMP:20260422T064718Z
LAST-MODIFIED:20251008T100000Z
CREATED:20251008T100000Z
SUMMARY;LANGUAGE=de-de:Biotonne
LOCATION:Forchheim - Krottental\, Forchheim
DTSTART;VALUE=DATE:20260630
END:VEVENT
BEGIN:VEVENT
UID:24a5bb86-84c4-4852-ae5e-c77f5a422b84
DTSTAMP:20260422T064718Z
LAST-MODIFIED:20251008T100000Z
CREATED:20251008T100000Z
SUMMARY;LANGUAGE=de-de:Biotonne
LOCATION:Forchheim - Krottental\, Forchheim
DTSTART;VALUE=DATE:20260707
END:VEVENT
BEGIN:VEVENT
UID:ffd3b91a-b0a9-4a8d-b4a0-77c0d5210832
DTSTAMP:20260422T064718Z
LAST-MODIFIED:20251008T100000Z
CREATED:20251008T100000Z
SUMMARY;LANGUAGE=de-de:Biotonne
LOCATION:Forchheim - Krottental\, Forchheim
DTSTART;VALUE=DATE:20260714
END:VEVENT
BEGIN:VEVENT
UID:3e0705b3-e2e6-4138-a33f-f09dcb92d83d
DTSTAMP:20260422T064718Z
LAST-MODIFIED:20251008T100000Z
CREATED:20251008T100000Z
SUMMARY;LANGUAGE=de-de:Biotonne
LOCATION:Forchheim - Krottental\, Forchheim
DTSTART;VALUE=DATE:20260721
END:VEVENT
BEGIN:VEVENT
UID:f6536148-a0ce-4e0d-8484-5572e7468c47
DTSTAMP:20260422T064718Z
LAST-MODIFIED:20251008T100000Z
CREATED:20251008T100000Z
SUMMARY;LANGUAGE=de-de:Biotonne
LOCATION:Forchheim - Krottental\, Forchheim
DTSTART;VALUE=DATE:20260728
END:VEVENT
BEGIN:VEVENT
UID:c1465b27-bc13-4cec-b1b6-e9ca2f71af41
DTSTAMP:20260422T064718Z
LAST-MODIFIED:20251008T100000Z
CREATED:20251008T100000Z
SUMMARY;LANGUAGE=de-de:Biotonne
LOCATION:Forchheim - Krottental\, Forchheim
DTSTART;VALUE=DATE:20260804
END:VEVENT
BEGIN:VEVENT
UID:17093f8a-77b6-4012-99ba-d8678f5135c1
DTSTAMP:20260422T064718Z
LAST-MODIFIED:20251008T100000Z
CREATED:20251008T100000Z
SUMMARY;LANGUAGE=de-de:Biotonne
LOCATION:Forchheim - Krottental\, Forchheim
DTSTART;VALUE=DATE:20260811
END:VEVENT
BEGIN:VEVENT
UID:fefe676d-0996-4050-984b-d36af3d6e0e7
DTSTAMP:20260422T064718Z
LAST-MODIFIED:20251008T100000Z
CREATED:20251008T100000Z
SUMMARY;LANGUAGE=de-de:Biotonne
LOCATION:Forchheim - Krottental\, Forchheim
DTSTART;VALUE=DATE:20260818
END:VEVENT
BEGIN:VEVENT
UID:13d607db-f937-475c-b707-7c916c40b0f7
DTSTAMP:20260422T064718Z
LAST-MODIFIED:20251008T100000Z
CREATED:20251008T100000Z
SUMMARY;LANGUAGE=de-de:Biotonne
LOCATION:Forchheim - Krottental\, Forchheim
DTSTART;VALUE=DATE:20260825
END:VEVENT
BEGIN:VEVENT
UID:5e476fc5-d2c4-4e09-842c-844df6c0d016
DTSTAMP:20260422T064718Z
LAST-MODIFIED:20251008T100000Z
CREATED:20251008T100000Z
SUMMARY;LANGUAGE=de-de:Biotonne
LOCATION:Forchheim - Krottental\, Forchheim
DTSTART;VALUE=DATE:20260901
END:VEVENT
BEGIN:VEVENT
UID:e687f527-69f3-4ae4-8ba9-a66ec4579f49
DTSTAMP:20260422T064718Z
LAST-MODIFIED:20251008T100000Z
CREATED:20251008T100000Z
SUMMARY;LANGUAGE=de-de:Biotonne
LOCATION:Forchheim - Krottental\, Forchheim
DTSTART;VALUE=DATE:20260908
END:VEVENT
BEGIN:VEVENT
UID:893b49cb-d23c-45e0-a49d-bbbf429c270b
DTSTAMP:20260422T064718Z
LAST-MODIFIED:20251008T100000Z
CREATED:20251008T100000Z
SUMMARY;LANGUAGE=de-de:Biotonne
LOCATION:Forchheim - Krottental\, Forchheim
DTSTART;VALUE=DATE:20260915
END:VEVENT
BEGIN:VEVENT
UID:ddf9f10d-6227-430f-8004-ffb4f88657cd
DTSTAMP:20260422T064718Z
LAST-MODIFIED:20251008T100000Z
CREATED:20251008T100000Z
SUMMARY;LANGUAGE=de-de:Biotonne
LOCATION:Forchheim - Krottental\, Forchheim
DTSTART;VALUE=DATE:20260922
END:VEVENT
BEGIN:VEVENT
UID:354c2e8e-345f-470f-9aea-82b92de5319e
DTSTAMP:20260422T064718Z
LAST-MODIFIED:20251008T100000Z
CREATED:20251008T100000Z
SUMMARY;LANGUAGE=de-de:Biotonne
LOCATION:Forchheim - Krottental\, Forchheim
DTSTART;VALUE=DATE:20260929
END:VEVENT
BEGIN:VEVENT
UID:99e6e4ab-d9b3-4371-b04e-f153d24270e8
DTSTAMP:20260422T064718Z
LAST-MODIFIED:20251008T100000Z
CREATED:20251008T100000Z
SUMMARY;LANGUAGE=de-de:Biotonne
LOCATION:Forchheim - Krottental\, Forchheim
DTSTART;VALUE=DATE:20261006
END:VEVENT
BEGIN:VEVENT
UID:94e1c453-7f79-40b4-b585-c180a7852243
DTSTAMP:20260422T064718Z
LAST-MODIFIED:20251008T100000Z
CREATED:20251008T100000Z
SUMMARY;LANGUAGE=de-de:Biotonne
LOCATION:Forchheim - Krottental\, Forchheim
DTSTART;VALUE=DATE:20261013
END:VEVENT
BEGIN:VEVENT
UID:70ebcd29-1f47-418f-b95e-6368a49c1615
DTSTAMP:20260422T064718Z
LAST-MODIFIED:20251008T100000Z
CREATED:20251008T100000Z
SUMMARY;LANGUAGE=de-de:Biotonne
LOCATION:Forchheim - Krottental\, Forchheim
DTSTART;VALUE=DATE:20261020
END:VEVENT
BEGIN:VEVENT
UID:bf5967f8-6044-4984-a1ac-edd95fe8126c
DTSTAMP:20260422T064718Z
LAST-MODIFIED:20251008T100000Z
CREATED:20251008T100000Z
SUMMARY;LANGUAGE=de-de:Biotonne
LOCATION:Forchheim - Krottental\, Forchheim
DTSTART;VALUE=DATE:20261027
END:VEVENT
BEGIN:VEVENT
UID:8661866d-8e59-4085-9897-b8a5db284679
DTSTAMP:20260422T064718Z
LAST-MODIFIED:20251008T100000Z
CREATED:20251008T100000Z
SUMMARY;LANGUAGE=de-de:Biotonne
LOCATION:Forchheim - Krottental\, Forchheim
DTSTART;VALUE=DATE:20261103
END:VEVENT
BEGIN:VEVENT
UID:5c2e389e-2a63-4aa2-8f77-6092b8514ac9
DTSTAMP:20260422T064718Z
LAST-MODIFIED:20251008T100000Z
CREATED:20251008T100000Z
SUMMARY;LANGUAGE=de-de:Biotonne
LOCATION:Forchheim - Krottental\, Forchheim
DTSTART;VALUE=DATE:20261110
END:VEVENT
BEGIN:VEVENT
UID:9ef9c032-19f8-4282-8991-02cdda5ad251
DTSTAMP:20260422T064718Z
LAST-MODIFIED:20251008T100000Z
CREATED:20251008T100000Z
SUMMARY;LANGUAGE=de-de:Biotonne
LOCATION:Forchheim - Krottental\, Forchheim
DTSTART;VALUE=DATE:20261117
END:VEVENT
BEGIN:VEVENT
UID:24b56df8-4e28-440a-96c5-dfbf5ee22703
DTSTAMP:20260422T064718Z
LAST-MODIFIED:20251008T100000Z
CREATED:20251008T100000Z
SUMMARY;LANGUAGE=de-de:Biotonne
LOCATION:Forchheim - Krottental\, Forchheim
DTSTART;VALUE=DATE:20261124
END:VEVENT
BEGIN:VEVENT
UID:0a6402f6-a59b-4384-b813-91043e122bba
DTSTAMP:20260422T064718Z
LAST-MODIFIED:20251008T100000Z
CREATED:20251008T100000Z
SUMMARY;LANGUAGE=de-de:Biotonne
LOCATION:Forchheim - Krottental\, Forchheim
DTSTART;VALUE=DATE:20261201
END:VEVENT
BEGIN:VEVENT
UID:1196657b-7fcf-4062-ac23-3803a73d4aca
DTSTAMP:20260422T064718Z
LAST-MODIFIED:20251008T100000Z
CREATED:20251008T100000Z
SUMMARY;LANGUAGE=de-de:Biotonne
LOCATION:Forchheim - Krottental\, Forchheim
DTSTART;VALUE=DATE:20261215
END:VEVENT
BEGIN:VEVENT
UID:af47cec9-9942-4e34-b4c3-7b4f619afaf2
DTSTAMP:20260422T064718Z
LAST-MODIFIED:20251008T100000Z
CREATED:20251008T100000Z
SUMMARY;LANGUAGE=de-de:Biotonne
LOCATION:Forchheim - Krottental\, Forchheim
DTSTART;VALUE=DATE:20261228
END:VEVENT
BEGIN:VEVENT
UID:4a215066-09f4-4fa2-bab9-ecc7235507e2
DTSTAMP:20260422T064718Z
LAST-MODIFIED:20251008T100000Z
CREATED:20251008T100000Z
SUMMARY;LANGUAGE=de-de:Gelbe Tonne
LOCATION:Forchheim - Krottental\, Forchheim
DTSTART;VALUE=DATE:20260122
END:VEVENT
BEGIN:VEVENT
UID:64fb7b2c-3c50-48f8-a58d-d005f5b256b6
DTSTAMP:20260422T064718Z
LAST-MODIFIED:20251008T100000Z
CREATED:20251008T100000Z
SUMMARY;LANGUAGE=de-de:Gelbe Tonne
LOCATION:Forchheim - Krottental\, Forchheim
DTSTART;VALUE=DATE:20260219
END:VEVENT
BEGIN:VEVENT
UID:9272ba85-56ee-468b-9db3-f8f0c6abdf7a
DTSTAMP:20260422T064718Z
LAST-MODIFIED:20251008T100000Z
CREATED:20251008T100000Z
SUMMARY;LANGUAGE=de-de:Gelbe Tonne
LOCATION:Forchheim - Krottental\, Forchheim
DTSTART;VALUE=DATE:20260319
END:VEVENT
BEGIN:VEVENT
UID:fca18f91-9c06-4272-95ad-fbb35a6a3e56
DTSTAMP:20260422T064718Z
LAST-MODIFIED:20251008T100000Z
CREATED:20251008T100000Z
SUMMARY;LANGUAGE=de-de:Gelbe Tonne
LOCATION:Forchheim - Krottental\, Forchheim
DTSTART;VALUE=DATE:20260420
END:VEVENT
BEGIN:VEVENT
UID:0e61270e-5f15-446b-aeb3-4a110ee11f37
DTSTAMP:20260422T064718Z
LAST-MODIFIED:20251008T100000Z
CREATED:20251008T100000Z
SUMMARY;LANGUAGE=de-de:Gelbe Tonne
LOCATION:Forchheim - Krottental\, Forchheim
DTSTART;VALUE=DATE:20260520
END:VEVENT
BEGIN:VEVENT
UID:2c8f4874-2aac-48f6-9263-3ba9d1a078a0
DTSTAMP:20260422T064718Z
LAST-MODIFIED:20251008T100000Z
CREATED:20251008T100000Z
SUMMARY;LANGUAGE=de-de:Gelbe Tonne
LOCATION:Forchheim - Krottental\, Forchheim
DTSTART;VALUE=DATE:20260619
END:VEVENT
BEGIN:VEVENT
UID:d499cb10-8c94-4683-b3a6-dd81977b100e
DTSTAMP:20260422T064718Z
LAST-MODIFIED:20251008T100000Z
CREATED:20251008T100000Z
SUMMARY;LANGUAGE=de-de:Gelbe Tonne
LOCATION:Forchheim - Krottental\, Forchheim
DTSTART;VALUE=DATE:20260717
END:VEVENT
BEGIN:VEVENT
UID:641bb5fb-53a4-43fe-9c4c-d76e5d19b8ab
DTSTAMP:20260422T064718Z
LAST-MODIFIED:20251008T100000Z
CREATED:20251008T100000Z
SUMMARY;LANGUAGE=de-de:Gelbe Tonne
LOCATION:Forchheim - Krottental\, Forchheim
DTSTART;VALUE=DATE:20260814
END:VEVENT
BEGIN:VEVENT
UID:a2e1d206-50c4-4b2a-8996-9295dbf358b9
DTSTAMP:20260422T064718Z
LAST-MODIFIED:20251008T100000Z
CREATED:20251008T100000Z
SUMMARY;LANGUAGE=de-de:Gelbe Tonne
LOCATION:Forchheim - Krottental\, Forchheim
DTSTART;VALUE=DATE:20260911
END:VEVENT
BEGIN:VEVENT
UID:d883479c-03dc-4760-8bef-da5b2c799ae6
DTSTAMP:20260422T064718Z
LAST-MODIFIED:20251008T100000Z
CREATED:20251008T100000Z
SUMMARY;LANGUAGE=de-de:Gelbe Tonne
LOCATION:Forchheim - Krottental\, Forchheim
DTSTART;VALUE=DATE:20261009
END:VEVENT
BEGIN:VEVENT
UID:a005242d-e1d3-4fbe-899a-536f713a902f
DTSTAMP:20260422T064718Z
LAST-MODIFIED:20251008T100000Z
CREATED:20251008T100000Z
SUMMARY;LANGUAGE=de-de:Gelbe Tonne
LOCATION:Forchheim - Krottental\, Forchheim
DTSTART;VALUE=DATE:20261106
END:VEVENT
BEGIN:VEVENT
UID:9b685478-d643-492e-a02a-ee806d54bc45
DTSTAMP:20260422T064718Z
LAST-MODIFIED:20251008T100000Z
CREATED:20251008T100000Z
SUMMARY;LANGUAGE=de-de:Gelbe Tonne
LOCATION:Forchheim - Krottental\, Forchheim
DTSTART;VALUE=DATE:20261204
END:VEVENT
BEGIN:VEVENT
UID:4c062e7d-d03a-4002-be95-9c13e8bf7f6c
DTSTAMP:20260422T064718Z
LAST-MODIFIED:20251008T100000Z
CREATED:20251008T100000Z
SUMMARY;LANGUAGE=de-de:Papiertonne
LOCATION:Forchheim - Krottental\, Forchheim
DTSTART;VALUE=DATE:20260120
END:VEVENT
BEGIN:VEVENT
UID:d7d2e4f8-0d87-4da5-869e-1a003ca29260
DTSTAMP:20260422T064718Z
LAST-MODIFIED:20251008T100000Z
CREATED:20251008T100000Z
SUMMARY;LANGUAGE=de-de:Papiertonne
LOCATION:Forchheim - Krottental\, Forchheim
DTSTART;VALUE=DATE:20260212
END:VEVENT
BEGIN:VEVENT
UID:f614b91e-d4ab-4318-a4c2-67e765bf5f10
DTSTAMP:20260422T064718Z
LAST-MODIFIED:20251008T100000Z
CREATED:20251008T100000Z
SUMMARY;LANGUAGE=de-de:Papiertonne
LOCATION:Forchheim - Krottental\, Forchheim
DTSTART;VALUE=DATE:20260312
END:VEVENT
BEGIN:VEVENT
UID:a915e720-b9a1-450e-b0aa-779e98a6629a
DTSTAMP:20260422T064718Z
LAST-MODIFIED:20251008T100000Z
CREATED:20251008T100000Z
SUMMARY;LANGUAGE=de-de:Papiertonne
LOCATION:Forchheim - Krottental\, Forchheim
DTSTART;VALUE=DATE:20260409
END:VEVENT
BEGIN:VEVENT
UID:09ca173d-fdb0-4a70-831a-9ad7767a3dc3
DTSTAMP:20260422T064718Z
LAST-MODIFIED:20251008T100000Z
CREATED:20251008T100000Z
SUMMARY;LANGUAGE=de-de:Papiertonne
LOCATION:Forchheim - Krottental\, Forchheim
DTSTART;VALUE=DATE:20260507
END:VEVENT
BEGIN:VEVENT
UID:dd58c533-062b-4ef7-afdb-6eed8ce84acd
DTSTAMP:20260422T064718Z
LAST-MODIFIED:20251008T100000Z
CREATED:20251008T100000Z
SUMMARY;LANGUAGE=de-de:Papiertonne
LOCATION:Forchheim - Krottental\, Forchheim
DTSTART;VALUE=DATE:20260611
END:VEVENT
BEGIN:VEVENT
UID:c18f0e72-5298-4c4f-81e9-9521b6bc9851
DTSTAMP:20260422T064718Z
LAST-MODIFIED:20251008T100000Z
CREATED:20251008T100000Z
SUMMARY;LANGUAGE=de-de:Papiertonne
LOCATION:Forchheim - Krottental\, Forchheim
DTSTART;VALUE=DATE:20260708
END:VEVENT
BEGIN:VEVENT
UID:ec27dcfa-b310-4359-ae00-95a0674a8460
DTSTAMP:20260422T064718Z
LAST-MODIFIED:20251008T100000Z
CREATED:20251008T100000Z
SUMMARY;LANGUAGE=de-de:Papiertonne
LOCATION:Forchheim - Krottental\, Forchheim
DTSTART;VALUE=DATE:20260804
END:VEVENT
BEGIN:VEVENT
UID:30468057-aed6-41e4-8935-72013a69ab0a
DTSTAMP:20260422T064718Z
LAST-MODIFIED:20251008T100000Z
CREATED:20251008T100000Z
SUMMARY;LANGUAGE=de-de:Papiertonne
LOCATION:Forchheim - Krottental\, Forchheim
DTSTART;VALUE=DATE:20260901
END:VEVENT
BEGIN:VEVENT
UID:f4015637-b9c5-4636-a194-806c202393e2
DTSTAMP:20260422T064718Z
LAST-MODIFIED:20251008T100000Z
CREATED:20251008T100000Z
SUMMARY;LANGUAGE=de-de:Papiertonne
LOCATION:Forchheim - Krottental\, Forchheim
DTSTART;VALUE=DATE:20260924
END:VEVENT
BEGIN:VEVENT
UID:efefb52a-315e-4f12-ba40-a61f47a07547
DTSTAMP:20260422T064718Z
LAST-MODIFIED:20251008T100000Z
CREATED:20251008T100000Z
SUMMARY;LANGUAGE=de-de:Papiertonne
LOCATION:Forchheim - Krottental\, Forchheim
DTSTART;VALUE=DATE:20261022
END:VEVENT
BEGIN:VEVENT
UID:642b31ce-b2e1-43a4-8009-98fccf777151
DTSTAMP:20260422T064718Z
LAST-MODIFIED:20251008T100000Z
CREATED:20251008T100000Z
SUMMARY;LANGUAGE=de-de:Papiertonne
LOCATION:Forchheim - Krottental\, Forchheim
DTSTART;VALUE=DATE:20261118
END:VEVENT
BEGIN:VEVENT
UID:f392ee5e-78ba-4609-a390-d6cdf5465085
DTSTAMP:20260422T064718Z
LAST-MODIFIED:20251008T100000Z
CREATED:20251008T100000Z
SUMMARY;LANGUAGE=de-de:Papiertonne
LOCATION:Forchheim - Krottental\, Forchheim
DTSTART;VALUE=DATE:20261215
END:VEVENT
END:VCALENDAR
