BEGIN:VCALENDAR
VERSION:2.0
PRODID:Abfalltermine Forchheim
NAME:Abfalltermine für Gräfenberg - Kasberg\, Forchheim
DESCRIPTION:Abfalltermine für Gräfenberg - Kasberg\, Forchheim
LAST-MODIFIED:20251008T100000Z
BEGIN:VTIMEZONE
TZID:Europe/Berlin
LAST-MODIFIED:20260306T231828Z
TZURL:https://www.tzurl.org/zoneinfo-outlook/Europe/Berlin
X-LIC-LOCATION:Europe/Berlin
BEGIN:DAYLIGHT
TZNAME:CEST
TZOFFSETFROM:+0100
TZOFFSETTO:+0200
DTSTART:19700329T020000
RRULE:FREQ=YEARLY;BYDAY=-1SU;BYMONTH=3
END:DAYLIGHT
BEGIN:STANDARD
TZNAME:CET
TZOFFSETFROM:+0200
TZOFFSETTO:+0100
DTSTART:19701025T030000
RRULE:FREQ=YEARLY;BYDAY=-1SU;BYMONTH=10
END:STANDARD
END:VTIMEZONE
BEGIN:VEVENT
UID:04c35359-fd4f-4420-acbe-d0e949905d57
DTSTAMP:20260420T091827Z
LAST-MODIFIED:20251008T100000Z
CREATED:20251008T100000Z
SUMMARY;LANGUAGE=de-de:Restmülltonne
LOCATION:Gräfenberg - Kasberg\, Forchheim
DTSTART;VALUE=DATE:20260109
END:VEVENT
BEGIN:VEVENT
UID:a7baddbb-21ed-4700-89bd-761df90bf408
DTSTAMP:20260420T091827Z
LAST-MODIFIED:20251008T100000Z
CREATED:20251008T100000Z
SUMMARY;LANGUAGE=de-de:Restmülltonne
LOCATION:Gräfenberg - Kasberg\, Forchheim
DTSTART;VALUE=DATE:20260122
END:VEVENT
BEGIN:VEVENT
UID:4508c9c4-c66f-4612-bf6d-01d48ee03bf9
DTSTAMP:20260420T091827Z
LAST-MODIFIED:20251008T100000Z
CREATED:20251008T100000Z
SUMMARY;LANGUAGE=de-de:Restmülltonne
LOCATION:Gräfenberg - Kasberg\, Forchheim
DTSTART;VALUE=DATE:20260205
END:VEVENT
BEGIN:VEVENT
UID:96cdef47-efc7-4fba-b0f6-bca18d9053cc
DTSTAMP:20260420T091827Z
LAST-MODIFIED:20251008T100000Z
CREATED:20251008T100000Z
SUMMARY;LANGUAGE=de-de:Restmülltonne
LOCATION:Gräfenberg - Kasberg\, Forchheim
DTSTART;VALUE=DATE:20260219
END:VEVENT
BEGIN:VEVENT
UID:5795d88d-56ab-44b8-94dc-9439391602a6
DTSTAMP:20260420T091827Z
LAST-MODIFIED:20251008T100000Z
CREATED:20251008T100000Z
SUMMARY;LANGUAGE=de-de:Restmülltonne
LOCATION:Gräfenberg - Kasberg\, Forchheim
DTSTART;VALUE=DATE:20260305
END:VEVENT
BEGIN:VEVENT
UID:bef9fc8b-b84d-43c1-8442-c95387c123a3
DTSTAMP:20260420T091827Z
LAST-MODIFIED:20251008T100000Z
CREATED:20251008T100000Z
SUMMARY;LANGUAGE=de-de:Restmülltonne
LOCATION:Gräfenberg - Kasberg\, Forchheim
DTSTART;VALUE=DATE:20260319
END:VEVENT
BEGIN:VEVENT
UID:fac38a39-64b7-4651-938b-88fe61b2e6dd
DTSTAMP:20260420T091827Z
LAST-MODIFIED:20251008T100000Z
CREATED:20251008T100000Z
SUMMARY;LANGUAGE=de-de:Restmülltonne
LOCATION:Gräfenberg - Kasberg\, Forchheim
DTSTART;VALUE=DATE:20260402
END:VEVENT
BEGIN:VEVENT
UID:c72051ac-3852-4e77-881d-864d968a218f
DTSTAMP:20260420T091827Z
LAST-MODIFIED:20251008T100000Z
CREATED:20251008T100000Z
SUMMARY;LANGUAGE=de-de:Restmülltonne
LOCATION:Gräfenberg - Kasberg\, Forchheim
DTSTART;VALUE=DATE:20260416
END:VEVENT
BEGIN:VEVENT
UID:7cb5b2d7-b7e1-4a45-8152-052713bddd79
DTSTAMP:20260420T091827Z
LAST-MODIFIED:20251008T100000Z
CREATED:20251008T100000Z
SUMMARY;LANGUAGE=de-de:Restmülltonne
LOCATION:Gräfenberg - Kasberg\, Forchheim
DTSTART;VALUE=DATE:20260430
END:VEVENT
BEGIN:VEVENT
UID:77c16542-da83-4c2c-9620-a1193666f340
DTSTAMP:20260420T091827Z
LAST-MODIFIED:20251008T100000Z
CREATED:20251008T100000Z
SUMMARY;LANGUAGE=de-de:Restmülltonne
LOCATION:Gräfenberg - Kasberg\, Forchheim
DTSTART;VALUE=DATE:20260513
END:VEVENT
BEGIN:VEVENT
UID:d4d6d500-d257-451e-8d29-3f4b678bddc5
DTSTAMP:20260420T091827Z
LAST-MODIFIED:20251008T100000Z
CREATED:20251008T100000Z
SUMMARY;LANGUAGE=de-de:Restmülltonne
LOCATION:Gräfenberg - Kasberg\, Forchheim
DTSTART;VALUE=DATE:20260529
END:VEVENT
BEGIN:VEVENT
UID:c6d00a9e-1ed5-41e2-98ef-9b5b04ca4e8e
DTSTAMP:20260420T091827Z
LAST-MODIFIED:20251008T100000Z
CREATED:20251008T100000Z
SUMMARY;LANGUAGE=de-de:Restmülltonne
LOCATION:Gräfenberg - Kasberg\, Forchheim
DTSTART;VALUE=DATE:20260611
END:VEVENT
BEGIN:VEVENT
UID:5e785543-eae3-4f1b-bf67-5dea5df2e97a
DTSTAMP:20260420T091827Z
LAST-MODIFIED:20251008T100000Z
CREATED:20251008T100000Z
SUMMARY;LANGUAGE=de-de:Restmülltonne
LOCATION:Gräfenberg - Kasberg\, Forchheim
DTSTART;VALUE=DATE:20260625
END:VEVENT
BEGIN:VEVENT
UID:45d10bc0-b38c-46c8-b8bf-1d9b9b4bce27
DTSTAMP:20260420T091827Z
LAST-MODIFIED:20251008T100000Z
CREATED:20251008T100000Z
SUMMARY;LANGUAGE=de-de:Restmülltonne
LOCATION:Gräfenberg - Kasberg\, Forchheim
DTSTART;VALUE=DATE:20260709
END:VEVENT
BEGIN:VEVENT
UID:29ba35a9-aa1f-4619-9ade-e76039cbb3ba
DTSTAMP:20260420T091827Z
LAST-MODIFIED:20251008T100000Z
CREATED:20251008T100000Z
SUMMARY;LANGUAGE=de-de:Restmülltonne
LOCATION:Gräfenberg - Kasberg\, Forchheim
DTSTART;VALUE=DATE:20260723
END:VEVENT
BEGIN:VEVENT
UID:d34baae5-d3eb-4cbe-9b97-c5805b22b2ea
DTSTAMP:20260420T091827Z
LAST-MODIFIED:20251008T100000Z
CREATED:20251008T100000Z
SUMMARY;LANGUAGE=de-de:Restmülltonne
LOCATION:Gräfenberg - Kasberg\, Forchheim
DTSTART;VALUE=DATE:20260806
END:VEVENT
BEGIN:VEVENT
UID:12e1b6e4-a6b9-4598-9c1d-3cffcf42748b
DTSTAMP:20260420T091827Z
LAST-MODIFIED:20251008T100000Z
CREATED:20251008T100000Z
SUMMARY;LANGUAGE=de-de:Restmülltonne
LOCATION:Gräfenberg - Kasberg\, Forchheim
DTSTART;VALUE=DATE:20260820
END:VEVENT
BEGIN:VEVENT
UID:1a05c1c4-a922-445b-ba84-fc48fefb39ad
DTSTAMP:20260420T091827Z
LAST-MODIFIED:20251008T100000Z
CREATED:20251008T100000Z
SUMMARY;LANGUAGE=de-de:Restmülltonne
LOCATION:Gräfenberg - Kasberg\, Forchheim
DTSTART;VALUE=DATE:20260903
END:VEVENT
BEGIN:VEVENT
UID:153880a3-187a-4d85-ab03-2371437ce3ba
DTSTAMP:20260420T091827Z
LAST-MODIFIED:20251008T100000Z
CREATED:20251008T100000Z
SUMMARY;LANGUAGE=de-de:Restmülltonne
LOCATION:Gräfenberg - Kasberg\, Forchheim
DTSTART;VALUE=DATE:20260917
END:VEVENT
BEGIN:VEVENT
UID:9b4acb87-803a-4a34-9d1e-678ae780d45b
DTSTAMP:20260420T091827Z
LAST-MODIFIED:20251008T100000Z
CREATED:20251008T100000Z
SUMMARY;LANGUAGE=de-de:Restmülltonne
LOCATION:Gräfenberg - Kasberg\, Forchheim
DTSTART;VALUE=DATE:20261001
END:VEVENT
BEGIN:VEVENT
UID:551e6986-1aed-4fbe-bcea-54de3c698cd8
DTSTAMP:20260420T091827Z
LAST-MODIFIED:20251008T100000Z
CREATED:20251008T100000Z
SUMMARY;LANGUAGE=de-de:Restmülltonne
LOCATION:Gräfenberg - Kasberg\, Forchheim
DTSTART;VALUE=DATE:20261015
END:VEVENT
BEGIN:VEVENT
UID:46967810-21e6-4de5-bf7f-58e487dc136a
DTSTAMP:20260420T091827Z
LAST-MODIFIED:20251008T100000Z
CREATED:20251008T100000Z
SUMMARY;LANGUAGE=de-de:Restmülltonne
LOCATION:Gräfenberg - Kasberg\, Forchheim
DTSTART;VALUE=DATE:20261029
END:VEVENT
BEGIN:VEVENT
UID:5c4f31ee-d3ca-4a6f-ac08-c635c444e628
DTSTAMP:20260420T091827Z
LAST-MODIFIED:20251008T100000Z
CREATED:20251008T100000Z
SUMMARY;LANGUAGE=de-de:Restmülltonne
LOCATION:Gräfenberg - Kasberg\, Forchheim
DTSTART;VALUE=DATE:20261112
END:VEVENT
BEGIN:VEVENT
UID:c5685a3d-9902-4032-97a8-9f043d19fb01
DTSTAMP:20260420T091827Z
LAST-MODIFIED:20251008T100000Z
CREATED:20251008T100000Z
SUMMARY;LANGUAGE=de-de:Restmülltonne
LOCATION:Gräfenberg - Kasberg\, Forchheim
DTSTART;VALUE=DATE:20261126
END:VEVENT
BEGIN:VEVENT
UID:dd55c590-ea96-4825-b2eb-dfb47dd62d96
DTSTAMP:20260420T091827Z
LAST-MODIFIED:20251008T100000Z
CREATED:20251008T100000Z
SUMMARY;LANGUAGE=de-de:Restmülltonne
LOCATION:Gräfenberg - Kasberg\, Forchheim
DTSTART;VALUE=DATE:20261210
END:VEVENT
BEGIN:VEVENT
UID:856a4610-c572-412c-b4f7-518bb98756cf
DTSTAMP:20260420T091827Z
LAST-MODIFIED:20251008T100000Z
CREATED:20251008T100000Z
SUMMARY;LANGUAGE=de-de:Restmülltonne
LOCATION:Gräfenberg - Kasberg\, Forchheim
DTSTART;VALUE=DATE:20261223
END:VEVENT
BEGIN:VEVENT
UID:89ce6db3-08d2-431c-b336-9499ffc40b7c
DTSTAMP:20260420T091827Z
LAST-MODIFIED:20251008T100000Z
CREATED:20251008T100000Z
SUMMARY;LANGUAGE=de-de:Singletonne (Restmüll)
LOCATION:Gräfenberg - Kasberg\, Forchheim
DTSTART;VALUE=DATE:20260109
END:VEVENT
BEGIN:VEVENT
UID:e7a4218c-238a-40e0-86bd-9dc1f3a50288
DTSTAMP:20260420T091827Z
LAST-MODIFIED:20251008T100000Z
CREATED:20251008T100000Z
SUMMARY;LANGUAGE=de-de:Singletonne (Restmüll)
LOCATION:Gräfenberg - Kasberg\, Forchheim
DTSTART;VALUE=DATE:20260205
END:VEVENT
BEGIN:VEVENT
UID:72cdebd8-aee6-4a7e-a2f0-48fddcd2b809
DTSTAMP:20260420T091827Z
LAST-MODIFIED:20251008T100000Z
CREATED:20251008T100000Z
SUMMARY;LANGUAGE=de-de:Singletonne (Restmüll)
LOCATION:Gräfenberg - Kasberg\, Forchheim
DTSTART;VALUE=DATE:20260305
END:VEVENT
BEGIN:VEVENT
UID:4060217d-f2fb-4c62-b929-4990003f1480
DTSTAMP:20260420T091827Z
LAST-MODIFIED:20251008T100000Z
CREATED:20251008T100000Z
SUMMARY;LANGUAGE=de-de:Singletonne (Restmüll)
LOCATION:Gräfenberg - Kasberg\, Forchheim
DTSTART;VALUE=DATE:20260402
END:VEVENT
BEGIN:VEVENT
UID:a31a0461-4a85-4095-a359-02889dfa802d
DTSTAMP:20260420T091827Z
LAST-MODIFIED:20251008T100000Z
CREATED:20251008T100000Z
SUMMARY;LANGUAGE=de-de:Singletonne (Restmüll)
LOCATION:Gräfenberg - Kasberg\, Forchheim
DTSTART;VALUE=DATE:20260430
END:VEVENT
BEGIN:VEVENT
UID:417cb069-3d95-4abf-84b7-2393d19adbe3
DTSTAMP:20260420T091827Z
LAST-MODIFIED:20251008T100000Z
CREATED:20251008T100000Z
SUMMARY;LANGUAGE=de-de:Singletonne (Restmüll)
LOCATION:Gräfenberg - Kasberg\, Forchheim
DTSTART;VALUE=DATE:20260529
END:VEVENT
BEGIN:VEVENT
UID:0e946123-623c-4009-a8f9-a2dd9988aa2f
DTSTAMP:20260420T091827Z
LAST-MODIFIED:20251008T100000Z
CREATED:20251008T100000Z
SUMMARY;LANGUAGE=de-de:Singletonne (Restmüll)
LOCATION:Gräfenberg - Kasberg\, Forchheim
DTSTART;VALUE=DATE:20260625
END:VEVENT
BEGIN:VEVENT
UID:5ef7b2ab-bdd2-4266-a759-e7524fdeb992
DTSTAMP:20260420T091827Z
LAST-MODIFIED:20251008T100000Z
CREATED:20251008T100000Z
SUMMARY;LANGUAGE=de-de:Singletonne (Restmüll)
LOCATION:Gräfenberg - Kasberg\, Forchheim
DTSTART;VALUE=DATE:20260723
END:VEVENT
BEGIN:VEVENT
UID:fdf66681-139b-49e3-ab51-3c668f61e5c6
DTSTAMP:20260420T091827Z
LAST-MODIFIED:20251008T100000Z
CREATED:20251008T100000Z
SUMMARY;LANGUAGE=de-de:Singletonne (Restmüll)
LOCATION:Gräfenberg - Kasberg\, Forchheim
DTSTART;VALUE=DATE:20260820
END:VEVENT
BEGIN:VEVENT
UID:fbb16482-81dd-45a0-9db6-10772e7032ec
DTSTAMP:20260420T091827Z
LAST-MODIFIED:20251008T100000Z
CREATED:20251008T100000Z
SUMMARY;LANGUAGE=de-de:Singletonne (Restmüll)
LOCATION:Gräfenberg - Kasberg\, Forchheim
DTSTART;VALUE=DATE:20260917
END:VEVENT
BEGIN:VEVENT
UID:9c10d5d1-28d5-4792-a605-0624e655a2bf
DTSTAMP:20260420T091827Z
LAST-MODIFIED:20251008T100000Z
CREATED:20251008T100000Z
SUMMARY;LANGUAGE=de-de:Singletonne (Restmüll)
LOCATION:Gräfenberg - Kasberg\, Forchheim
DTSTART;VALUE=DATE:20261015
END:VEVENT
BEGIN:VEVENT
UID:188f3e4e-aad2-4ccf-9c80-5ef6a98311b5
DTSTAMP:20260420T091827Z
LAST-MODIFIED:20251008T100000Z
CREATED:20251008T100000Z
SUMMARY;LANGUAGE=de-de:Singletonne (Restmüll)
LOCATION:Gräfenberg - Kasberg\, Forchheim
DTSTART;VALUE=DATE:20261112
END:VEVENT
BEGIN:VEVENT
UID:46e65edc-bfdc-4b37-8198-686a7d3817ca
DTSTAMP:20260420T091827Z
LAST-MODIFIED:20251008T100000Z
CREATED:20251008T100000Z
SUMMARY;LANGUAGE=de-de:Singletonne (Restmüll)
LOCATION:Gräfenberg - Kasberg\, Forchheim
DTSTART;VALUE=DATE:20261210
END:VEVENT
BEGIN:VEVENT
UID:ba6f6b8f-8855-4a0e-8af9-ed2832f53722
DTSTAMP:20260420T091827Z
LAST-MODIFIED:20251008T100000Z
CREATED:20251008T100000Z
SUMMARY;LANGUAGE=de-de:Biotonne
LOCATION:Gräfenberg - Kasberg\, Forchheim
DTSTART;VALUE=DATE:20260108
END:VEVENT
BEGIN:VEVENT
UID:42900896-8633-4f1c-9616-e949cc58de17
DTSTAMP:20260420T091827Z
LAST-MODIFIED:20251008T100000Z
CREATED:20251008T100000Z
SUMMARY;LANGUAGE=de-de:Biotonne
LOCATION:Gräfenberg - Kasberg\, Forchheim
DTSTART;VALUE=DATE:20260121
END:VEVENT
BEGIN:VEVENT
UID:07335d0e-a488-4258-85a0-42d0ff6e09a0
DTSTAMP:20260420T091827Z
LAST-MODIFIED:20251008T100000Z
CREATED:20251008T100000Z
SUMMARY;LANGUAGE=de-de:Biotonne
LOCATION:Gräfenberg - Kasberg\, Forchheim
DTSTART;VALUE=DATE:20260204
END:VEVENT
BEGIN:VEVENT
UID:ebf6c22f-2deb-41c0-abe8-c2b6dab9c64e
DTSTAMP:20260420T091827Z
LAST-MODIFIED:20251008T100000Z
CREATED:20251008T100000Z
SUMMARY;LANGUAGE=de-de:Biotonne
LOCATION:Gräfenberg - Kasberg\, Forchheim
DTSTART;VALUE=DATE:20260218
END:VEVENT
BEGIN:VEVENT
UID:14ef5de2-7d39-43ea-8566-17bfb938c0bd
DTSTAMP:20260420T091827Z
LAST-MODIFIED:20251008T100000Z
CREATED:20251008T100000Z
SUMMARY;LANGUAGE=de-de:Biotonne
LOCATION:Gräfenberg - Kasberg\, Forchheim
DTSTART;VALUE=DATE:20260225
END:VEVENT
BEGIN:VEVENT
UID:95642da2-0cd6-4d35-884b-14b60a040302
DTSTAMP:20260420T091827Z
LAST-MODIFIED:20251008T100000Z
CREATED:20251008T100000Z
SUMMARY;LANGUAGE=de-de:Biotonne
LOCATION:Gräfenberg - Kasberg\, Forchheim
DTSTART;VALUE=DATE:20260304
END:VEVENT
BEGIN:VEVENT
UID:918feaff-0956-4252-9d91-dba6ddc2c5df
DTSTAMP:20260420T091827Z
LAST-MODIFIED:20251008T100000Z
CREATED:20251008T100000Z
SUMMARY;LANGUAGE=de-de:Biotonne
LOCATION:Gräfenberg - Kasberg\, Forchheim
DTSTART;VALUE=DATE:20260311
END:VEVENT
BEGIN:VEVENT
UID:b7bdbeaf-7b47-4c0f-b25c-e73b114fbefd
DTSTAMP:20260420T091827Z
LAST-MODIFIED:20251008T100000Z
CREATED:20251008T100000Z
SUMMARY;LANGUAGE=de-de:Biotonne
LOCATION:Gräfenberg - Kasberg\, Forchheim
DTSTART;VALUE=DATE:20260318
END:VEVENT
BEGIN:VEVENT
UID:9f190711-2356-4544-9460-2ee98537ff92
DTSTAMP:20260420T091827Z
LAST-MODIFIED:20251008T100000Z
CREATED:20251008T100000Z
SUMMARY;LANGUAGE=de-de:Biotonne
LOCATION:Gräfenberg - Kasberg\, Forchheim
DTSTART;VALUE=DATE:20260325
END:VEVENT
BEGIN:VEVENT
UID:cc0d84cf-a3b7-4f5f-8c8d-040198ef630d
DTSTAMP:20260420T091827Z
LAST-MODIFIED:20251008T100000Z
CREATED:20251008T100000Z
SUMMARY;LANGUAGE=de-de:Biotonne
LOCATION:Gräfenberg - Kasberg\, Forchheim
DTSTART;VALUE=DATE:20260401
END:VEVENT
BEGIN:VEVENT
UID:cef64677-7f53-42ef-8c26-99e07f865a37
DTSTAMP:20260420T091827Z
LAST-MODIFIED:20251008T100000Z
CREATED:20251008T100000Z
SUMMARY;LANGUAGE=de-de:Biotonne
LOCATION:Gräfenberg - Kasberg\, Forchheim
DTSTART;VALUE=DATE:20260409
END:VEVENT
BEGIN:VEVENT
UID:7a617fef-aab5-4213-ad6d-32406f4a3116
DTSTAMP:20260420T091827Z
LAST-MODIFIED:20251008T100000Z
CREATED:20251008T100000Z
SUMMARY;LANGUAGE=de-de:Biotonne
LOCATION:Gräfenberg - Kasberg\, Forchheim
DTSTART;VALUE=DATE:20260415
END:VEVENT
BEGIN:VEVENT
UID:d902ba3c-c52f-4904-829d-8b4e94d92401
DTSTAMP:20260420T091827Z
LAST-MODIFIED:20251008T100000Z
CREATED:20251008T100000Z
SUMMARY;LANGUAGE=de-de:Biotonne
LOCATION:Gräfenberg - Kasberg\, Forchheim
DTSTART;VALUE=DATE:20260422
END:VEVENT
BEGIN:VEVENT
UID:e650fb30-8366-40ed-ac21-b57756fd1f32
DTSTAMP:20260420T091827Z
LAST-MODIFIED:20251008T100000Z
CREATED:20251008T100000Z
SUMMARY;LANGUAGE=de-de:Biotonne
LOCATION:Gräfenberg - Kasberg\, Forchheim
DTSTART;VALUE=DATE:20260429
END:VEVENT
BEGIN:VEVENT
UID:9eb28c88-9c1f-4a5c-ac0e-94b9ea97f13d
DTSTAMP:20260420T091827Z
LAST-MODIFIED:20251008T100000Z
CREATED:20251008T100000Z
SUMMARY;LANGUAGE=de-de:Biotonne
LOCATION:Gräfenberg - Kasberg\, Forchheim
DTSTART;VALUE=DATE:20260506
END:VEVENT
BEGIN:VEVENT
UID:f369326a-0fe6-4091-9124-2015395c15cf
DTSTAMP:20260420T091827Z
LAST-MODIFIED:20251008T100000Z
CREATED:20251008T100000Z
SUMMARY;LANGUAGE=de-de:Biotonne
LOCATION:Gräfenberg - Kasberg\, Forchheim
DTSTART;VALUE=DATE:20260512
END:VEVENT
BEGIN:VEVENT
UID:c4656ab6-c057-47c8-b23f-0e751a227705
DTSTAMP:20260420T091827Z
LAST-MODIFIED:20251008T100000Z
CREATED:20251008T100000Z
SUMMARY;LANGUAGE=de-de:Biotonne
LOCATION:Gräfenberg - Kasberg\, Forchheim
DTSTART;VALUE=DATE:20260520
END:VEVENT
BEGIN:VEVENT
UID:28ff69fe-c1f9-4589-9e8e-100f86765c9a
DTSTAMP:20260420T091827Z
LAST-MODIFIED:20251008T100000Z
CREATED:20251008T100000Z
SUMMARY;LANGUAGE=de-de:Biotonne
LOCATION:Gräfenberg - Kasberg\, Forchheim
DTSTART;VALUE=DATE:20260528
END:VEVENT
BEGIN:VEVENT
UID:0a837dec-cd83-4eb6-b7c0-e86d44c02778
DTSTAMP:20260420T091827Z
LAST-MODIFIED:20251008T100000Z
CREATED:20251008T100000Z
SUMMARY;LANGUAGE=de-de:Biotonne
LOCATION:Gräfenberg - Kasberg\, Forchheim
DTSTART;VALUE=DATE:20260603
END:VEVENT
BEGIN:VEVENT
UID:26d3becb-831b-4536-a63b-7aa9d9f51f2b
DTSTAMP:20260420T091827Z
LAST-MODIFIED:20251008T100000Z
CREATED:20251008T100000Z
SUMMARY;LANGUAGE=de-de:Biotonne
LOCATION:Gräfenberg - Kasberg\, Forchheim
DTSTART;VALUE=DATE:20260610
END:VEVENT
BEGIN:VEVENT
UID:a1de381d-727b-471e-831a-70d9dcb12a3b
DTSTAMP:20260420T091827Z
LAST-MODIFIED:20251008T100000Z
CREATED:20251008T100000Z
SUMMARY;LANGUAGE=de-de:Biotonne
LOCATION:Gräfenberg - Kasberg\, Forchheim
DTSTART;VALUE=DATE:20260617
END:VEVENT
BEGIN:VEVENT
UID:5a86ecb9-ac6c-479b-9d47-2a97a35602d1
DTSTAMP:20260420T091827Z
LAST-MODIFIED:20251008T100000Z
CREATED:20251008T100000Z
SUMMARY;LANGUAGE=de-de:Biotonne
LOCATION:Gräfenberg - Kasberg\, Forchheim
DTSTART;VALUE=DATE:20260624
END:VEVENT
BEGIN:VEVENT
UID:139b415c-4173-4a62-b66c-bea33c4acaaa
DTSTAMP:20260420T091827Z
LAST-MODIFIED:20251008T100000Z
CREATED:20251008T100000Z
SUMMARY;LANGUAGE=de-de:Biotonne
LOCATION:Gräfenberg - Kasberg\, Forchheim
DTSTART;VALUE=DATE:20260702
END:VEVENT
BEGIN:VEVENT
UID:c5399e11-6da2-4933-b4ad-2d7519e4fa2a
DTSTAMP:20260420T091827Z
LAST-MODIFIED:20251008T100000Z
CREATED:20251008T100000Z
SUMMARY;LANGUAGE=de-de:Biotonne
LOCATION:Gräfenberg - Kasberg\, Forchheim
DTSTART;VALUE=DATE:20260708
END:VEVENT
BEGIN:VEVENT
UID:4b894afc-4921-47cb-84ef-77a70614149b
DTSTAMP:20260420T091827Z
LAST-MODIFIED:20251008T100000Z
CREATED:20251008T100000Z
SUMMARY;LANGUAGE=de-de:Biotonne
LOCATION:Gräfenberg - Kasberg\, Forchheim
DTSTART;VALUE=DATE:20260715
END:VEVENT
BEGIN:VEVENT
UID:d4bd809d-7a83-4936-98bf-4843e8253fe0
DTSTAMP:20260420T091827Z
LAST-MODIFIED:20251008T100000Z
CREATED:20251008T100000Z
SUMMARY;LANGUAGE=de-de:Biotonne
LOCATION:Gräfenberg - Kasberg\, Forchheim
DTSTART;VALUE=DATE:20260722
END:VEVENT
BEGIN:VEVENT
UID:b901e615-b1c5-4aa8-8d1c-bc92c5eab7f4
DTSTAMP:20260420T091827Z
LAST-MODIFIED:20251008T100000Z
CREATED:20251008T100000Z
SUMMARY;LANGUAGE=de-de:Biotonne
LOCATION:Gräfenberg - Kasberg\, Forchheim
DTSTART;VALUE=DATE:20260729
END:VEVENT
BEGIN:VEVENT
UID:5e5e2394-c53c-44d0-a313-3c780232bdc8
DTSTAMP:20260420T091827Z
LAST-MODIFIED:20251008T100000Z
CREATED:20251008T100000Z
SUMMARY;LANGUAGE=de-de:Biotonne
LOCATION:Gräfenberg - Kasberg\, Forchheim
DTSTART;VALUE=DATE:20260805
END:VEVENT
BEGIN:VEVENT
UID:32995bdf-4669-4cc7-9605-24443e5867b2
DTSTAMP:20260420T091827Z
LAST-MODIFIED:20251008T100000Z
CREATED:20251008T100000Z
SUMMARY;LANGUAGE=de-de:Biotonne
LOCATION:Gräfenberg - Kasberg\, Forchheim
DTSTART;VALUE=DATE:20260812
END:VEVENT
BEGIN:VEVENT
UID:7405920f-5345-4fd0-9cd6-2c84425c7ad8
DTSTAMP:20260420T091827Z
LAST-MODIFIED:20251008T100000Z
CREATED:20251008T100000Z
SUMMARY;LANGUAGE=de-de:Biotonne
LOCATION:Gräfenberg - Kasberg\, Forchheim
DTSTART;VALUE=DATE:20260819
END:VEVENT
BEGIN:VEVENT
UID:b851ca09-771c-418a-8105-c11a84e81aaa
DTSTAMP:20260420T091827Z
LAST-MODIFIED:20251008T100000Z
CREATED:20251008T100000Z
SUMMARY;LANGUAGE=de-de:Biotonne
LOCATION:Gräfenberg - Kasberg\, Forchheim
DTSTART;VALUE=DATE:20260826
END:VEVENT
BEGIN:VEVENT
UID:8f58f8c4-7ceb-4b1e-9e0c-ac02a07ee38e
DTSTAMP:20260420T091827Z
LAST-MODIFIED:20251008T100000Z
CREATED:20251008T100000Z
SUMMARY;LANGUAGE=de-de:Biotonne
LOCATION:Gräfenberg - Kasberg\, Forchheim
DTSTART;VALUE=DATE:20260902
END:VEVENT
BEGIN:VEVENT
UID:7904e96b-f48f-42ff-b613-5c8fae6a1f0c
DTSTAMP:20260420T091827Z
LAST-MODIFIED:20251008T100000Z
CREATED:20251008T100000Z
SUMMARY;LANGUAGE=de-de:Biotonne
LOCATION:Gräfenberg - Kasberg\, Forchheim
DTSTART;VALUE=DATE:20260909
END:VEVENT
BEGIN:VEVENT
UID:02e5b94a-7446-40e2-a2d9-546b19108b4e
DTSTAMP:20260420T091827Z
LAST-MODIFIED:20251008T100000Z
CREATED:20251008T100000Z
SUMMARY;LANGUAGE=de-de:Biotonne
LOCATION:Gräfenberg - Kasberg\, Forchheim
DTSTART;VALUE=DATE:20260916
END:VEVENT
BEGIN:VEVENT
UID:69d0e016-0a71-4bbf-be28-2af2cc92dbc5
DTSTAMP:20260420T091827Z
LAST-MODIFIED:20251008T100000Z
CREATED:20251008T100000Z
SUMMARY;LANGUAGE=de-de:Biotonne
LOCATION:Gräfenberg - Kasberg\, Forchheim
DTSTART;VALUE=DATE:20260923
END:VEVENT
BEGIN:VEVENT
UID:06e217f6-ff42-4614-8249-66d88d6a58b6
DTSTAMP:20260420T091827Z
LAST-MODIFIED:20251008T100000Z
CREATED:20251008T100000Z
SUMMARY;LANGUAGE=de-de:Biotonne
LOCATION:Gräfenberg - Kasberg\, Forchheim
DTSTART;VALUE=DATE:20260930
END:VEVENT
BEGIN:VEVENT
UID:453e6264-54eb-47f3-8140-9e482aa873f5
DTSTAMP:20260420T091827Z
LAST-MODIFIED:20251008T100000Z
CREATED:20251008T100000Z
SUMMARY;LANGUAGE=de-de:Biotonne
LOCATION:Gräfenberg - Kasberg\, Forchheim
DTSTART;VALUE=DATE:20261007
END:VEVENT
BEGIN:VEVENT
UID:965b85df-769d-4720-84ff-87eee5b3ac27
DTSTAMP:20260420T091827Z
LAST-MODIFIED:20251008T100000Z
CREATED:20251008T100000Z
SUMMARY;LANGUAGE=de-de:Biotonne
LOCATION:Gräfenberg - Kasberg\, Forchheim
DTSTART;VALUE=DATE:20261014
END:VEVENT
BEGIN:VEVENT
UID:4108cdd0-527f-4fe2-8c28-5d5aaabe007c
DTSTAMP:20260420T091827Z
LAST-MODIFIED:20251008T100000Z
CREATED:20251008T100000Z
SUMMARY;LANGUAGE=de-de:Biotonne
LOCATION:Gräfenberg - Kasberg\, Forchheim
DTSTART;VALUE=DATE:20261021
END:VEVENT
BEGIN:VEVENT
UID:8f2761c4-787c-44f7-b454-64dda81ec21a
DTSTAMP:20260420T091827Z
LAST-MODIFIED:20251008T100000Z
CREATED:20251008T100000Z
SUMMARY;LANGUAGE=de-de:Biotonne
LOCATION:Gräfenberg - Kasberg\, Forchheim
DTSTART;VALUE=DATE:20261028
END:VEVENT
BEGIN:VEVENT
UID:36d2d3ad-1d10-4bd1-9a98-b6b2c02bb74c
DTSTAMP:20260420T091827Z
LAST-MODIFIED:20251008T100000Z
CREATED:20251008T100000Z
SUMMARY;LANGUAGE=de-de:Biotonne
LOCATION:Gräfenberg - Kasberg\, Forchheim
DTSTART;VALUE=DATE:20261104
END:VEVENT
BEGIN:VEVENT
UID:574b908b-ee52-4436-9cf9-cf2e72e96a39
DTSTAMP:20260420T091827Z
LAST-MODIFIED:20251008T100000Z
CREATED:20251008T100000Z
SUMMARY;LANGUAGE=de-de:Biotonne
LOCATION:Gräfenberg - Kasberg\, Forchheim
DTSTART;VALUE=DATE:20261111
END:VEVENT
BEGIN:VEVENT
UID:9c857f50-1c15-41ed-8491-68cbcd19063c
DTSTAMP:20260420T091827Z
LAST-MODIFIED:20251008T100000Z
CREATED:20251008T100000Z
SUMMARY;LANGUAGE=de-de:Biotonne
LOCATION:Gräfenberg - Kasberg\, Forchheim
DTSTART;VALUE=DATE:20261118
END:VEVENT
BEGIN:VEVENT
UID:ab410b55-bdd8-46ec-9b10-26d8edc937b3
DTSTAMP:20260420T091827Z
LAST-MODIFIED:20251008T100000Z
CREATED:20251008T100000Z
SUMMARY;LANGUAGE=de-de:Biotonne
LOCATION:Gräfenberg - Kasberg\, Forchheim
DTSTART;VALUE=DATE:20261125
END:VEVENT
BEGIN:VEVENT
UID:d4048f72-ac69-409a-b9c7-1a2fa8def62f
DTSTAMP:20260420T091827Z
LAST-MODIFIED:20251008T100000Z
CREATED:20251008T100000Z
SUMMARY;LANGUAGE=de-de:Biotonne
LOCATION:Gräfenberg - Kasberg\, Forchheim
DTSTART;VALUE=DATE:20261209
END:VEVENT
BEGIN:VEVENT
UID:65ab142f-3e78-4d1e-81af-d6a023333ab3
DTSTAMP:20260420T091827Z
LAST-MODIFIED:20251008T100000Z
CREATED:20251008T100000Z
SUMMARY;LANGUAGE=de-de:Biotonne
LOCATION:Gräfenberg - Kasberg\, Forchheim
DTSTART;VALUE=DATE:20261222
END:VEVENT
BEGIN:VEVENT
UID:a6937335-ecb6-4301-977b-3f7d2e727481
DTSTAMP:20260420T091827Z
LAST-MODIFIED:20251008T100000Z
CREATED:20251008T100000Z
SUMMARY;LANGUAGE=de-de:Gelbe Tonne
LOCATION:Gräfenberg - Kasberg\, Forchheim
DTSTART;VALUE=DATE:20260126
END:VEVENT
BEGIN:VEVENT
UID:936b74d0-5436-41cd-bb7b-5f3a4faa727e
DTSTAMP:20260420T091827Z
LAST-MODIFIED:20251008T100000Z
CREATED:20251008T100000Z
SUMMARY;LANGUAGE=de-de:Gelbe Tonne
LOCATION:Gräfenberg - Kasberg\, Forchheim
DTSTART;VALUE=DATE:20260223
END:VEVENT
BEGIN:VEVENT
UID:b1b1f090-8335-4986-b1fa-a6eb74c8db5e
DTSTAMP:20260420T091827Z
LAST-MODIFIED:20251008T100000Z
CREATED:20251008T100000Z
SUMMARY;LANGUAGE=de-de:Gelbe Tonne
LOCATION:Gräfenberg - Kasberg\, Forchheim
DTSTART;VALUE=DATE:20260323
END:VEVENT
BEGIN:VEVENT
UID:d2a7d624-a5dc-413e-b4d3-d214801a20ea
DTSTAMP:20260420T091827Z
LAST-MODIFIED:20251008T100000Z
CREATED:20251008T100000Z
SUMMARY;LANGUAGE=de-de:Gelbe Tonne
LOCATION:Gräfenberg - Kasberg\, Forchheim
DTSTART;VALUE=DATE:20260422
END:VEVENT
BEGIN:VEVENT
UID:ca6fdcfd-cf1b-43a2-a437-3b1c8fe7bc76
DTSTAMP:20260420T091827Z
LAST-MODIFIED:20251008T100000Z
CREATED:20251008T100000Z
SUMMARY;LANGUAGE=de-de:Gelbe Tonne
LOCATION:Gräfenberg - Kasberg\, Forchheim
DTSTART;VALUE=DATE:20260522
END:VEVENT
BEGIN:VEVENT
UID:979548c9-8614-4699-8717-31866f10e6ef
DTSTAMP:20260420T091827Z
LAST-MODIFIED:20251008T100000Z
CREATED:20251008T100000Z
SUMMARY;LANGUAGE=de-de:Gelbe Tonne
LOCATION:Gräfenberg - Kasberg\, Forchheim
DTSTART;VALUE=DATE:20260623
END:VEVENT
BEGIN:VEVENT
UID:cdd41dbf-55c1-4615-8bd9-f61deb7a5147
DTSTAMP:20260420T091827Z
LAST-MODIFIED:20251008T100000Z
CREATED:20251008T100000Z
SUMMARY;LANGUAGE=de-de:Gelbe Tonne
LOCATION:Gräfenberg - Kasberg\, Forchheim
DTSTART;VALUE=DATE:20260721
END:VEVENT
BEGIN:VEVENT
UID:7af32fc5-689f-41f2-9ca7-3d7b65673ce5
DTSTAMP:20260420T091827Z
LAST-MODIFIED:20251008T100000Z
CREATED:20251008T100000Z
SUMMARY;LANGUAGE=de-de:Gelbe Tonne
LOCATION:Gräfenberg - Kasberg\, Forchheim
DTSTART;VALUE=DATE:20260818
END:VEVENT
BEGIN:VEVENT
UID:abe0322e-2175-4a5f-83c3-fab738321fcc
DTSTAMP:20260420T091827Z
LAST-MODIFIED:20251008T100000Z
CREATED:20251008T100000Z
SUMMARY;LANGUAGE=de-de:Gelbe Tonne
LOCATION:Gräfenberg - Kasberg\, Forchheim
DTSTART;VALUE=DATE:20260915
END:VEVENT
BEGIN:VEVENT
UID:f970cc00-7f9e-41c6-9c15-be677ed49e0b
DTSTAMP:20260420T091827Z
LAST-MODIFIED:20251008T100000Z
CREATED:20251008T100000Z
SUMMARY;LANGUAGE=de-de:Gelbe Tonne
LOCATION:Gräfenberg - Kasberg\, Forchheim
DTSTART;VALUE=DATE:20261013
END:VEVENT
BEGIN:VEVENT
UID:3edd4cfe-22c3-4943-8249-97a30329d915
DTSTAMP:20260420T091827Z
LAST-MODIFIED:20251008T100000Z
CREATED:20251008T100000Z
SUMMARY;LANGUAGE=de-de:Gelbe Tonne
LOCATION:Gräfenberg - Kasberg\, Forchheim
DTSTART;VALUE=DATE:20261110
END:VEVENT
BEGIN:VEVENT
UID:d0645a3a-69d9-4d79-8d3e-560540899349
DTSTAMP:20260420T091827Z
LAST-MODIFIED:20251008T100000Z
CREATED:20251008T100000Z
SUMMARY;LANGUAGE=de-de:Gelbe Tonne
LOCATION:Gräfenberg - Kasberg\, Forchheim
DTSTART;VALUE=DATE:20261208
END:VEVENT
BEGIN:VEVENT
UID:11a016c1-5c43-438d-8085-71ebcfa19b91
DTSTAMP:20260420T091827Z
LAST-MODIFIED:20251008T100000Z
CREATED:20251008T100000Z
SUMMARY;LANGUAGE=de-de:Papiertonne
LOCATION:Gräfenberg - Kasberg\, Forchheim
DTSTART;VALUE=DATE:20260129
END:VEVENT
BEGIN:VEVENT
UID:8798e43b-8927-46b8-a7c1-254ee18eee5a
DTSTAMP:20260420T091827Z
LAST-MODIFIED:20251008T100000Z
CREATED:20251008T100000Z
SUMMARY;LANGUAGE=de-de:Papiertonne
LOCATION:Gräfenberg - Kasberg\, Forchheim
DTSTART;VALUE=DATE:20260225
END:VEVENT
BEGIN:VEVENT
UID:e6ea64ac-3d23-4f6e-ba4f-e044d9178b75
DTSTAMP:20260420T091827Z
LAST-MODIFIED:20251008T100000Z
CREATED:20251008T100000Z
SUMMARY;LANGUAGE=de-de:Papiertonne
LOCATION:Gräfenberg - Kasberg\, Forchheim
DTSTART;VALUE=DATE:20260324
END:VEVENT
BEGIN:VEVENT
UID:38234950-b4cc-4736-bf4d-c8710b99d789
DTSTAMP:20260420T091827Z
LAST-MODIFIED:20251008T100000Z
CREATED:20251008T100000Z
SUMMARY;LANGUAGE=de-de:Papiertonne
LOCATION:Gräfenberg - Kasberg\, Forchheim
DTSTART;VALUE=DATE:20260422
END:VEVENT
BEGIN:VEVENT
UID:327f4ccb-c251-495d-9319-015d7add6ef6
DTSTAMP:20260420T091827Z
LAST-MODIFIED:20251008T100000Z
CREATED:20251008T100000Z
SUMMARY;LANGUAGE=de-de:Papiertonne
LOCATION:Gräfenberg - Kasberg\, Forchheim
DTSTART;VALUE=DATE:20260522
END:VEVENT
BEGIN:VEVENT
UID:85c836a4-6d5e-4e96-82bc-85629276677f
DTSTAMP:20260420T091827Z
LAST-MODIFIED:20251008T100000Z
CREATED:20251008T100000Z
SUMMARY;LANGUAGE=de-de:Papiertonne
LOCATION:Gräfenberg - Kasberg\, Forchheim
DTSTART;VALUE=DATE:20260623
END:VEVENT
BEGIN:VEVENT
UID:955989fd-4263-4b9b-8eb3-42566fa21119
DTSTAMP:20260420T091827Z
LAST-MODIFIED:20251008T100000Z
CREATED:20251008T100000Z
SUMMARY;LANGUAGE=de-de:Papiertonne
LOCATION:Gräfenberg - Kasberg\, Forchheim
DTSTART;VALUE=DATE:20260720
END:VEVENT
BEGIN:VEVENT
UID:6c80c8cd-2a64-43dd-92f2-76458a88755a
DTSTAMP:20260420T091827Z
LAST-MODIFIED:20251008T100000Z
CREATED:20251008T100000Z
SUMMARY;LANGUAGE=de-de:Papiertonne
LOCATION:Gräfenberg - Kasberg\, Forchheim
DTSTART;VALUE=DATE:20260814
END:VEVENT
BEGIN:VEVENT
UID:b09e2cdb-01cf-4659-82ec-d267b17b8c41
DTSTAMP:20260420T091827Z
LAST-MODIFIED:20251008T100000Z
CREATED:20251008T100000Z
SUMMARY;LANGUAGE=de-de:Papiertonne
LOCATION:Gräfenberg - Kasberg\, Forchheim
DTSTART;VALUE=DATE:20260910
END:VEVENT
BEGIN:VEVENT
UID:e71a0ad3-1057-4c22-9ffe-b2c88ae8aa52
DTSTAMP:20260420T091827Z
LAST-MODIFIED:20251008T100000Z
CREATED:20251008T100000Z
SUMMARY;LANGUAGE=de-de:Papiertonne
LOCATION:Gräfenberg - Kasberg\, Forchheim
DTSTART;VALUE=DATE:20261007
END:VEVENT
BEGIN:VEVENT
UID:26f66358-39d4-46f1-864b-6185752d2a64
DTSTAMP:20260420T091827Z
LAST-MODIFIED:20251008T100000Z
CREATED:20251008T100000Z
SUMMARY;LANGUAGE=de-de:Papiertonne
LOCATION:Gräfenberg - Kasberg\, Forchheim
DTSTART;VALUE=DATE:20261103
END:VEVENT
BEGIN:VEVENT
UID:09787394-33d1-4365-92c4-c7b9e973bb94
DTSTAMP:20260420T091827Z
LAST-MODIFIED:20251008T100000Z
CREATED:20251008T100000Z
SUMMARY;LANGUAGE=de-de:Papiertonne
LOCATION:Gräfenberg - Kasberg\, Forchheim
DTSTART;VALUE=DATE:20261130
END:VEVENT
BEGIN:VEVENT
UID:206e1969-47db-4fec-9c8c-54aa020605cc
DTSTAMP:20260420T091827Z
LAST-MODIFIED:20251008T100000Z
CREATED:20251008T100000Z
SUMMARY;LANGUAGE=de-de:Papiertonne
LOCATION:Gräfenberg - Kasberg\, Forchheim
DTSTART;VALUE=DATE:20261229
END:VEVENT
END:VCALENDAR
