BEGIN:VCALENDAR
VERSION:2.0
PRODID:Abfalltermine Forchheim
NAME:Abfalltermine für Igensdorf - Weidenbühl\, Forchheim
DESCRIPTION:Abfalltermine für Igensdorf - Weidenbühl\, Forchheim
LAST-MODIFIED:20251008T100000Z
BEGIN:VTIMEZONE
TZID:Europe/Berlin
LAST-MODIFIED:20260306T231828Z
TZURL:https://www.tzurl.org/zoneinfo-outlook/Europe/Berlin
X-LIC-LOCATION:Europe/Berlin
BEGIN:DAYLIGHT
TZNAME:CEST
TZOFFSETFROM:+0100
TZOFFSETTO:+0200
DTSTART:19700329T020000
RRULE:FREQ=YEARLY;BYDAY=-1SU;BYMONTH=3
END:DAYLIGHT
BEGIN:STANDARD
TZNAME:CET
TZOFFSETFROM:+0200
TZOFFSETTO:+0100
DTSTART:19701025T030000
RRULE:FREQ=YEARLY;BYDAY=-1SU;BYMONTH=10
END:STANDARD
END:VTIMEZONE
BEGIN:VEVENT
UID:6ce26cd8-d9b9-488b-89c0-39c4348452e1
DTSTAMP:20260425T001525Z
LAST-MODIFIED:20251008T100000Z
CREATED:20251008T100000Z
SUMMARY;LANGUAGE=de-de:Restmülltonne
LOCATION:Igensdorf - Weidenbühl\, Forchheim
DTSTART;VALUE=DATE:20260109
END:VEVENT
BEGIN:VEVENT
UID:f8523762-04af-41c6-9ba2-d0ef8804516f
DTSTAMP:20260425T001525Z
LAST-MODIFIED:20251008T100000Z
CREATED:20251008T100000Z
SUMMARY;LANGUAGE=de-de:Restmülltonne
LOCATION:Igensdorf - Weidenbühl\, Forchheim
DTSTART;VALUE=DATE:20260122
END:VEVENT
BEGIN:VEVENT
UID:ac78ebd7-aa46-4b17-871c-b9ce8660612f
DTSTAMP:20260425T001525Z
LAST-MODIFIED:20251008T100000Z
CREATED:20251008T100000Z
SUMMARY;LANGUAGE=de-de:Restmülltonne
LOCATION:Igensdorf - Weidenbühl\, Forchheim
DTSTART;VALUE=DATE:20260205
END:VEVENT
BEGIN:VEVENT
UID:103f9831-0444-43cb-a39b-3f5b61411f99
DTSTAMP:20260425T001525Z
LAST-MODIFIED:20251008T100000Z
CREATED:20251008T100000Z
SUMMARY;LANGUAGE=de-de:Restmülltonne
LOCATION:Igensdorf - Weidenbühl\, Forchheim
DTSTART;VALUE=DATE:20260219
END:VEVENT
BEGIN:VEVENT
UID:7fbd2301-fa06-42cb-9d65-8abcf575ee54
DTSTAMP:20260425T001525Z
LAST-MODIFIED:20251008T100000Z
CREATED:20251008T100000Z
SUMMARY;LANGUAGE=de-de:Restmülltonne
LOCATION:Igensdorf - Weidenbühl\, Forchheim
DTSTART;VALUE=DATE:20260305
END:VEVENT
BEGIN:VEVENT
UID:92347728-5f32-47af-a4a9-52b156284843
DTSTAMP:20260425T001525Z
LAST-MODIFIED:20251008T100000Z
CREATED:20251008T100000Z
SUMMARY;LANGUAGE=de-de:Restmülltonne
LOCATION:Igensdorf - Weidenbühl\, Forchheim
DTSTART;VALUE=DATE:20260319
END:VEVENT
BEGIN:VEVENT
UID:ef7c7d39-1f4b-471c-ba0a-1072a9c9e7de
DTSTAMP:20260425T001525Z
LAST-MODIFIED:20251008T100000Z
CREATED:20251008T100000Z
SUMMARY;LANGUAGE=de-de:Restmülltonne
LOCATION:Igensdorf - Weidenbühl\, Forchheim
DTSTART;VALUE=DATE:20260402
END:VEVENT
BEGIN:VEVENT
UID:9765b7d6-4eb8-45a2-bb74-8e831c4ce194
DTSTAMP:20260425T001525Z
LAST-MODIFIED:20251008T100000Z
CREATED:20251008T100000Z
SUMMARY;LANGUAGE=de-de:Restmülltonne
LOCATION:Igensdorf - Weidenbühl\, Forchheim
DTSTART;VALUE=DATE:20260416
END:VEVENT
BEGIN:VEVENT
UID:90f02201-eb1b-4c9f-bfc8-8ccf67f2adfe
DTSTAMP:20260425T001525Z
LAST-MODIFIED:20251008T100000Z
CREATED:20251008T100000Z
SUMMARY;LANGUAGE=de-de:Restmülltonne
LOCATION:Igensdorf - Weidenbühl\, Forchheim
DTSTART;VALUE=DATE:20260430
END:VEVENT
BEGIN:VEVENT
UID:d8edcb9a-6e91-4e25-99be-fdaa4e5018ac
DTSTAMP:20260425T001525Z
LAST-MODIFIED:20251008T100000Z
CREATED:20251008T100000Z
SUMMARY;LANGUAGE=de-de:Restmülltonne
LOCATION:Igensdorf - Weidenbühl\, Forchheim
DTSTART;VALUE=DATE:20260513
END:VEVENT
BEGIN:VEVENT
UID:608871c5-7bc3-48b3-9492-90b91ca0dce4
DTSTAMP:20260425T001525Z
LAST-MODIFIED:20251008T100000Z
CREATED:20251008T100000Z
SUMMARY;LANGUAGE=de-de:Restmülltonne
LOCATION:Igensdorf - Weidenbühl\, Forchheim
DTSTART;VALUE=DATE:20260529
END:VEVENT
BEGIN:VEVENT
UID:8b586a11-04c9-4204-8279-990532f6b434
DTSTAMP:20260425T001525Z
LAST-MODIFIED:20251008T100000Z
CREATED:20251008T100000Z
SUMMARY;LANGUAGE=de-de:Restmülltonne
LOCATION:Igensdorf - Weidenbühl\, Forchheim
DTSTART;VALUE=DATE:20260611
END:VEVENT
BEGIN:VEVENT
UID:a1c34b25-db8f-4a91-ab9e-8506aced7189
DTSTAMP:20260425T001525Z
LAST-MODIFIED:20251008T100000Z
CREATED:20251008T100000Z
SUMMARY;LANGUAGE=de-de:Restmülltonne
LOCATION:Igensdorf - Weidenbühl\, Forchheim
DTSTART;VALUE=DATE:20260625
END:VEVENT
BEGIN:VEVENT
UID:8fb7aebe-bc21-4266-8757-5d037b66133e
DTSTAMP:20260425T001525Z
LAST-MODIFIED:20251008T100000Z
CREATED:20251008T100000Z
SUMMARY;LANGUAGE=de-de:Restmülltonne
LOCATION:Igensdorf - Weidenbühl\, Forchheim
DTSTART;VALUE=DATE:20260709
END:VEVENT
BEGIN:VEVENT
UID:d5639b41-5999-4f16-adae-74ed12f8e4f1
DTSTAMP:20260425T001525Z
LAST-MODIFIED:20251008T100000Z
CREATED:20251008T100000Z
SUMMARY;LANGUAGE=de-de:Restmülltonne
LOCATION:Igensdorf - Weidenbühl\, Forchheim
DTSTART;VALUE=DATE:20260723
END:VEVENT
BEGIN:VEVENT
UID:59e2cb8f-c100-411b-bc05-b0cd6f80d90a
DTSTAMP:20260425T001525Z
LAST-MODIFIED:20251008T100000Z
CREATED:20251008T100000Z
SUMMARY;LANGUAGE=de-de:Restmülltonne
LOCATION:Igensdorf - Weidenbühl\, Forchheim
DTSTART;VALUE=DATE:20260806
END:VEVENT
BEGIN:VEVENT
UID:0e3a9de5-0c7d-4dd0-b71e-4c8215165949
DTSTAMP:20260425T001525Z
LAST-MODIFIED:20251008T100000Z
CREATED:20251008T100000Z
SUMMARY;LANGUAGE=de-de:Restmülltonne
LOCATION:Igensdorf - Weidenbühl\, Forchheim
DTSTART;VALUE=DATE:20260820
END:VEVENT
BEGIN:VEVENT
UID:f88b74ca-a01f-4eaf-8e28-8601d9bc265a
DTSTAMP:20260425T001525Z
LAST-MODIFIED:20251008T100000Z
CREATED:20251008T100000Z
SUMMARY;LANGUAGE=de-de:Restmülltonne
LOCATION:Igensdorf - Weidenbühl\, Forchheim
DTSTART;VALUE=DATE:20260903
END:VEVENT
BEGIN:VEVENT
UID:9c93f919-d6f0-4b21-b388-703b3b3f781d
DTSTAMP:20260425T001525Z
LAST-MODIFIED:20251008T100000Z
CREATED:20251008T100000Z
SUMMARY;LANGUAGE=de-de:Restmülltonne
LOCATION:Igensdorf - Weidenbühl\, Forchheim
DTSTART;VALUE=DATE:20260917
END:VEVENT
BEGIN:VEVENT
UID:07c68e27-fc3e-46c0-b796-165f2a6a8370
DTSTAMP:20260425T001525Z
LAST-MODIFIED:20251008T100000Z
CREATED:20251008T100000Z
SUMMARY;LANGUAGE=de-de:Restmülltonne
LOCATION:Igensdorf - Weidenbühl\, Forchheim
DTSTART;VALUE=DATE:20261001
END:VEVENT
BEGIN:VEVENT
UID:e38cbd12-24b7-43af-8046-041dfd80eb66
DTSTAMP:20260425T001525Z
LAST-MODIFIED:20251008T100000Z
CREATED:20251008T100000Z
SUMMARY;LANGUAGE=de-de:Restmülltonne
LOCATION:Igensdorf - Weidenbühl\, Forchheim
DTSTART;VALUE=DATE:20261015
END:VEVENT
BEGIN:VEVENT
UID:c5476d73-fe44-494b-9eb7-71d490bff8a3
DTSTAMP:20260425T001525Z
LAST-MODIFIED:20251008T100000Z
CREATED:20251008T100000Z
SUMMARY;LANGUAGE=de-de:Restmülltonne
LOCATION:Igensdorf - Weidenbühl\, Forchheim
DTSTART;VALUE=DATE:20261029
END:VEVENT
BEGIN:VEVENT
UID:bae3acb5-d942-4667-9e12-0be5b26f6c06
DTSTAMP:20260425T001525Z
LAST-MODIFIED:20251008T100000Z
CREATED:20251008T100000Z
SUMMARY;LANGUAGE=de-de:Restmülltonne
LOCATION:Igensdorf - Weidenbühl\, Forchheim
DTSTART;VALUE=DATE:20261112
END:VEVENT
BEGIN:VEVENT
UID:280d0f32-0b2f-486f-89ce-94f5a4b440b1
DTSTAMP:20260425T001525Z
LAST-MODIFIED:20251008T100000Z
CREATED:20251008T100000Z
SUMMARY;LANGUAGE=de-de:Restmülltonne
LOCATION:Igensdorf - Weidenbühl\, Forchheim
DTSTART;VALUE=DATE:20261126
END:VEVENT
BEGIN:VEVENT
UID:a1732b42-44f2-4201-818f-df6f2f0f7fca
DTSTAMP:20260425T001525Z
LAST-MODIFIED:20251008T100000Z
CREATED:20251008T100000Z
SUMMARY;LANGUAGE=de-de:Restmülltonne
LOCATION:Igensdorf - Weidenbühl\, Forchheim
DTSTART;VALUE=DATE:20261210
END:VEVENT
BEGIN:VEVENT
UID:c38dc177-1638-499a-b021-32f95136c415
DTSTAMP:20260425T001525Z
LAST-MODIFIED:20251008T100000Z
CREATED:20251008T100000Z
SUMMARY;LANGUAGE=de-de:Restmülltonne
LOCATION:Igensdorf - Weidenbühl\, Forchheim
DTSTART;VALUE=DATE:20261223
END:VEVENT
BEGIN:VEVENT
UID:f8e017f1-c469-4e16-bbe5-ce92a02af20f
DTSTAMP:20260425T001525Z
LAST-MODIFIED:20251008T100000Z
CREATED:20251008T100000Z
SUMMARY;LANGUAGE=de-de:Singletonne (Restmüll)
LOCATION:Igensdorf - Weidenbühl\, Forchheim
DTSTART;VALUE=DATE:20260109
END:VEVENT
BEGIN:VEVENT
UID:9fee7a53-dfde-4a57-97ee-30b545f84940
DTSTAMP:20260425T001525Z
LAST-MODIFIED:20251008T100000Z
CREATED:20251008T100000Z
SUMMARY;LANGUAGE=de-de:Singletonne (Restmüll)
LOCATION:Igensdorf - Weidenbühl\, Forchheim
DTSTART;VALUE=DATE:20260205
END:VEVENT
BEGIN:VEVENT
UID:2e5d864e-0611-4625-b92f-b504ad93f4e9
DTSTAMP:20260425T001525Z
LAST-MODIFIED:20251008T100000Z
CREATED:20251008T100000Z
SUMMARY;LANGUAGE=de-de:Singletonne (Restmüll)
LOCATION:Igensdorf - Weidenbühl\, Forchheim
DTSTART;VALUE=DATE:20260305
END:VEVENT
BEGIN:VEVENT
UID:07f3ba45-4022-4bab-8f79-926927ddad9f
DTSTAMP:20260425T001525Z
LAST-MODIFIED:20251008T100000Z
CREATED:20251008T100000Z
SUMMARY;LANGUAGE=de-de:Singletonne (Restmüll)
LOCATION:Igensdorf - Weidenbühl\, Forchheim
DTSTART;VALUE=DATE:20260402
END:VEVENT
BEGIN:VEVENT
UID:7ec70153-33d7-44d0-ab3e-483611e672e1
DTSTAMP:20260425T001525Z
LAST-MODIFIED:20251008T100000Z
CREATED:20251008T100000Z
SUMMARY;LANGUAGE=de-de:Singletonne (Restmüll)
LOCATION:Igensdorf - Weidenbühl\, Forchheim
DTSTART;VALUE=DATE:20260430
END:VEVENT
BEGIN:VEVENT
UID:7e477a87-7ffc-49c3-a69d-f62cc6a556da
DTSTAMP:20260425T001525Z
LAST-MODIFIED:20251008T100000Z
CREATED:20251008T100000Z
SUMMARY;LANGUAGE=de-de:Singletonne (Restmüll)
LOCATION:Igensdorf - Weidenbühl\, Forchheim
DTSTART;VALUE=DATE:20260529
END:VEVENT
BEGIN:VEVENT
UID:12b69f82-2f4d-4cbe-a242-845dac3ebd5a
DTSTAMP:20260425T001525Z
LAST-MODIFIED:20251008T100000Z
CREATED:20251008T100000Z
SUMMARY;LANGUAGE=de-de:Singletonne (Restmüll)
LOCATION:Igensdorf - Weidenbühl\, Forchheim
DTSTART;VALUE=DATE:20260625
END:VEVENT
BEGIN:VEVENT
UID:918106da-776c-40df-a1d3-5aceccd3c2aa
DTSTAMP:20260425T001525Z
LAST-MODIFIED:20251008T100000Z
CREATED:20251008T100000Z
SUMMARY;LANGUAGE=de-de:Singletonne (Restmüll)
LOCATION:Igensdorf - Weidenbühl\, Forchheim
DTSTART;VALUE=DATE:20260723
END:VEVENT
BEGIN:VEVENT
UID:e94649e1-d755-4d18-a209-29aeaf899181
DTSTAMP:20260425T001525Z
LAST-MODIFIED:20251008T100000Z
CREATED:20251008T100000Z
SUMMARY;LANGUAGE=de-de:Singletonne (Restmüll)
LOCATION:Igensdorf - Weidenbühl\, Forchheim
DTSTART;VALUE=DATE:20260820
END:VEVENT
BEGIN:VEVENT
UID:26dfa006-ef32-40e9-920f-5b5684a7b030
DTSTAMP:20260425T001525Z
LAST-MODIFIED:20251008T100000Z
CREATED:20251008T100000Z
SUMMARY;LANGUAGE=de-de:Singletonne (Restmüll)
LOCATION:Igensdorf - Weidenbühl\, Forchheim
DTSTART;VALUE=DATE:20260917
END:VEVENT
BEGIN:VEVENT
UID:141b012f-ecf3-4aef-a5d2-fe0a1a3f43eb
DTSTAMP:20260425T001525Z
LAST-MODIFIED:20251008T100000Z
CREATED:20251008T100000Z
SUMMARY;LANGUAGE=de-de:Singletonne (Restmüll)
LOCATION:Igensdorf - Weidenbühl\, Forchheim
DTSTART;VALUE=DATE:20261015
END:VEVENT
BEGIN:VEVENT
UID:9baf1135-09f8-4fce-9d35-69afff83bcaf
DTSTAMP:20260425T001525Z
LAST-MODIFIED:20251008T100000Z
CREATED:20251008T100000Z
SUMMARY;LANGUAGE=de-de:Singletonne (Restmüll)
LOCATION:Igensdorf - Weidenbühl\, Forchheim
DTSTART;VALUE=DATE:20261112
END:VEVENT
BEGIN:VEVENT
UID:3377e538-c20e-4c9a-9568-29b7ed08c010
DTSTAMP:20260425T001525Z
LAST-MODIFIED:20251008T100000Z
CREATED:20251008T100000Z
SUMMARY;LANGUAGE=de-de:Singletonne (Restmüll)
LOCATION:Igensdorf - Weidenbühl\, Forchheim
DTSTART;VALUE=DATE:20261210
END:VEVENT
BEGIN:VEVENT
UID:be7a9993-f56d-47b8-ac9b-daf786213c81
DTSTAMP:20260425T001525Z
LAST-MODIFIED:20251008T100000Z
CREATED:20251008T100000Z
SUMMARY;LANGUAGE=de-de:Biotonne
LOCATION:Igensdorf - Weidenbühl\, Forchheim
DTSTART;VALUE=DATE:20260109
END:VEVENT
BEGIN:VEVENT
UID:1481f666-3eab-4398-9606-9781e9272d60
DTSTAMP:20260425T001525Z
LAST-MODIFIED:20251008T100000Z
CREATED:20251008T100000Z
SUMMARY;LANGUAGE=de-de:Biotonne
LOCATION:Igensdorf - Weidenbühl\, Forchheim
DTSTART;VALUE=DATE:20260122
END:VEVENT
BEGIN:VEVENT
UID:b976ef0e-430e-474c-8b41-8666c1a31be4
DTSTAMP:20260425T001525Z
LAST-MODIFIED:20251008T100000Z
CREATED:20251008T100000Z
SUMMARY;LANGUAGE=de-de:Biotonne
LOCATION:Igensdorf - Weidenbühl\, Forchheim
DTSTART;VALUE=DATE:20260205
END:VEVENT
BEGIN:VEVENT
UID:18ec5065-a5db-420a-b00d-798bdb2aa90b
DTSTAMP:20260425T001525Z
LAST-MODIFIED:20251008T100000Z
CREATED:20251008T100000Z
SUMMARY;LANGUAGE=de-de:Biotonne
LOCATION:Igensdorf - Weidenbühl\, Forchheim
DTSTART;VALUE=DATE:20260219
END:VEVENT
BEGIN:VEVENT
UID:257d10d7-53b5-4011-9e67-c00a37cd0985
DTSTAMP:20260425T001525Z
LAST-MODIFIED:20251008T100000Z
CREATED:20251008T100000Z
SUMMARY;LANGUAGE=de-de:Biotonne
LOCATION:Igensdorf - Weidenbühl\, Forchheim
DTSTART;VALUE=DATE:20260226
END:VEVENT
BEGIN:VEVENT
UID:c521a15b-a912-43e8-b144-c9c0d187733f
DTSTAMP:20260425T001525Z
LAST-MODIFIED:20251008T100000Z
CREATED:20251008T100000Z
SUMMARY;LANGUAGE=de-de:Biotonne
LOCATION:Igensdorf - Weidenbühl\, Forchheim
DTSTART;VALUE=DATE:20260305
END:VEVENT
BEGIN:VEVENT
UID:3a5c26c1-8918-482a-928e-808c284c124e
DTSTAMP:20260425T001525Z
LAST-MODIFIED:20251008T100000Z
CREATED:20251008T100000Z
SUMMARY;LANGUAGE=de-de:Biotonne
LOCATION:Igensdorf - Weidenbühl\, Forchheim
DTSTART;VALUE=DATE:20260312
END:VEVENT
BEGIN:VEVENT
UID:ec7a42d9-1e26-4fa2-969f-0d47dee19cd5
DTSTAMP:20260425T001525Z
LAST-MODIFIED:20251008T100000Z
CREATED:20251008T100000Z
SUMMARY;LANGUAGE=de-de:Biotonne
LOCATION:Igensdorf - Weidenbühl\, Forchheim
DTSTART;VALUE=DATE:20260319
END:VEVENT
BEGIN:VEVENT
UID:738825eb-d1eb-4ff4-b1e4-534a294ab2c8
DTSTAMP:20260425T001525Z
LAST-MODIFIED:20251008T100000Z
CREATED:20251008T100000Z
SUMMARY;LANGUAGE=de-de:Biotonne
LOCATION:Igensdorf - Weidenbühl\, Forchheim
DTSTART;VALUE=DATE:20260326
END:VEVENT
BEGIN:VEVENT
UID:6c793f55-f48b-4a6f-8275-1a32800d6f9c
DTSTAMP:20260425T001525Z
LAST-MODIFIED:20251008T100000Z
CREATED:20251008T100000Z
SUMMARY;LANGUAGE=de-de:Biotonne
LOCATION:Igensdorf - Weidenbühl\, Forchheim
DTSTART;VALUE=DATE:20260402
END:VEVENT
BEGIN:VEVENT
UID:c1e01c17-0483-4b00-a378-263a9dff1de5
DTSTAMP:20260425T001525Z
LAST-MODIFIED:20251008T100000Z
CREATED:20251008T100000Z
SUMMARY;LANGUAGE=de-de:Biotonne
LOCATION:Igensdorf - Weidenbühl\, Forchheim
DTSTART;VALUE=DATE:20260410
END:VEVENT
BEGIN:VEVENT
UID:fd6cc04b-bab9-460c-bbec-1bce6356f9ac
DTSTAMP:20260425T001525Z
LAST-MODIFIED:20251008T100000Z
CREATED:20251008T100000Z
SUMMARY;LANGUAGE=de-de:Biotonne
LOCATION:Igensdorf - Weidenbühl\, Forchheim
DTSTART;VALUE=DATE:20260416
END:VEVENT
BEGIN:VEVENT
UID:c3571fc6-de19-46ca-9f5b-a41ce67c27bf
DTSTAMP:20260425T001525Z
LAST-MODIFIED:20251008T100000Z
CREATED:20251008T100000Z
SUMMARY;LANGUAGE=de-de:Biotonne
LOCATION:Igensdorf - Weidenbühl\, Forchheim
DTSTART;VALUE=DATE:20260423
END:VEVENT
BEGIN:VEVENT
UID:c5a59005-0bac-4fae-86ba-00ca657aa6d5
DTSTAMP:20260425T001525Z
LAST-MODIFIED:20251008T100000Z
CREATED:20251008T100000Z
SUMMARY;LANGUAGE=de-de:Biotonne
LOCATION:Igensdorf - Weidenbühl\, Forchheim
DTSTART;VALUE=DATE:20260430
END:VEVENT
BEGIN:VEVENT
UID:8c129326-e98d-40f6-8724-9350e0ccce7d
DTSTAMP:20260425T001525Z
LAST-MODIFIED:20251008T100000Z
CREATED:20251008T100000Z
SUMMARY;LANGUAGE=de-de:Biotonne
LOCATION:Igensdorf - Weidenbühl\, Forchheim
DTSTART;VALUE=DATE:20260507
END:VEVENT
BEGIN:VEVENT
UID:822433f0-c771-4d67-95b9-8a02d2c5cd82
DTSTAMP:20260425T001525Z
LAST-MODIFIED:20251008T100000Z
CREATED:20251008T100000Z
SUMMARY;LANGUAGE=de-de:Biotonne
LOCATION:Igensdorf - Weidenbühl\, Forchheim
DTSTART;VALUE=DATE:20260513
END:VEVENT
BEGIN:VEVENT
UID:ef542e58-ccfb-45a9-b975-8deada804eb7
DTSTAMP:20260425T001525Z
LAST-MODIFIED:20251008T100000Z
CREATED:20251008T100000Z
SUMMARY;LANGUAGE=de-de:Biotonne
LOCATION:Igensdorf - Weidenbühl\, Forchheim
DTSTART;VALUE=DATE:20260521
END:VEVENT
BEGIN:VEVENT
UID:2a4c7590-b229-49e6-af0c-fd1e294ebb86
DTSTAMP:20260425T001525Z
LAST-MODIFIED:20251008T100000Z
CREATED:20251008T100000Z
SUMMARY;LANGUAGE=de-de:Biotonne
LOCATION:Igensdorf - Weidenbühl\, Forchheim
DTSTART;VALUE=DATE:20260529
END:VEVENT
BEGIN:VEVENT
UID:131d524c-5a41-42d1-b8b6-4c3e8fdddfea
DTSTAMP:20260425T001525Z
LAST-MODIFIED:20251008T100000Z
CREATED:20251008T100000Z
SUMMARY;LANGUAGE=de-de:Biotonne
LOCATION:Igensdorf - Weidenbühl\, Forchheim
DTSTART;VALUE=DATE:20260605
END:VEVENT
BEGIN:VEVENT
UID:dbfa5c56-fd2d-42d2-b095-b48631dc02d3
DTSTAMP:20260425T001525Z
LAST-MODIFIED:20251008T100000Z
CREATED:20251008T100000Z
SUMMARY;LANGUAGE=de-de:Biotonne
LOCATION:Igensdorf - Weidenbühl\, Forchheim
DTSTART;VALUE=DATE:20260611
END:VEVENT
BEGIN:VEVENT
UID:d4347f8c-6180-4a36-8788-e2d3cfa6316b
DTSTAMP:20260425T001525Z
LAST-MODIFIED:20251008T100000Z
CREATED:20251008T100000Z
SUMMARY;LANGUAGE=de-de:Biotonne
LOCATION:Igensdorf - Weidenbühl\, Forchheim
DTSTART;VALUE=DATE:20260618
END:VEVENT
BEGIN:VEVENT
UID:584f0337-b433-4d48-91e3-0a2728c5739d
DTSTAMP:20260425T001525Z
LAST-MODIFIED:20251008T100000Z
CREATED:20251008T100000Z
SUMMARY;LANGUAGE=de-de:Biotonne
LOCATION:Igensdorf - Weidenbühl\, Forchheim
DTSTART;VALUE=DATE:20260625
END:VEVENT
BEGIN:VEVENT
UID:65703fc7-fca0-48f0-b87f-fc698b0bbf7f
DTSTAMP:20260425T001525Z
LAST-MODIFIED:20251008T100000Z
CREATED:20251008T100000Z
SUMMARY;LANGUAGE=de-de:Biotonne
LOCATION:Igensdorf - Weidenbühl\, Forchheim
DTSTART;VALUE=DATE:20260703
END:VEVENT
BEGIN:VEVENT
UID:d833b531-3839-4b4d-8497-b6dd6e225a39
DTSTAMP:20260425T001525Z
LAST-MODIFIED:20251008T100000Z
CREATED:20251008T100000Z
SUMMARY;LANGUAGE=de-de:Biotonne
LOCATION:Igensdorf - Weidenbühl\, Forchheim
DTSTART;VALUE=DATE:20260709
END:VEVENT
BEGIN:VEVENT
UID:357ec9b6-c98a-4a47-b514-69fd52e7879f
DTSTAMP:20260425T001525Z
LAST-MODIFIED:20251008T100000Z
CREATED:20251008T100000Z
SUMMARY;LANGUAGE=de-de:Biotonne
LOCATION:Igensdorf - Weidenbühl\, Forchheim
DTSTART;VALUE=DATE:20260716
END:VEVENT
BEGIN:VEVENT
UID:da93d9fd-e340-4aea-a484-bbd61fbeb277
DTSTAMP:20260425T001525Z
LAST-MODIFIED:20251008T100000Z
CREATED:20251008T100000Z
SUMMARY;LANGUAGE=de-de:Biotonne
LOCATION:Igensdorf - Weidenbühl\, Forchheim
DTSTART;VALUE=DATE:20260723
END:VEVENT
BEGIN:VEVENT
UID:218abbd9-63ec-4bed-b2f1-fd0314a5a8a2
DTSTAMP:20260425T001525Z
LAST-MODIFIED:20251008T100000Z
CREATED:20251008T100000Z
SUMMARY;LANGUAGE=de-de:Biotonne
LOCATION:Igensdorf - Weidenbühl\, Forchheim
DTSTART;VALUE=DATE:20260730
END:VEVENT
BEGIN:VEVENT
UID:0230d782-17d3-4df9-824f-f3956a7f3e5c
DTSTAMP:20260425T001525Z
LAST-MODIFIED:20251008T100000Z
CREATED:20251008T100000Z
SUMMARY;LANGUAGE=de-de:Biotonne
LOCATION:Igensdorf - Weidenbühl\, Forchheim
DTSTART;VALUE=DATE:20260806
END:VEVENT
BEGIN:VEVENT
UID:d739de09-9950-4f18-9626-e0159e930206
DTSTAMP:20260425T001525Z
LAST-MODIFIED:20251008T100000Z
CREATED:20251008T100000Z
SUMMARY;LANGUAGE=de-de:Biotonne
LOCATION:Igensdorf - Weidenbühl\, Forchheim
DTSTART;VALUE=DATE:20260813
END:VEVENT
BEGIN:VEVENT
UID:151f3277-4a0a-4109-8c8c-550f6f608f8b
DTSTAMP:20260425T001525Z
LAST-MODIFIED:20251008T100000Z
CREATED:20251008T100000Z
SUMMARY;LANGUAGE=de-de:Biotonne
LOCATION:Igensdorf - Weidenbühl\, Forchheim
DTSTART;VALUE=DATE:20260820
END:VEVENT
BEGIN:VEVENT
UID:e5cd3878-9a98-4a89-adee-6c6ffdce0ab9
DTSTAMP:20260425T001525Z
LAST-MODIFIED:20251008T100000Z
CREATED:20251008T100000Z
SUMMARY;LANGUAGE=de-de:Biotonne
LOCATION:Igensdorf - Weidenbühl\, Forchheim
DTSTART;VALUE=DATE:20260827
END:VEVENT
BEGIN:VEVENT
UID:30497b9c-13c8-4817-9594-36755320c8c8
DTSTAMP:20260425T001525Z
LAST-MODIFIED:20251008T100000Z
CREATED:20251008T100000Z
SUMMARY;LANGUAGE=de-de:Biotonne
LOCATION:Igensdorf - Weidenbühl\, Forchheim
DTSTART;VALUE=DATE:20260903
END:VEVENT
BEGIN:VEVENT
UID:1fe993a8-3118-4be8-add8-f55e981eece2
DTSTAMP:20260425T001525Z
LAST-MODIFIED:20251008T100000Z
CREATED:20251008T100000Z
SUMMARY;LANGUAGE=de-de:Biotonne
LOCATION:Igensdorf - Weidenbühl\, Forchheim
DTSTART;VALUE=DATE:20260910
END:VEVENT
BEGIN:VEVENT
UID:ce1f6620-04e1-40db-be5f-4b75a8a30d7c
DTSTAMP:20260425T001525Z
LAST-MODIFIED:20251008T100000Z
CREATED:20251008T100000Z
SUMMARY;LANGUAGE=de-de:Biotonne
LOCATION:Igensdorf - Weidenbühl\, Forchheim
DTSTART;VALUE=DATE:20260917
END:VEVENT
BEGIN:VEVENT
UID:83d8e555-b136-4b2a-8221-b68a94797313
DTSTAMP:20260425T001525Z
LAST-MODIFIED:20251008T100000Z
CREATED:20251008T100000Z
SUMMARY;LANGUAGE=de-de:Biotonne
LOCATION:Igensdorf - Weidenbühl\, Forchheim
DTSTART;VALUE=DATE:20260924
END:VEVENT
BEGIN:VEVENT
UID:cc2fca27-a66f-4fde-9cf9-302fc5a6afad
DTSTAMP:20260425T001525Z
LAST-MODIFIED:20251008T100000Z
CREATED:20251008T100000Z
SUMMARY;LANGUAGE=de-de:Biotonne
LOCATION:Igensdorf - Weidenbühl\, Forchheim
DTSTART;VALUE=DATE:20261001
END:VEVENT
BEGIN:VEVENT
UID:3b1351d4-a523-48b4-a082-0fc72ff12308
DTSTAMP:20260425T001525Z
LAST-MODIFIED:20251008T100000Z
CREATED:20251008T100000Z
SUMMARY;LANGUAGE=de-de:Biotonne
LOCATION:Igensdorf - Weidenbühl\, Forchheim
DTSTART;VALUE=DATE:20261008
END:VEVENT
BEGIN:VEVENT
UID:323ec44c-1b18-46ee-b48a-760991fb28e1
DTSTAMP:20260425T001525Z
LAST-MODIFIED:20251008T100000Z
CREATED:20251008T100000Z
SUMMARY;LANGUAGE=de-de:Biotonne
LOCATION:Igensdorf - Weidenbühl\, Forchheim
DTSTART;VALUE=DATE:20261015
END:VEVENT
BEGIN:VEVENT
UID:2ec0e923-50b6-4a06-a249-f2877e541850
DTSTAMP:20260425T001525Z
LAST-MODIFIED:20251008T100000Z
CREATED:20251008T100000Z
SUMMARY;LANGUAGE=de-de:Biotonne
LOCATION:Igensdorf - Weidenbühl\, Forchheim
DTSTART;VALUE=DATE:20261022
END:VEVENT
BEGIN:VEVENT
UID:82a72e63-89e2-4bcb-b7fc-141d0338fa20
DTSTAMP:20260425T001525Z
LAST-MODIFIED:20251008T100000Z
CREATED:20251008T100000Z
SUMMARY;LANGUAGE=de-de:Biotonne
LOCATION:Igensdorf - Weidenbühl\, Forchheim
DTSTART;VALUE=DATE:20261029
END:VEVENT
BEGIN:VEVENT
UID:78173014-b48d-4d8d-9bff-d5def9fb19a3
DTSTAMP:20260425T001525Z
LAST-MODIFIED:20251008T100000Z
CREATED:20251008T100000Z
SUMMARY;LANGUAGE=de-de:Biotonne
LOCATION:Igensdorf - Weidenbühl\, Forchheim
DTSTART;VALUE=DATE:20261105
END:VEVENT
BEGIN:VEVENT
UID:16bf0760-d967-4779-8a44-e9287ed1c202
DTSTAMP:20260425T001525Z
LAST-MODIFIED:20251008T100000Z
CREATED:20251008T100000Z
SUMMARY;LANGUAGE=de-de:Biotonne
LOCATION:Igensdorf - Weidenbühl\, Forchheim
DTSTART;VALUE=DATE:20261112
END:VEVENT
BEGIN:VEVENT
UID:7d95b826-a073-4cd3-badc-c487cdc792d8
DTSTAMP:20260425T001525Z
LAST-MODIFIED:20251008T100000Z
CREATED:20251008T100000Z
SUMMARY;LANGUAGE=de-de:Biotonne
LOCATION:Igensdorf - Weidenbühl\, Forchheim
DTSTART;VALUE=DATE:20261119
END:VEVENT
BEGIN:VEVENT
UID:17462f97-b75f-4f46-8fa0-850a7b646e97
DTSTAMP:20260425T001525Z
LAST-MODIFIED:20251008T100000Z
CREATED:20251008T100000Z
SUMMARY;LANGUAGE=de-de:Biotonne
LOCATION:Igensdorf - Weidenbühl\, Forchheim
DTSTART;VALUE=DATE:20261126
END:VEVENT
BEGIN:VEVENT
UID:3ccab722-6b75-4f42-8861-6202a4a26a3a
DTSTAMP:20260425T001525Z
LAST-MODIFIED:20251008T100000Z
CREATED:20251008T100000Z
SUMMARY;LANGUAGE=de-de:Biotonne
LOCATION:Igensdorf - Weidenbühl\, Forchheim
DTSTART;VALUE=DATE:20261210
END:VEVENT
BEGIN:VEVENT
UID:5174116d-f8b6-417d-96e1-8d7b25e63311
DTSTAMP:20260425T001525Z
LAST-MODIFIED:20251008T100000Z
CREATED:20251008T100000Z
SUMMARY;LANGUAGE=de-de:Biotonne
LOCATION:Igensdorf - Weidenbühl\, Forchheim
DTSTART;VALUE=DATE:20261223
END:VEVENT
BEGIN:VEVENT
UID:a5cf2d6e-28f1-4a24-9805-12535a769cd2
DTSTAMP:20260425T001525Z
LAST-MODIFIED:20251008T100000Z
CREATED:20251008T100000Z
SUMMARY;LANGUAGE=de-de:Gelbe Tonne
LOCATION:Igensdorf - Weidenbühl\, Forchheim
DTSTART;VALUE=DATE:20260108
END:VEVENT
BEGIN:VEVENT
UID:91bb4933-3745-4c27-ac0e-0c16de272b1c
DTSTAMP:20260425T001525Z
LAST-MODIFIED:20251008T100000Z
CREATED:20251008T100000Z
SUMMARY;LANGUAGE=de-de:Gelbe Tonne
LOCATION:Igensdorf - Weidenbühl\, Forchheim
DTSTART;VALUE=DATE:20260205
END:VEVENT
BEGIN:VEVENT
UID:32034e1c-0921-472b-8b4f-743619d8a66d
DTSTAMP:20260425T001525Z
LAST-MODIFIED:20251008T100000Z
CREATED:20251008T100000Z
SUMMARY;LANGUAGE=de-de:Gelbe Tonne
LOCATION:Igensdorf - Weidenbühl\, Forchheim
DTSTART;VALUE=DATE:20260305
END:VEVENT
BEGIN:VEVENT
UID:5ba081bf-784f-433f-a3f5-c13f3f693474
DTSTAMP:20260425T001525Z
LAST-MODIFIED:20251008T100000Z
CREATED:20251008T100000Z
SUMMARY;LANGUAGE=de-de:Gelbe Tonne
LOCATION:Igensdorf - Weidenbühl\, Forchheim
DTSTART;VALUE=DATE:20260402
END:VEVENT
BEGIN:VEVENT
UID:a03ff176-63b0-4e81-acc1-e26c1cecad59
DTSTAMP:20260425T001525Z
LAST-MODIFIED:20251008T100000Z
CREATED:20251008T100000Z
SUMMARY;LANGUAGE=de-de:Gelbe Tonne
LOCATION:Igensdorf - Weidenbühl\, Forchheim
DTSTART;VALUE=DATE:20260505
END:VEVENT
BEGIN:VEVENT
UID:aa534208-44c7-47b1-b092-23d9affbb163
DTSTAMP:20260425T001525Z
LAST-MODIFIED:20251008T100000Z
CREATED:20251008T100000Z
SUMMARY;LANGUAGE=de-de:Gelbe Tonne
LOCATION:Igensdorf - Weidenbühl\, Forchheim
DTSTART;VALUE=DATE:20260605
END:VEVENT
BEGIN:VEVENT
UID:27388bab-6084-4dda-962f-a82092833356
DTSTAMP:20260425T001525Z
LAST-MODIFIED:20251008T100000Z
CREATED:20251008T100000Z
SUMMARY;LANGUAGE=de-de:Gelbe Tonne
LOCATION:Igensdorf - Weidenbühl\, Forchheim
DTSTART;VALUE=DATE:20260703
END:VEVENT
BEGIN:VEVENT
UID:084633c5-1bb2-43ec-8151-76533a66bb90
DTSTAMP:20260425T001525Z
LAST-MODIFIED:20251008T100000Z
CREATED:20251008T100000Z
SUMMARY;LANGUAGE=de-de:Gelbe Tonne
LOCATION:Igensdorf - Weidenbühl\, Forchheim
DTSTART;VALUE=DATE:20260731
END:VEVENT
BEGIN:VEVENT
UID:eaf65bea-c04a-40ec-bae1-ad7d9a9404c3
DTSTAMP:20260425T001525Z
LAST-MODIFIED:20251008T100000Z
CREATED:20251008T100000Z
SUMMARY;LANGUAGE=de-de:Gelbe Tonne
LOCATION:Igensdorf - Weidenbühl\, Forchheim
DTSTART;VALUE=DATE:20260828
END:VEVENT
BEGIN:VEVENT
UID:790aecb5-be45-46d1-9038-0bd9eba4e4ef
DTSTAMP:20260425T001525Z
LAST-MODIFIED:20251008T100000Z
CREATED:20251008T100000Z
SUMMARY;LANGUAGE=de-de:Gelbe Tonne
LOCATION:Igensdorf - Weidenbühl\, Forchheim
DTSTART;VALUE=DATE:20260925
END:VEVENT
BEGIN:VEVENT
UID:96234471-95db-4d39-a4f2-6a1656414b7c
DTSTAMP:20260425T001525Z
LAST-MODIFIED:20251008T100000Z
CREATED:20251008T100000Z
SUMMARY;LANGUAGE=de-de:Gelbe Tonne
LOCATION:Igensdorf - Weidenbühl\, Forchheim
DTSTART;VALUE=DATE:20261023
END:VEVENT
BEGIN:VEVENT
UID:c6eb44a0-bbb0-4d2f-b0ca-3045e65f28cb
DTSTAMP:20260425T001525Z
LAST-MODIFIED:20251008T100000Z
CREATED:20251008T100000Z
SUMMARY;LANGUAGE=de-de:Gelbe Tonne
LOCATION:Igensdorf - Weidenbühl\, Forchheim
DTSTART;VALUE=DATE:20261120
END:VEVENT
BEGIN:VEVENT
UID:4b946f35-2a67-4f4f-a2e7-ad78118ed0f4
DTSTAMP:20260425T001525Z
LAST-MODIFIED:20251008T100000Z
CREATED:20251008T100000Z
SUMMARY;LANGUAGE=de-de:Gelbe Tonne
LOCATION:Igensdorf - Weidenbühl\, Forchheim
DTSTART;VALUE=DATE:20261218
END:VEVENT
BEGIN:VEVENT
UID:129908d4-3801-40d2-b00b-afe588e95601
DTSTAMP:20260425T001525Z
LAST-MODIFIED:20251008T100000Z
CREATED:20251008T100000Z
SUMMARY;LANGUAGE=de-de:Papiertonne
LOCATION:Igensdorf - Weidenbühl\, Forchheim
DTSTART;VALUE=DATE:20260128
END:VEVENT
BEGIN:VEVENT
UID:42b3c501-88d2-42bb-a848-54b113cb3808
DTSTAMP:20260425T001525Z
LAST-MODIFIED:20251008T100000Z
CREATED:20251008T100000Z
SUMMARY;LANGUAGE=de-de:Papiertonne
LOCATION:Igensdorf - Weidenbühl\, Forchheim
DTSTART;VALUE=DATE:20260224
END:VEVENT
BEGIN:VEVENT
UID:0c501f59-ac54-44c9-b0b2-d44e9f2d00c8
DTSTAMP:20260425T001525Z
LAST-MODIFIED:20251008T100000Z
CREATED:20251008T100000Z
SUMMARY;LANGUAGE=de-de:Papiertonne
LOCATION:Igensdorf - Weidenbühl\, Forchheim
DTSTART;VALUE=DATE:20260323
END:VEVENT
BEGIN:VEVENT
UID:77a9c84e-1a8c-4476-b1fa-9971da53f586
DTSTAMP:20260425T001525Z
LAST-MODIFIED:20251008T100000Z
CREATED:20251008T100000Z
SUMMARY;LANGUAGE=de-de:Papiertonne
LOCATION:Igensdorf - Weidenbühl\, Forchheim
DTSTART;VALUE=DATE:20260421
END:VEVENT
BEGIN:VEVENT
UID:3f5de586-66c9-46fb-a7c0-d3ea1254b478
DTSTAMP:20260425T001525Z
LAST-MODIFIED:20251008T100000Z
CREATED:20251008T100000Z
SUMMARY;LANGUAGE=de-de:Papiertonne
LOCATION:Igensdorf - Weidenbühl\, Forchheim
DTSTART;VALUE=DATE:20260521
END:VEVENT
BEGIN:VEVENT
UID:2d99547a-4180-42d2-968a-c5ac58766e4c
DTSTAMP:20260425T001525Z
LAST-MODIFIED:20251008T100000Z
CREATED:20251008T100000Z
SUMMARY;LANGUAGE=de-de:Papiertonne
LOCATION:Igensdorf - Weidenbühl\, Forchheim
DTSTART;VALUE=DATE:20260622
END:VEVENT
BEGIN:VEVENT
UID:be849ed9-b26e-458e-a78a-2e7bb20cc634
DTSTAMP:20260425T001525Z
LAST-MODIFIED:20251008T100000Z
CREATED:20251008T100000Z
SUMMARY;LANGUAGE=de-de:Papiertonne
LOCATION:Igensdorf - Weidenbühl\, Forchheim
DTSTART;VALUE=DATE:20260717
END:VEVENT
BEGIN:VEVENT
UID:72479756-ed0f-482a-a0b3-32998ca6032a
DTSTAMP:20260425T001525Z
LAST-MODIFIED:20251008T100000Z
CREATED:20251008T100000Z
SUMMARY;LANGUAGE=de-de:Papiertonne
LOCATION:Igensdorf - Weidenbühl\, Forchheim
DTSTART;VALUE=DATE:20260813
END:VEVENT
BEGIN:VEVENT
UID:3e925595-e0c7-4391-99a7-537e0415aa47
DTSTAMP:20260425T001525Z
LAST-MODIFIED:20251008T100000Z
CREATED:20251008T100000Z
SUMMARY;LANGUAGE=de-de:Papiertonne
LOCATION:Igensdorf - Weidenbühl\, Forchheim
DTSTART;VALUE=DATE:20260909
END:VEVENT
BEGIN:VEVENT
UID:b7cc4384-4573-45b8-8051-971f359e8ccd
DTSTAMP:20260425T001525Z
LAST-MODIFIED:20251008T100000Z
CREATED:20251008T100000Z
SUMMARY;LANGUAGE=de-de:Papiertonne
LOCATION:Igensdorf - Weidenbühl\, Forchheim
DTSTART;VALUE=DATE:20261006
END:VEVENT
BEGIN:VEVENT
UID:533a85b5-94a6-4ae2-bfab-f14239319a8e
DTSTAMP:20260425T001525Z
LAST-MODIFIED:20251008T100000Z
CREATED:20251008T100000Z
SUMMARY;LANGUAGE=de-de:Papiertonne
LOCATION:Igensdorf - Weidenbühl\, Forchheim
DTSTART;VALUE=DATE:20261102
END:VEVENT
BEGIN:VEVENT
UID:15bb4c3c-69ee-43de-b4d7-6b97df10dec1
DTSTAMP:20260425T001525Z
LAST-MODIFIED:20251008T100000Z
CREATED:20251008T100000Z
SUMMARY;LANGUAGE=de-de:Papiertonne
LOCATION:Igensdorf - Weidenbühl\, Forchheim
DTSTART;VALUE=DATE:20261127
END:VEVENT
BEGIN:VEVENT
UID:d04dbcb5-756e-4c9c-8653-268528574eb0
DTSTAMP:20260425T001525Z
LAST-MODIFIED:20251008T100000Z
CREATED:20251008T100000Z
SUMMARY;LANGUAGE=de-de:Papiertonne
LOCATION:Igensdorf - Weidenbühl\, Forchheim
DTSTART;VALUE=DATE:20261228
END:VEVENT
END:VCALENDAR
