BEGIN:VCALENDAR
VERSION:2.0
PRODID:Abfalltermine Forchheim
NAME:Abfalltermine für Weilersbach - Reifenberg\, Forchheim
DESCRIPTION:Abfalltermine für Weilersbach - Reifenberg\, Forchheim
LAST-MODIFIED:20251008T100000Z
BEGIN:VTIMEZONE
TZID:Europe/Berlin
LAST-MODIFIED:20260306T231828Z
TZURL:https://www.tzurl.org/zoneinfo-outlook/Europe/Berlin
X-LIC-LOCATION:Europe/Berlin
BEGIN:DAYLIGHT
TZNAME:CEST
TZOFFSETFROM:+0100
TZOFFSETTO:+0200
DTSTART:19700329T020000
RRULE:FREQ=YEARLY;BYDAY=-1SU;BYMONTH=3
END:DAYLIGHT
BEGIN:STANDARD
TZNAME:CET
TZOFFSETFROM:+0200
TZOFFSETTO:+0100
DTSTART:19701025T030000
RRULE:FREQ=YEARLY;BYDAY=-1SU;BYMONTH=10
END:STANDARD
END:VTIMEZONE
BEGIN:VEVENT
UID:1f32be89-c585-4804-9263-d16c7c3b8578
DTSTAMP:20260421T113932Z
LAST-MODIFIED:20251008T100000Z
CREATED:20251008T100000Z
SUMMARY;LANGUAGE=de-de:Restmülltonne
LOCATION:Weilersbach - Reifenberg\, Forchheim
DTSTART;VALUE=DATE:20260112
END:VEVENT
BEGIN:VEVENT
UID:a58b62ff-ba5b-452a-ad46-d5216dd39bc7
DTSTAMP:20260421T113932Z
LAST-MODIFIED:20251008T100000Z
CREATED:20251008T100000Z
SUMMARY;LANGUAGE=de-de:Restmülltonne
LOCATION:Weilersbach - Reifenberg\, Forchheim
DTSTART;VALUE=DATE:20260126
END:VEVENT
BEGIN:VEVENT
UID:4b6a8045-f40d-41f2-a98d-a715f9e7f800
DTSTAMP:20260421T113932Z
LAST-MODIFIED:20251008T100000Z
CREATED:20251008T100000Z
SUMMARY;LANGUAGE=de-de:Restmülltonne
LOCATION:Weilersbach - Reifenberg\, Forchheim
DTSTART;VALUE=DATE:20260209
END:VEVENT
BEGIN:VEVENT
UID:69918eb8-3e24-4c21-a871-11c5fffbb99f
DTSTAMP:20260421T113932Z
LAST-MODIFIED:20251008T100000Z
CREATED:20251008T100000Z
SUMMARY;LANGUAGE=de-de:Restmülltonne
LOCATION:Weilersbach - Reifenberg\, Forchheim
DTSTART;VALUE=DATE:20260223
END:VEVENT
BEGIN:VEVENT
UID:cb8080f5-ed8f-4a38-bf0b-aaf795db715b
DTSTAMP:20260421T113932Z
LAST-MODIFIED:20251008T100000Z
CREATED:20251008T100000Z
SUMMARY;LANGUAGE=de-de:Restmülltonne
LOCATION:Weilersbach - Reifenberg\, Forchheim
DTSTART;VALUE=DATE:20260309
END:VEVENT
BEGIN:VEVENT
UID:5bf58274-5988-4f3b-ace6-3a866bc459d3
DTSTAMP:20260421T113932Z
LAST-MODIFIED:20251008T100000Z
CREATED:20251008T100000Z
SUMMARY;LANGUAGE=de-de:Restmülltonne
LOCATION:Weilersbach - Reifenberg\, Forchheim
DTSTART;VALUE=DATE:20260323
END:VEVENT
BEGIN:VEVENT
UID:b0314174-c70f-4a40-bc37-2b8f8a28c31c
DTSTAMP:20260421T113932Z
LAST-MODIFIED:20251008T100000Z
CREATED:20251008T100000Z
SUMMARY;LANGUAGE=de-de:Restmülltonne
LOCATION:Weilersbach - Reifenberg\, Forchheim
DTSTART;VALUE=DATE:20260407
END:VEVENT
BEGIN:VEVENT
UID:a1ce3f22-cbfd-4ae9-8765-69025d427d10
DTSTAMP:20260421T113932Z
LAST-MODIFIED:20251008T100000Z
CREATED:20251008T100000Z
SUMMARY;LANGUAGE=de-de:Restmülltonne
LOCATION:Weilersbach - Reifenberg\, Forchheim
DTSTART;VALUE=DATE:20260420
END:VEVENT
BEGIN:VEVENT
UID:0b944553-1814-4289-9744-ced82a9b522f
DTSTAMP:20260421T113932Z
LAST-MODIFIED:20251008T100000Z
CREATED:20251008T100000Z
SUMMARY;LANGUAGE=de-de:Restmülltonne
LOCATION:Weilersbach - Reifenberg\, Forchheim
DTSTART;VALUE=DATE:20260504
END:VEVENT
BEGIN:VEVENT
UID:46144f33-63e9-4539-ad0e-283a75efefae
DTSTAMP:20260421T113932Z
LAST-MODIFIED:20251008T100000Z
CREATED:20251008T100000Z
SUMMARY;LANGUAGE=de-de:Restmülltonne
LOCATION:Weilersbach - Reifenberg\, Forchheim
DTSTART;VALUE=DATE:20260518
END:VEVENT
BEGIN:VEVENT
UID:83283d09-f29d-4496-89e5-5b8d46c28bc3
DTSTAMP:20260421T113932Z
LAST-MODIFIED:20251008T100000Z
CREATED:20251008T100000Z
SUMMARY;LANGUAGE=de-de:Restmülltonne
LOCATION:Weilersbach - Reifenberg\, Forchheim
DTSTART;VALUE=DATE:20260601
END:VEVENT
BEGIN:VEVENT
UID:6770a999-30c6-4f61-8505-e21d4d317fc9
DTSTAMP:20260421T113932Z
LAST-MODIFIED:20251008T100000Z
CREATED:20251008T100000Z
SUMMARY;LANGUAGE=de-de:Restmülltonne
LOCATION:Weilersbach - Reifenberg\, Forchheim
DTSTART;VALUE=DATE:20260615
END:VEVENT
BEGIN:VEVENT
UID:7f027b2e-d3e5-401e-8afa-648c2c74d4dc
DTSTAMP:20260421T113932Z
LAST-MODIFIED:20251008T100000Z
CREATED:20251008T100000Z
SUMMARY;LANGUAGE=de-de:Restmülltonne
LOCATION:Weilersbach - Reifenberg\, Forchheim
DTSTART;VALUE=DATE:20260629
END:VEVENT
BEGIN:VEVENT
UID:52d94f35-3ec1-438c-820a-a965092dedc9
DTSTAMP:20260421T113932Z
LAST-MODIFIED:20251008T100000Z
CREATED:20251008T100000Z
SUMMARY;LANGUAGE=de-de:Restmülltonne
LOCATION:Weilersbach - Reifenberg\, Forchheim
DTSTART;VALUE=DATE:20260713
END:VEVENT
BEGIN:VEVENT
UID:3aa50c55-fbc7-4713-b76e-a70ff18bc157
DTSTAMP:20260421T113932Z
LAST-MODIFIED:20251008T100000Z
CREATED:20251008T100000Z
SUMMARY;LANGUAGE=de-de:Restmülltonne
LOCATION:Weilersbach - Reifenberg\, Forchheim
DTSTART;VALUE=DATE:20260727
END:VEVENT
BEGIN:VEVENT
UID:8920f33e-e0b7-4f0d-a458-a144621cb917
DTSTAMP:20260421T113932Z
LAST-MODIFIED:20251008T100000Z
CREATED:20251008T100000Z
SUMMARY;LANGUAGE=de-de:Restmülltonne
LOCATION:Weilersbach - Reifenberg\, Forchheim
DTSTART;VALUE=DATE:20260810
END:VEVENT
BEGIN:VEVENT
UID:9c4647d2-6125-4795-9179-f6f5164932ec
DTSTAMP:20260421T113932Z
LAST-MODIFIED:20251008T100000Z
CREATED:20251008T100000Z
SUMMARY;LANGUAGE=de-de:Restmülltonne
LOCATION:Weilersbach - Reifenberg\, Forchheim
DTSTART;VALUE=DATE:20260824
END:VEVENT
BEGIN:VEVENT
UID:2bed8f04-cb3c-49a7-ac4f-722230c15994
DTSTAMP:20260421T113932Z
LAST-MODIFIED:20251008T100000Z
CREATED:20251008T100000Z
SUMMARY;LANGUAGE=de-de:Restmülltonne
LOCATION:Weilersbach - Reifenberg\, Forchheim
DTSTART;VALUE=DATE:20260907
END:VEVENT
BEGIN:VEVENT
UID:addc4a4a-e5bc-4b8b-91a2-88d7d22e9b99
DTSTAMP:20260421T113932Z
LAST-MODIFIED:20251008T100000Z
CREATED:20251008T100000Z
SUMMARY;LANGUAGE=de-de:Restmülltonne
LOCATION:Weilersbach - Reifenberg\, Forchheim
DTSTART;VALUE=DATE:20260921
END:VEVENT
BEGIN:VEVENT
UID:47eedaed-765d-452d-b3a3-79290f6470e3
DTSTAMP:20260421T113932Z
LAST-MODIFIED:20251008T100000Z
CREATED:20251008T100000Z
SUMMARY;LANGUAGE=de-de:Restmülltonne
LOCATION:Weilersbach - Reifenberg\, Forchheim
DTSTART;VALUE=DATE:20261005
END:VEVENT
BEGIN:VEVENT
UID:9ccd64a2-0c14-4b79-be5c-9b4dc155a627
DTSTAMP:20260421T113932Z
LAST-MODIFIED:20251008T100000Z
CREATED:20251008T100000Z
SUMMARY;LANGUAGE=de-de:Restmülltonne
LOCATION:Weilersbach - Reifenberg\, Forchheim
DTSTART;VALUE=DATE:20261019
END:VEVENT
BEGIN:VEVENT
UID:96a1b00d-3f15-430f-a758-cab7409013f1
DTSTAMP:20260421T113932Z
LAST-MODIFIED:20251008T100000Z
CREATED:20251008T100000Z
SUMMARY;LANGUAGE=de-de:Restmülltonne
LOCATION:Weilersbach - Reifenberg\, Forchheim
DTSTART;VALUE=DATE:20261102
END:VEVENT
BEGIN:VEVENT
UID:561e0545-5851-4514-8380-6ea71f30c2c1
DTSTAMP:20260421T113932Z
LAST-MODIFIED:20251008T100000Z
CREATED:20251008T100000Z
SUMMARY;LANGUAGE=de-de:Restmülltonne
LOCATION:Weilersbach - Reifenberg\, Forchheim
DTSTART;VALUE=DATE:20261116
END:VEVENT
BEGIN:VEVENT
UID:9c138c49-33ed-408d-8083-c898c8e9ad81
DTSTAMP:20260421T113932Z
LAST-MODIFIED:20251008T100000Z
CREATED:20251008T100000Z
SUMMARY;LANGUAGE=de-de:Restmülltonne
LOCATION:Weilersbach - Reifenberg\, Forchheim
DTSTART;VALUE=DATE:20261130
END:VEVENT
BEGIN:VEVENT
UID:71da7a5e-c1bf-440e-a3b3-42451d8b73a6
DTSTAMP:20260421T113932Z
LAST-MODIFIED:20251008T100000Z
CREATED:20251008T100000Z
SUMMARY;LANGUAGE=de-de:Restmülltonne
LOCATION:Weilersbach - Reifenberg\, Forchheim
DTSTART;VALUE=DATE:20261214
END:VEVENT
BEGIN:VEVENT
UID:329ad37d-2792-421e-b548-a41584a0c924
DTSTAMP:20260421T113932Z
LAST-MODIFIED:20251008T100000Z
CREATED:20251008T100000Z
SUMMARY;LANGUAGE=de-de:Restmülltonne
LOCATION:Weilersbach - Reifenberg\, Forchheim
DTSTART;VALUE=DATE:20261228
END:VEVENT
BEGIN:VEVENT
UID:a4008842-107f-4858-a623-5e4d3f522d09
DTSTAMP:20260421T113932Z
LAST-MODIFIED:20251008T100000Z
CREATED:20251008T100000Z
SUMMARY;LANGUAGE=de-de:Singletonne (Restmüll)
LOCATION:Weilersbach - Reifenberg\, Forchheim
DTSTART;VALUE=DATE:20260126
END:VEVENT
BEGIN:VEVENT
UID:4ed0ab47-acb8-4218-824e-ee0f30674cf1
DTSTAMP:20260421T113932Z
LAST-MODIFIED:20251008T100000Z
CREATED:20251008T100000Z
SUMMARY;LANGUAGE=de-de:Singletonne (Restmüll)
LOCATION:Weilersbach - Reifenberg\, Forchheim
DTSTART;VALUE=DATE:20260223
END:VEVENT
BEGIN:VEVENT
UID:e3096934-7987-4576-8246-5ea983576f27
DTSTAMP:20260421T113932Z
LAST-MODIFIED:20251008T100000Z
CREATED:20251008T100000Z
SUMMARY;LANGUAGE=de-de:Singletonne (Restmüll)
LOCATION:Weilersbach - Reifenberg\, Forchheim
DTSTART;VALUE=DATE:20260323
END:VEVENT
BEGIN:VEVENT
UID:6d8396b5-e2fe-4d1f-ad8c-5cf8053ce61b
DTSTAMP:20260421T113932Z
LAST-MODIFIED:20251008T100000Z
CREATED:20251008T100000Z
SUMMARY;LANGUAGE=de-de:Singletonne (Restmüll)
LOCATION:Weilersbach - Reifenberg\, Forchheim
DTSTART;VALUE=DATE:20260420
END:VEVENT
BEGIN:VEVENT
UID:4ff04e79-2f34-444d-9689-f3d152254d3b
DTSTAMP:20260421T113932Z
LAST-MODIFIED:20251008T100000Z
CREATED:20251008T100000Z
SUMMARY;LANGUAGE=de-de:Singletonne (Restmüll)
LOCATION:Weilersbach - Reifenberg\, Forchheim
DTSTART;VALUE=DATE:20260518
END:VEVENT
BEGIN:VEVENT
UID:713576c6-744c-4b0f-bf75-3c84be501731
DTSTAMP:20260421T113932Z
LAST-MODIFIED:20251008T100000Z
CREATED:20251008T100000Z
SUMMARY;LANGUAGE=de-de:Singletonne (Restmüll)
LOCATION:Weilersbach - Reifenberg\, Forchheim
DTSTART;VALUE=DATE:20260615
END:VEVENT
BEGIN:VEVENT
UID:3c242570-b740-45c1-a755-7379036b656b
DTSTAMP:20260421T113932Z
LAST-MODIFIED:20251008T100000Z
CREATED:20251008T100000Z
SUMMARY;LANGUAGE=de-de:Singletonne (Restmüll)
LOCATION:Weilersbach - Reifenberg\, Forchheim
DTSTART;VALUE=DATE:20260713
END:VEVENT
BEGIN:VEVENT
UID:d888acb5-04eb-4c0e-b3dd-26a23f1050cb
DTSTAMP:20260421T113932Z
LAST-MODIFIED:20251008T100000Z
CREATED:20251008T100000Z
SUMMARY;LANGUAGE=de-de:Singletonne (Restmüll)
LOCATION:Weilersbach - Reifenberg\, Forchheim
DTSTART;VALUE=DATE:20260810
END:VEVENT
BEGIN:VEVENT
UID:53d709f2-c1dd-48b9-beb5-3e60890d8bc7
DTSTAMP:20260421T113932Z
LAST-MODIFIED:20251008T100000Z
CREATED:20251008T100000Z
SUMMARY;LANGUAGE=de-de:Singletonne (Restmüll)
LOCATION:Weilersbach - Reifenberg\, Forchheim
DTSTART;VALUE=DATE:20260907
END:VEVENT
BEGIN:VEVENT
UID:e32edfc7-0e52-48ef-b720-f4a3bdec3fce
DTSTAMP:20260421T113932Z
LAST-MODIFIED:20251008T100000Z
CREATED:20251008T100000Z
SUMMARY;LANGUAGE=de-de:Singletonne (Restmüll)
LOCATION:Weilersbach - Reifenberg\, Forchheim
DTSTART;VALUE=DATE:20261005
END:VEVENT
BEGIN:VEVENT
UID:0112a96c-3a8d-4bd4-9158-57c4b54e9751
DTSTAMP:20260421T113932Z
LAST-MODIFIED:20251008T100000Z
CREATED:20251008T100000Z
SUMMARY;LANGUAGE=de-de:Singletonne (Restmüll)
LOCATION:Weilersbach - Reifenberg\, Forchheim
DTSTART;VALUE=DATE:20261102
END:VEVENT
BEGIN:VEVENT
UID:ea446dd1-fb16-4178-afcd-34dd62628ba8
DTSTAMP:20260421T113932Z
LAST-MODIFIED:20251008T100000Z
CREATED:20251008T100000Z
SUMMARY;LANGUAGE=de-de:Singletonne (Restmüll)
LOCATION:Weilersbach - Reifenberg\, Forchheim
DTSTART;VALUE=DATE:20261130
END:VEVENT
BEGIN:VEVENT
UID:f0ce8b1e-4191-4a49-86fb-1fff17e206d3
DTSTAMP:20260421T113932Z
LAST-MODIFIED:20251008T100000Z
CREATED:20251008T100000Z
SUMMARY;LANGUAGE=de-de:Singletonne (Restmüll)
LOCATION:Weilersbach - Reifenberg\, Forchheim
DTSTART;VALUE=DATE:20261228
END:VEVENT
BEGIN:VEVENT
UID:59e87d0b-916b-4557-8ff0-cc511fbb33f8
DTSTAMP:20260421T113932Z
LAST-MODIFIED:20251008T100000Z
CREATED:20251008T100000Z
SUMMARY;LANGUAGE=de-de:Biotonne
LOCATION:Weilersbach - Reifenberg\, Forchheim
DTSTART;VALUE=DATE:20260105
END:VEVENT
BEGIN:VEVENT
UID:cdb1db50-3fbf-4622-a00d-a7ae70301121
DTSTAMP:20260421T113932Z
LAST-MODIFIED:20251008T100000Z
CREATED:20251008T100000Z
SUMMARY;LANGUAGE=de-de:Biotonne
LOCATION:Weilersbach - Reifenberg\, Forchheim
DTSTART;VALUE=DATE:20260119
END:VEVENT
BEGIN:VEVENT
UID:fe83ffc4-3775-4c6d-85f1-13cd4d0c3130
DTSTAMP:20260421T113932Z
LAST-MODIFIED:20251008T100000Z
CREATED:20251008T100000Z
SUMMARY;LANGUAGE=de-de:Biotonne
LOCATION:Weilersbach - Reifenberg\, Forchheim
DTSTART;VALUE=DATE:20260202
END:VEVENT
BEGIN:VEVENT
UID:eb83cc48-89e0-4f59-8296-61d1fbfeb029
DTSTAMP:20260421T113932Z
LAST-MODIFIED:20251008T100000Z
CREATED:20251008T100000Z
SUMMARY;LANGUAGE=de-de:Biotonne
LOCATION:Weilersbach - Reifenberg\, Forchheim
DTSTART;VALUE=DATE:20260216
END:VEVENT
BEGIN:VEVENT
UID:6c214e55-f132-4306-b6b4-e2e3ad6d84d4
DTSTAMP:20260421T113932Z
LAST-MODIFIED:20251008T100000Z
CREATED:20251008T100000Z
SUMMARY;LANGUAGE=de-de:Biotonne
LOCATION:Weilersbach - Reifenberg\, Forchheim
DTSTART;VALUE=DATE:20260223
END:VEVENT
BEGIN:VEVENT
UID:77995dba-768b-4c3e-bb9a-a4f05737a8a7
DTSTAMP:20260421T113932Z
LAST-MODIFIED:20251008T100000Z
CREATED:20251008T100000Z
SUMMARY;LANGUAGE=de-de:Biotonne
LOCATION:Weilersbach - Reifenberg\, Forchheim
DTSTART;VALUE=DATE:20260302
END:VEVENT
BEGIN:VEVENT
UID:8487ddb2-3469-407e-91c4-e779d1a7519d
DTSTAMP:20260421T113932Z
LAST-MODIFIED:20251008T100000Z
CREATED:20251008T100000Z
SUMMARY;LANGUAGE=de-de:Biotonne
LOCATION:Weilersbach - Reifenberg\, Forchheim
DTSTART;VALUE=DATE:20260309
END:VEVENT
BEGIN:VEVENT
UID:e762b4b0-6384-4a26-8d55-7dbf7a107dc8
DTSTAMP:20260421T113932Z
LAST-MODIFIED:20251008T100000Z
CREATED:20251008T100000Z
SUMMARY;LANGUAGE=de-de:Biotonne
LOCATION:Weilersbach - Reifenberg\, Forchheim
DTSTART;VALUE=DATE:20260316
END:VEVENT
BEGIN:VEVENT
UID:4d119c2c-98c4-4b34-8ade-506e628a2bb0
DTSTAMP:20260421T113932Z
LAST-MODIFIED:20251008T100000Z
CREATED:20251008T100000Z
SUMMARY;LANGUAGE=de-de:Biotonne
LOCATION:Weilersbach - Reifenberg\, Forchheim
DTSTART;VALUE=DATE:20260323
END:VEVENT
BEGIN:VEVENT
UID:f02bf921-e391-439a-862a-6dbdde872991
DTSTAMP:20260421T113932Z
LAST-MODIFIED:20251008T100000Z
CREATED:20251008T100000Z
SUMMARY;LANGUAGE=de-de:Biotonne
LOCATION:Weilersbach - Reifenberg\, Forchheim
DTSTART;VALUE=DATE:20260330
END:VEVENT
BEGIN:VEVENT
UID:409979ba-62d8-463c-9b21-3207916e607d
DTSTAMP:20260421T113932Z
LAST-MODIFIED:20251008T100000Z
CREATED:20251008T100000Z
SUMMARY;LANGUAGE=de-de:Biotonne
LOCATION:Weilersbach - Reifenberg\, Forchheim
DTSTART;VALUE=DATE:20260407
END:VEVENT
BEGIN:VEVENT
UID:4f042c28-e5cd-468e-b342-e292fdc5b421
DTSTAMP:20260421T113932Z
LAST-MODIFIED:20251008T100000Z
CREATED:20251008T100000Z
SUMMARY;LANGUAGE=de-de:Biotonne
LOCATION:Weilersbach - Reifenberg\, Forchheim
DTSTART;VALUE=DATE:20260413
END:VEVENT
BEGIN:VEVENT
UID:75c86c1e-c256-4619-9f96-f38af7004aa0
DTSTAMP:20260421T113932Z
LAST-MODIFIED:20251008T100000Z
CREATED:20251008T100000Z
SUMMARY;LANGUAGE=de-de:Biotonne
LOCATION:Weilersbach - Reifenberg\, Forchheim
DTSTART;VALUE=DATE:20260420
END:VEVENT
BEGIN:VEVENT
UID:8b8dc8ff-074d-4c66-8c7a-1eb283688922
DTSTAMP:20260421T113932Z
LAST-MODIFIED:20251008T100000Z
CREATED:20251008T100000Z
SUMMARY;LANGUAGE=de-de:Biotonne
LOCATION:Weilersbach - Reifenberg\, Forchheim
DTSTART;VALUE=DATE:20260427
END:VEVENT
BEGIN:VEVENT
UID:bfaf4194-2291-40e3-bcdc-eeabc9c82833
DTSTAMP:20260421T113932Z
LAST-MODIFIED:20251008T100000Z
CREATED:20251008T100000Z
SUMMARY;LANGUAGE=de-de:Biotonne
LOCATION:Weilersbach - Reifenberg\, Forchheim
DTSTART;VALUE=DATE:20260504
END:VEVENT
BEGIN:VEVENT
UID:28e2d757-e6c5-4024-8490-82caed227b75
DTSTAMP:20260421T113932Z
LAST-MODIFIED:20251008T100000Z
CREATED:20251008T100000Z
SUMMARY;LANGUAGE=de-de:Biotonne
LOCATION:Weilersbach - Reifenberg\, Forchheim
DTSTART;VALUE=DATE:20260511
END:VEVENT
BEGIN:VEVENT
UID:988428b3-c185-4422-a8eb-51f654ccdf0f
DTSTAMP:20260421T113932Z
LAST-MODIFIED:20251008T100000Z
CREATED:20251008T100000Z
SUMMARY;LANGUAGE=de-de:Biotonne
LOCATION:Weilersbach - Reifenberg\, Forchheim
DTSTART;VALUE=DATE:20260518
END:VEVENT
BEGIN:VEVENT
UID:d8ffbb51-a28f-498c-a30e-394e2ed814ab
DTSTAMP:20260421T113932Z
LAST-MODIFIED:20251008T100000Z
CREATED:20251008T100000Z
SUMMARY;LANGUAGE=de-de:Biotonne
LOCATION:Weilersbach - Reifenberg\, Forchheim
DTSTART;VALUE=DATE:20260526
END:VEVENT
BEGIN:VEVENT
UID:e0c651d9-1801-4126-aaf7-8e192b393795
DTSTAMP:20260421T113932Z
LAST-MODIFIED:20251008T100000Z
CREATED:20251008T100000Z
SUMMARY;LANGUAGE=de-de:Biotonne
LOCATION:Weilersbach - Reifenberg\, Forchheim
DTSTART;VALUE=DATE:20260601
END:VEVENT
BEGIN:VEVENT
UID:1823d1f8-f47e-4fc7-b294-ee1d9270e128
DTSTAMP:20260421T113932Z
LAST-MODIFIED:20251008T100000Z
CREATED:20251008T100000Z
SUMMARY;LANGUAGE=de-de:Biotonne
LOCATION:Weilersbach - Reifenberg\, Forchheim
DTSTART;VALUE=DATE:20260608
END:VEVENT
BEGIN:VEVENT
UID:9accff7c-7a6f-4459-840c-0a0db4246a63
DTSTAMP:20260421T113932Z
LAST-MODIFIED:20251008T100000Z
CREATED:20251008T100000Z
SUMMARY;LANGUAGE=de-de:Biotonne
LOCATION:Weilersbach - Reifenberg\, Forchheim
DTSTART;VALUE=DATE:20260615
END:VEVENT
BEGIN:VEVENT
UID:84899dc1-f1e4-45a2-a15a-a5aa8391091d
DTSTAMP:20260421T113932Z
LAST-MODIFIED:20251008T100000Z
CREATED:20251008T100000Z
SUMMARY;LANGUAGE=de-de:Biotonne
LOCATION:Weilersbach - Reifenberg\, Forchheim
DTSTART;VALUE=DATE:20260622
END:VEVENT
BEGIN:VEVENT
UID:d7e246cf-76a8-40a3-939d-852fc52b4005
DTSTAMP:20260421T113932Z
LAST-MODIFIED:20251008T100000Z
CREATED:20251008T100000Z
SUMMARY;LANGUAGE=de-de:Biotonne
LOCATION:Weilersbach - Reifenberg\, Forchheim
DTSTART;VALUE=DATE:20260629
END:VEVENT
BEGIN:VEVENT
UID:bd4111eb-bf24-4c95-a5a5-70205af0b60a
DTSTAMP:20260421T113932Z
LAST-MODIFIED:20251008T100000Z
CREATED:20251008T100000Z
SUMMARY;LANGUAGE=de-de:Biotonne
LOCATION:Weilersbach - Reifenberg\, Forchheim
DTSTART;VALUE=DATE:20260706
END:VEVENT
BEGIN:VEVENT
UID:14218285-ccc8-4466-8993-b3bec5476ee6
DTSTAMP:20260421T113932Z
LAST-MODIFIED:20251008T100000Z
CREATED:20251008T100000Z
SUMMARY;LANGUAGE=de-de:Biotonne
LOCATION:Weilersbach - Reifenberg\, Forchheim
DTSTART;VALUE=DATE:20260713
END:VEVENT
BEGIN:VEVENT
UID:bf010025-09b0-49a4-8941-fcc6ccb792df
DTSTAMP:20260421T113932Z
LAST-MODIFIED:20251008T100000Z
CREATED:20251008T100000Z
SUMMARY;LANGUAGE=de-de:Biotonne
LOCATION:Weilersbach - Reifenberg\, Forchheim
DTSTART;VALUE=DATE:20260720
END:VEVENT
BEGIN:VEVENT
UID:3ee584b5-e547-4aa9-8e2c-c17ee8b713fe
DTSTAMP:20260421T113932Z
LAST-MODIFIED:20251008T100000Z
CREATED:20251008T100000Z
SUMMARY;LANGUAGE=de-de:Biotonne
LOCATION:Weilersbach - Reifenberg\, Forchheim
DTSTART;VALUE=DATE:20260727
END:VEVENT
BEGIN:VEVENT
UID:fe853808-ca06-424e-b2cc-5043e603b6bf
DTSTAMP:20260421T113932Z
LAST-MODIFIED:20251008T100000Z
CREATED:20251008T100000Z
SUMMARY;LANGUAGE=de-de:Biotonne
LOCATION:Weilersbach - Reifenberg\, Forchheim
DTSTART;VALUE=DATE:20260803
END:VEVENT
BEGIN:VEVENT
UID:9cb05f7c-d170-478c-bdc4-120fd14963a4
DTSTAMP:20260421T113932Z
LAST-MODIFIED:20251008T100000Z
CREATED:20251008T100000Z
SUMMARY;LANGUAGE=de-de:Biotonne
LOCATION:Weilersbach - Reifenberg\, Forchheim
DTSTART;VALUE=DATE:20260810
END:VEVENT
BEGIN:VEVENT
UID:ed908b36-6a12-44a6-aab7-bec843976f65
DTSTAMP:20260421T113932Z
LAST-MODIFIED:20251008T100000Z
CREATED:20251008T100000Z
SUMMARY;LANGUAGE=de-de:Biotonne
LOCATION:Weilersbach - Reifenberg\, Forchheim
DTSTART;VALUE=DATE:20260817
END:VEVENT
BEGIN:VEVENT
UID:b85c12de-0099-4655-8879-f5b67ca1eae9
DTSTAMP:20260421T113932Z
LAST-MODIFIED:20251008T100000Z
CREATED:20251008T100000Z
SUMMARY;LANGUAGE=de-de:Biotonne
LOCATION:Weilersbach - Reifenberg\, Forchheim
DTSTART;VALUE=DATE:20260824
END:VEVENT
BEGIN:VEVENT
UID:53b732d5-c9d4-448d-b83e-7d376160165a
DTSTAMP:20260421T113932Z
LAST-MODIFIED:20251008T100000Z
CREATED:20251008T100000Z
SUMMARY;LANGUAGE=de-de:Biotonne
LOCATION:Weilersbach - Reifenberg\, Forchheim
DTSTART;VALUE=DATE:20260831
END:VEVENT
BEGIN:VEVENT
UID:4573badc-0c00-4f36-a91d-d8637a79bff9
DTSTAMP:20260421T113932Z
LAST-MODIFIED:20251008T100000Z
CREATED:20251008T100000Z
SUMMARY;LANGUAGE=de-de:Biotonne
LOCATION:Weilersbach - Reifenberg\, Forchheim
DTSTART;VALUE=DATE:20260907
END:VEVENT
BEGIN:VEVENT
UID:71eb673f-baa5-403c-90b4-2411bdeba686
DTSTAMP:20260421T113932Z
LAST-MODIFIED:20251008T100000Z
CREATED:20251008T100000Z
SUMMARY;LANGUAGE=de-de:Biotonne
LOCATION:Weilersbach - Reifenberg\, Forchheim
DTSTART;VALUE=DATE:20260914
END:VEVENT
BEGIN:VEVENT
UID:45a4e858-2a3f-4a12-b960-404dd0d50611
DTSTAMP:20260421T113932Z
LAST-MODIFIED:20251008T100000Z
CREATED:20251008T100000Z
SUMMARY;LANGUAGE=de-de:Biotonne
LOCATION:Weilersbach - Reifenberg\, Forchheim
DTSTART;VALUE=DATE:20260921
END:VEVENT
BEGIN:VEVENT
UID:9ef0bbfa-935d-4236-bc01-c017b4533803
DTSTAMP:20260421T113932Z
LAST-MODIFIED:20251008T100000Z
CREATED:20251008T100000Z
SUMMARY;LANGUAGE=de-de:Biotonne
LOCATION:Weilersbach - Reifenberg\, Forchheim
DTSTART;VALUE=DATE:20260928
END:VEVENT
BEGIN:VEVENT
UID:ad870926-4c7d-49a0-9135-74fc0153094b
DTSTAMP:20260421T113932Z
LAST-MODIFIED:20251008T100000Z
CREATED:20251008T100000Z
SUMMARY;LANGUAGE=de-de:Biotonne
LOCATION:Weilersbach - Reifenberg\, Forchheim
DTSTART;VALUE=DATE:20261005
END:VEVENT
BEGIN:VEVENT
UID:94de0878-6775-4955-b682-602828565147
DTSTAMP:20260421T113932Z
LAST-MODIFIED:20251008T100000Z
CREATED:20251008T100000Z
SUMMARY;LANGUAGE=de-de:Biotonne
LOCATION:Weilersbach - Reifenberg\, Forchheim
DTSTART;VALUE=DATE:20261012
END:VEVENT
BEGIN:VEVENT
UID:1ca87bff-799a-4181-9a40-724018e0a2c4
DTSTAMP:20260421T113932Z
LAST-MODIFIED:20251008T100000Z
CREATED:20251008T100000Z
SUMMARY;LANGUAGE=de-de:Biotonne
LOCATION:Weilersbach - Reifenberg\, Forchheim
DTSTART;VALUE=DATE:20261019
END:VEVENT
BEGIN:VEVENT
UID:e8c04b10-c431-4692-b650-e040e7e5cc0c
DTSTAMP:20260421T113932Z
LAST-MODIFIED:20251008T100000Z
CREATED:20251008T100000Z
SUMMARY;LANGUAGE=de-de:Biotonne
LOCATION:Weilersbach - Reifenberg\, Forchheim
DTSTART;VALUE=DATE:20261026
END:VEVENT
BEGIN:VEVENT
UID:57ed7d2b-c851-4442-a2fc-841ee44aaf93
DTSTAMP:20260421T113932Z
LAST-MODIFIED:20251008T100000Z
CREATED:20251008T100000Z
SUMMARY;LANGUAGE=de-de:Biotonne
LOCATION:Weilersbach - Reifenberg\, Forchheim
DTSTART;VALUE=DATE:20261102
END:VEVENT
BEGIN:VEVENT
UID:71f6b121-2e79-4f79-9a96-b5492661080a
DTSTAMP:20260421T113932Z
LAST-MODIFIED:20251008T100000Z
CREATED:20251008T100000Z
SUMMARY;LANGUAGE=de-de:Biotonne
LOCATION:Weilersbach - Reifenberg\, Forchheim
DTSTART;VALUE=DATE:20261109
END:VEVENT
BEGIN:VEVENT
UID:f80ad267-c980-4624-9c06-64c7a321e1af
DTSTAMP:20260421T113932Z
LAST-MODIFIED:20251008T100000Z
CREATED:20251008T100000Z
SUMMARY;LANGUAGE=de-de:Biotonne
LOCATION:Weilersbach - Reifenberg\, Forchheim
DTSTART;VALUE=DATE:20261116
END:VEVENT
BEGIN:VEVENT
UID:59c1fc99-e732-4627-a299-046b55a9f8f7
DTSTAMP:20260421T113932Z
LAST-MODIFIED:20251008T100000Z
CREATED:20251008T100000Z
SUMMARY;LANGUAGE=de-de:Biotonne
LOCATION:Weilersbach - Reifenberg\, Forchheim
DTSTART;VALUE=DATE:20261123
END:VEVENT
BEGIN:VEVENT
UID:43a82fd7-2085-4f3b-8326-90f9443b53c3
DTSTAMP:20260421T113932Z
LAST-MODIFIED:20251008T100000Z
CREATED:20251008T100000Z
SUMMARY;LANGUAGE=de-de:Biotonne
LOCATION:Weilersbach - Reifenberg\, Forchheim
DTSTART;VALUE=DATE:20261207
END:VEVENT
BEGIN:VEVENT
UID:89823a00-1270-4765-a2ca-78178dbaed39
DTSTAMP:20260421T113932Z
LAST-MODIFIED:20251008T100000Z
CREATED:20251008T100000Z
SUMMARY;LANGUAGE=de-de:Biotonne
LOCATION:Weilersbach - Reifenberg\, Forchheim
DTSTART;VALUE=DATE:20261221
END:VEVENT
BEGIN:VEVENT
UID:871ced2f-2c5b-4f80-9d39-b0134573605b
DTSTAMP:20260421T113932Z
LAST-MODIFIED:20251008T100000Z
CREATED:20251008T100000Z
SUMMARY;LANGUAGE=de-de:Gelbe Tonne
LOCATION:Weilersbach - Reifenberg\, Forchheim
DTSTART;VALUE=DATE:20260128
END:VEVENT
BEGIN:VEVENT
UID:4b89f0ed-0f7d-4927-8a0d-d321579ff222
DTSTAMP:20260421T113932Z
LAST-MODIFIED:20251008T100000Z
CREATED:20251008T100000Z
SUMMARY;LANGUAGE=de-de:Gelbe Tonne
LOCATION:Weilersbach - Reifenberg\, Forchheim
DTSTART;VALUE=DATE:20260225
END:VEVENT
BEGIN:VEVENT
UID:b7558b83-a20f-4f70-9831-25f4d4b7ec22
DTSTAMP:20260421T113932Z
LAST-MODIFIED:20251008T100000Z
CREATED:20251008T100000Z
SUMMARY;LANGUAGE=de-de:Gelbe Tonne
LOCATION:Weilersbach - Reifenberg\, Forchheim
DTSTART;VALUE=DATE:20260325
END:VEVENT
BEGIN:VEVENT
UID:c081b521-2868-4b56-bbf3-d2b1634cc859
DTSTAMP:20260421T113932Z
LAST-MODIFIED:20251008T100000Z
CREATED:20251008T100000Z
SUMMARY;LANGUAGE=de-de:Gelbe Tonne
LOCATION:Weilersbach - Reifenberg\, Forchheim
DTSTART;VALUE=DATE:20260424
END:VEVENT
BEGIN:VEVENT
UID:7231f737-a8cf-418d-bade-ce101dca3de8
DTSTAMP:20260421T113932Z
LAST-MODIFIED:20251008T100000Z
CREATED:20251008T100000Z
SUMMARY;LANGUAGE=de-de:Gelbe Tonne
LOCATION:Weilersbach - Reifenberg\, Forchheim
DTSTART;VALUE=DATE:20260527
END:VEVENT
BEGIN:VEVENT
UID:8129f3df-bec9-4129-96fd-f4399650842d
DTSTAMP:20260421T113932Z
LAST-MODIFIED:20251008T100000Z
CREATED:20251008T100000Z
SUMMARY;LANGUAGE=de-de:Gelbe Tonne
LOCATION:Weilersbach - Reifenberg\, Forchheim
DTSTART;VALUE=DATE:20260625
END:VEVENT
BEGIN:VEVENT
UID:3137f19f-45d1-4079-97d5-e1f510afa612
DTSTAMP:20260421T113932Z
LAST-MODIFIED:20251008T100000Z
CREATED:20251008T100000Z
SUMMARY;LANGUAGE=de-de:Gelbe Tonne
LOCATION:Weilersbach - Reifenberg\, Forchheim
DTSTART;VALUE=DATE:20260723
END:VEVENT
BEGIN:VEVENT
UID:12b547b3-70b1-40ba-9ddd-f9a552c17fcd
DTSTAMP:20260421T113932Z
LAST-MODIFIED:20251008T100000Z
CREATED:20251008T100000Z
SUMMARY;LANGUAGE=de-de:Gelbe Tonne
LOCATION:Weilersbach - Reifenberg\, Forchheim
DTSTART;VALUE=DATE:20260820
END:VEVENT
BEGIN:VEVENT
UID:24e0c0b1-1dd0-4872-92c4-69d28bf9442e
DTSTAMP:20260421T113932Z
LAST-MODIFIED:20251008T100000Z
CREATED:20251008T100000Z
SUMMARY;LANGUAGE=de-de:Gelbe Tonne
LOCATION:Weilersbach - Reifenberg\, Forchheim
DTSTART;VALUE=DATE:20260917
END:VEVENT
BEGIN:VEVENT
UID:34a90f0d-67d8-4ac7-b832-3d400d61f954
DTSTAMP:20260421T113932Z
LAST-MODIFIED:20251008T100000Z
CREATED:20251008T100000Z
SUMMARY;LANGUAGE=de-de:Gelbe Tonne
LOCATION:Weilersbach - Reifenberg\, Forchheim
DTSTART;VALUE=DATE:20261015
END:VEVENT
BEGIN:VEVENT
UID:2cc6f56b-87bd-49b4-bef0-14cce960ab14
DTSTAMP:20260421T113932Z
LAST-MODIFIED:20251008T100000Z
CREATED:20251008T100000Z
SUMMARY;LANGUAGE=de-de:Gelbe Tonne
LOCATION:Weilersbach - Reifenberg\, Forchheim
DTSTART;VALUE=DATE:20261112
END:VEVENT
BEGIN:VEVENT
UID:340a2a0f-fc4b-4547-8d1f-034b85388b99
DTSTAMP:20260421T113932Z
LAST-MODIFIED:20251008T100000Z
CREATED:20251008T100000Z
SUMMARY;LANGUAGE=de-de:Gelbe Tonne
LOCATION:Weilersbach - Reifenberg\, Forchheim
DTSTART;VALUE=DATE:20261210
END:VEVENT
BEGIN:VEVENT
UID:8c3dfa8c-d26f-4437-bc80-364101ac1030
DTSTAMP:20260421T113932Z
LAST-MODIFIED:20251008T100000Z
CREATED:20251008T100000Z
SUMMARY;LANGUAGE=de-de:Papiertonne
LOCATION:Weilersbach - Reifenberg\, Forchheim
DTSTART;VALUE=DATE:20260121
END:VEVENT
BEGIN:VEVENT
UID:e22bbaf2-ba96-429d-bffe-8b7df1a307fc
DTSTAMP:20260421T113932Z
LAST-MODIFIED:20251008T100000Z
CREATED:20251008T100000Z
SUMMARY;LANGUAGE=de-de:Papiertonne
LOCATION:Weilersbach - Reifenberg\, Forchheim
DTSTART;VALUE=DATE:20260217
END:VEVENT
BEGIN:VEVENT
UID:265572d1-214b-4b45-8552-80d1ffd6a473
DTSTAMP:20260421T113932Z
LAST-MODIFIED:20251008T100000Z
CREATED:20251008T100000Z
SUMMARY;LANGUAGE=de-de:Papiertonne
LOCATION:Weilersbach - Reifenberg\, Forchheim
DTSTART;VALUE=DATE:20260316
END:VEVENT
BEGIN:VEVENT
UID:db7ebaff-469e-4b8d-a405-16a2aef731aa
DTSTAMP:20260421T113932Z
LAST-MODIFIED:20251008T100000Z
CREATED:20251008T100000Z
SUMMARY;LANGUAGE=de-de:Papiertonne
LOCATION:Weilersbach - Reifenberg\, Forchheim
DTSTART;VALUE=DATE:20260414
END:VEVENT
BEGIN:VEVENT
UID:a5ad6b32-ed1f-4518-9570-d794dafe2fad
DTSTAMP:20260421T113932Z
LAST-MODIFIED:20251008T100000Z
CREATED:20251008T100000Z
SUMMARY;LANGUAGE=de-de:Papiertonne
LOCATION:Weilersbach - Reifenberg\, Forchheim
DTSTART;VALUE=DATE:20260512
END:VEVENT
BEGIN:VEVENT
UID:14f731a1-3335-4875-bf5a-7711d6ace861
DTSTAMP:20260421T113932Z
LAST-MODIFIED:20251008T100000Z
CREATED:20251008T100000Z
SUMMARY;LANGUAGE=de-de:Papiertonne
LOCATION:Weilersbach - Reifenberg\, Forchheim
DTSTART;VALUE=DATE:20260615
END:VEVENT
BEGIN:VEVENT
UID:434d5017-b241-4e81-9ca0-e2e189942e0e
DTSTAMP:20260421T113932Z
LAST-MODIFIED:20251008T100000Z
CREATED:20251008T100000Z
SUMMARY;LANGUAGE=de-de:Papiertonne
LOCATION:Weilersbach - Reifenberg\, Forchheim
DTSTART;VALUE=DATE:20260710
END:VEVENT
BEGIN:VEVENT
UID:6db22a3d-334a-4f52-8232-2962946c57f9
DTSTAMP:20260421T113932Z
LAST-MODIFIED:20251008T100000Z
CREATED:20251008T100000Z
SUMMARY;LANGUAGE=de-de:Papiertonne
LOCATION:Weilersbach - Reifenberg\, Forchheim
DTSTART;VALUE=DATE:20260806
END:VEVENT
BEGIN:VEVENT
UID:1748f119-2105-42d4-91e5-4ca879c4e9c5
DTSTAMP:20260421T113932Z
LAST-MODIFIED:20251008T100000Z
CREATED:20251008T100000Z
SUMMARY;LANGUAGE=de-de:Papiertonne
LOCATION:Weilersbach - Reifenberg\, Forchheim
DTSTART;VALUE=DATE:20260902
END:VEVENT
BEGIN:VEVENT
UID:8128134b-b6bc-4b7a-ac4b-75fd590f1fc2
DTSTAMP:20260421T113932Z
LAST-MODIFIED:20251008T100000Z
CREATED:20251008T100000Z
SUMMARY;LANGUAGE=de-de:Papiertonne
LOCATION:Weilersbach - Reifenberg\, Forchheim
DTSTART;VALUE=DATE:20260929
END:VEVENT
BEGIN:VEVENT
UID:0b3d45e8-9eef-4908-948a-b6bbcaf40cbe
DTSTAMP:20260421T113932Z
LAST-MODIFIED:20251008T100000Z
CREATED:20251008T100000Z
SUMMARY;LANGUAGE=de-de:Papiertonne
LOCATION:Weilersbach - Reifenberg\, Forchheim
DTSTART;VALUE=DATE:20261026
END:VEVENT
BEGIN:VEVENT
UID:d27f08ce-04be-42f5-9e1d-5d611c84e96c
DTSTAMP:20260421T113932Z
LAST-MODIFIED:20251008T100000Z
CREATED:20251008T100000Z
SUMMARY;LANGUAGE=de-de:Papiertonne
LOCATION:Weilersbach - Reifenberg\, Forchheim
DTSTART;VALUE=DATE:20261120
END:VEVENT
BEGIN:VEVENT
UID:fa8d823d-76d9-4fdc-aab4-17552d861530
DTSTAMP:20260421T113932Z
LAST-MODIFIED:20251008T100000Z
CREATED:20251008T100000Z
SUMMARY;LANGUAGE=de-de:Papiertonne
LOCATION:Weilersbach - Reifenberg\, Forchheim
DTSTART;VALUE=DATE:20261217
END:VEVENT
END:VCALENDAR
