BEGIN:VCALENDAR
VERSION:2.0
PRODID:Abfalltermine Forchheim
NAME:Abfalltermine für Wiesenttal - Voigendorf\, Forchheim
DESCRIPTION:Abfalltermine für Wiesenttal - Voigendorf\, Forchheim
LAST-MODIFIED:20251008T100000Z
BEGIN:VTIMEZONE
TZID:Europe/Berlin
LAST-MODIFIED:20260306T231828Z
TZURL:https://www.tzurl.org/zoneinfo-outlook/Europe/Berlin
X-LIC-LOCATION:Europe/Berlin
BEGIN:DAYLIGHT
TZNAME:CEST
TZOFFSETFROM:+0100
TZOFFSETTO:+0200
DTSTART:19700329T020000
RRULE:FREQ=YEARLY;BYDAY=-1SU;BYMONTH=3
END:DAYLIGHT
BEGIN:STANDARD
TZNAME:CET
TZOFFSETFROM:+0200
TZOFFSETTO:+0100
DTSTART:19701025T030000
RRULE:FREQ=YEARLY;BYDAY=-1SU;BYMONTH=10
END:STANDARD
END:VTIMEZONE
BEGIN:VEVENT
UID:247a5ee1-de8e-415a-8f65-adc2b6cf558a
DTSTAMP:20260424T092949Z
LAST-MODIFIED:20251008T100000Z
CREATED:20251008T100000Z
SUMMARY;LANGUAGE=de-de:Restmülltonne
LOCATION:Wiesenttal - Voigendorf\, Forchheim
DTSTART;VALUE=DATE:20260105
END:VEVENT
BEGIN:VEVENT
UID:faa1cd1b-beb2-41be-9319-c8b293367e82
DTSTAMP:20260424T092949Z
LAST-MODIFIED:20251008T100000Z
CREATED:20251008T100000Z
SUMMARY;LANGUAGE=de-de:Restmülltonne
LOCATION:Wiesenttal - Voigendorf\, Forchheim
DTSTART;VALUE=DATE:20260119
END:VEVENT
BEGIN:VEVENT
UID:44df00a6-52a6-43cf-964f-85f86a07514e
DTSTAMP:20260424T092949Z
LAST-MODIFIED:20251008T100000Z
CREATED:20251008T100000Z
SUMMARY;LANGUAGE=de-de:Restmülltonne
LOCATION:Wiesenttal - Voigendorf\, Forchheim
DTSTART;VALUE=DATE:20260202
END:VEVENT
BEGIN:VEVENT
UID:3461b23a-ee73-41e0-b6ea-f5359af87fc8
DTSTAMP:20260424T092949Z
LAST-MODIFIED:20251008T100000Z
CREATED:20251008T100000Z
SUMMARY;LANGUAGE=de-de:Restmülltonne
LOCATION:Wiesenttal - Voigendorf\, Forchheim
DTSTART;VALUE=DATE:20260216
END:VEVENT
BEGIN:VEVENT
UID:f6419466-c5e4-41da-b631-dff84773d86c
DTSTAMP:20260424T092949Z
LAST-MODIFIED:20251008T100000Z
CREATED:20251008T100000Z
SUMMARY;LANGUAGE=de-de:Restmülltonne
LOCATION:Wiesenttal - Voigendorf\, Forchheim
DTSTART;VALUE=DATE:20260302
END:VEVENT
BEGIN:VEVENT
UID:1f8b4fec-22f9-4d81-ac28-e72ea7fcba44
DTSTAMP:20260424T092949Z
LAST-MODIFIED:20251008T100000Z
CREATED:20251008T100000Z
SUMMARY;LANGUAGE=de-de:Restmülltonne
LOCATION:Wiesenttal - Voigendorf\, Forchheim
DTSTART;VALUE=DATE:20260316
END:VEVENT
BEGIN:VEVENT
UID:ba21b0eb-ee8c-479b-a15b-e9398e966a27
DTSTAMP:20260424T092949Z
LAST-MODIFIED:20251008T100000Z
CREATED:20251008T100000Z
SUMMARY;LANGUAGE=de-de:Restmülltonne
LOCATION:Wiesenttal - Voigendorf\, Forchheim
DTSTART;VALUE=DATE:20260330
END:VEVENT
BEGIN:VEVENT
UID:0398ff6c-f7a0-4d62-ad97-13eb0c3b9cdd
DTSTAMP:20260424T092949Z
LAST-MODIFIED:20251008T100000Z
CREATED:20251008T100000Z
SUMMARY;LANGUAGE=de-de:Restmülltonne
LOCATION:Wiesenttal - Voigendorf\, Forchheim
DTSTART;VALUE=DATE:20260413
END:VEVENT
BEGIN:VEVENT
UID:eb1834d6-42ea-45c0-bfde-ee9b4ba65c66
DTSTAMP:20260424T092949Z
LAST-MODIFIED:20251008T100000Z
CREATED:20251008T100000Z
SUMMARY;LANGUAGE=de-de:Restmülltonne
LOCATION:Wiesenttal - Voigendorf\, Forchheim
DTSTART;VALUE=DATE:20260427
END:VEVENT
BEGIN:VEVENT
UID:aeb933c3-2415-475a-99ac-fa027d7b269d
DTSTAMP:20260424T092949Z
LAST-MODIFIED:20251008T100000Z
CREATED:20251008T100000Z
SUMMARY;LANGUAGE=de-de:Restmülltonne
LOCATION:Wiesenttal - Voigendorf\, Forchheim
DTSTART;VALUE=DATE:20260511
END:VEVENT
BEGIN:VEVENT
UID:bcd2c0f4-942f-4725-8792-a79992b4e68d
DTSTAMP:20260424T092949Z
LAST-MODIFIED:20251008T100000Z
CREATED:20251008T100000Z
SUMMARY;LANGUAGE=de-de:Restmülltonne
LOCATION:Wiesenttal - Voigendorf\, Forchheim
DTSTART;VALUE=DATE:20260526
END:VEVENT
BEGIN:VEVENT
UID:2dcae702-ab9a-4172-bc87-659631610128
DTSTAMP:20260424T092949Z
LAST-MODIFIED:20251008T100000Z
CREATED:20251008T100000Z
SUMMARY;LANGUAGE=de-de:Restmülltonne
LOCATION:Wiesenttal - Voigendorf\, Forchheim
DTSTART;VALUE=DATE:20260608
END:VEVENT
BEGIN:VEVENT
UID:c69c58d7-b23b-4735-a727-8172ab1162f7
DTSTAMP:20260424T092949Z
LAST-MODIFIED:20251008T100000Z
CREATED:20251008T100000Z
SUMMARY;LANGUAGE=de-de:Restmülltonne
LOCATION:Wiesenttal - Voigendorf\, Forchheim
DTSTART;VALUE=DATE:20260622
END:VEVENT
BEGIN:VEVENT
UID:ed56704b-58b8-44c2-b7e2-ac360fb86466
DTSTAMP:20260424T092949Z
LAST-MODIFIED:20251008T100000Z
CREATED:20251008T100000Z
SUMMARY;LANGUAGE=de-de:Restmülltonne
LOCATION:Wiesenttal - Voigendorf\, Forchheim
DTSTART;VALUE=DATE:20260706
END:VEVENT
BEGIN:VEVENT
UID:b00d5ac1-59ff-4da4-882a-8b77809afe9f
DTSTAMP:20260424T092949Z
LAST-MODIFIED:20251008T100000Z
CREATED:20251008T100000Z
SUMMARY;LANGUAGE=de-de:Restmülltonne
LOCATION:Wiesenttal - Voigendorf\, Forchheim
DTSTART;VALUE=DATE:20260720
END:VEVENT
BEGIN:VEVENT
UID:f026d831-f927-4ed5-83f1-961f297cee77
DTSTAMP:20260424T092949Z
LAST-MODIFIED:20251008T100000Z
CREATED:20251008T100000Z
SUMMARY;LANGUAGE=de-de:Restmülltonne
LOCATION:Wiesenttal - Voigendorf\, Forchheim
DTSTART;VALUE=DATE:20260803
END:VEVENT
BEGIN:VEVENT
UID:79350b8b-f51e-499d-9dc7-62a1758befff
DTSTAMP:20260424T092949Z
LAST-MODIFIED:20251008T100000Z
CREATED:20251008T100000Z
SUMMARY;LANGUAGE=de-de:Restmülltonne
LOCATION:Wiesenttal - Voigendorf\, Forchheim
DTSTART;VALUE=DATE:20260817
END:VEVENT
BEGIN:VEVENT
UID:c95074e8-d19c-4041-bd36-13a34fc07782
DTSTAMP:20260424T092949Z
LAST-MODIFIED:20251008T100000Z
CREATED:20251008T100000Z
SUMMARY;LANGUAGE=de-de:Restmülltonne
LOCATION:Wiesenttal - Voigendorf\, Forchheim
DTSTART;VALUE=DATE:20260831
END:VEVENT
BEGIN:VEVENT
UID:7a518abf-1733-45f9-af56-80806d279842
DTSTAMP:20260424T092949Z
LAST-MODIFIED:20251008T100000Z
CREATED:20251008T100000Z
SUMMARY;LANGUAGE=de-de:Restmülltonne
LOCATION:Wiesenttal - Voigendorf\, Forchheim
DTSTART;VALUE=DATE:20260914
END:VEVENT
BEGIN:VEVENT
UID:b8deee1a-dd15-48e0-8f7a-ac0cebf57a82
DTSTAMP:20260424T092949Z
LAST-MODIFIED:20251008T100000Z
CREATED:20251008T100000Z
SUMMARY;LANGUAGE=de-de:Restmülltonne
LOCATION:Wiesenttal - Voigendorf\, Forchheim
DTSTART;VALUE=DATE:20260928
END:VEVENT
BEGIN:VEVENT
UID:762135dd-10a5-4583-af4e-917a3324b0f0
DTSTAMP:20260424T092949Z
LAST-MODIFIED:20251008T100000Z
CREATED:20251008T100000Z
SUMMARY;LANGUAGE=de-de:Restmülltonne
LOCATION:Wiesenttal - Voigendorf\, Forchheim
DTSTART;VALUE=DATE:20261012
END:VEVENT
BEGIN:VEVENT
UID:45c5beff-6659-407e-8ee5-e739ad8c5d39
DTSTAMP:20260424T092949Z
LAST-MODIFIED:20251008T100000Z
CREATED:20251008T100000Z
SUMMARY;LANGUAGE=de-de:Restmülltonne
LOCATION:Wiesenttal - Voigendorf\, Forchheim
DTSTART;VALUE=DATE:20261026
END:VEVENT
BEGIN:VEVENT
UID:d9dc8ef6-4730-41f6-98b3-5c16c98fd8eb
DTSTAMP:20260424T092949Z
LAST-MODIFIED:20251008T100000Z
CREATED:20251008T100000Z
SUMMARY;LANGUAGE=de-de:Restmülltonne
LOCATION:Wiesenttal - Voigendorf\, Forchheim
DTSTART;VALUE=DATE:20261109
END:VEVENT
BEGIN:VEVENT
UID:7744c243-4e87-42dd-83a7-99825c2c15b0
DTSTAMP:20260424T092949Z
LAST-MODIFIED:20251008T100000Z
CREATED:20251008T100000Z
SUMMARY;LANGUAGE=de-de:Restmülltonne
LOCATION:Wiesenttal - Voigendorf\, Forchheim
DTSTART;VALUE=DATE:20261123
END:VEVENT
BEGIN:VEVENT
UID:b4cd72cf-3858-428f-aaf5-442f86da25c9
DTSTAMP:20260424T092949Z
LAST-MODIFIED:20251008T100000Z
CREATED:20251008T100000Z
SUMMARY;LANGUAGE=de-de:Restmülltonne
LOCATION:Wiesenttal - Voigendorf\, Forchheim
DTSTART;VALUE=DATE:20261207
END:VEVENT
BEGIN:VEVENT
UID:8220e1f3-34e2-48c0-b15d-654e4db3bbf6
DTSTAMP:20260424T092949Z
LAST-MODIFIED:20251008T100000Z
CREATED:20251008T100000Z
SUMMARY;LANGUAGE=de-de:Restmülltonne
LOCATION:Wiesenttal - Voigendorf\, Forchheim
DTSTART;VALUE=DATE:20261221
END:VEVENT
BEGIN:VEVENT
UID:3a68e5b8-d539-4de9-b7fd-39ddd66b7d8c
DTSTAMP:20260424T092949Z
LAST-MODIFIED:20251008T100000Z
CREATED:20251008T100000Z
SUMMARY;LANGUAGE=de-de:Singletonne (Restmüll)
LOCATION:Wiesenttal - Voigendorf\, Forchheim
DTSTART;VALUE=DATE:20260105
END:VEVENT
BEGIN:VEVENT
UID:0d515d36-179c-478c-9794-0bd466d5792b
DTSTAMP:20260424T092949Z
LAST-MODIFIED:20251008T100000Z
CREATED:20251008T100000Z
SUMMARY;LANGUAGE=de-de:Singletonne (Restmüll)
LOCATION:Wiesenttal - Voigendorf\, Forchheim
DTSTART;VALUE=DATE:20260202
END:VEVENT
BEGIN:VEVENT
UID:e70eb9f0-63b7-4df8-a035-b8d33c440b9a
DTSTAMP:20260424T092949Z
LAST-MODIFIED:20251008T100000Z
CREATED:20251008T100000Z
SUMMARY;LANGUAGE=de-de:Singletonne (Restmüll)
LOCATION:Wiesenttal - Voigendorf\, Forchheim
DTSTART;VALUE=DATE:20260302
END:VEVENT
BEGIN:VEVENT
UID:cf5a992a-6292-4fbb-ba0e-fae1455cc90a
DTSTAMP:20260424T092949Z
LAST-MODIFIED:20251008T100000Z
CREATED:20251008T100000Z
SUMMARY;LANGUAGE=de-de:Singletonne (Restmüll)
LOCATION:Wiesenttal - Voigendorf\, Forchheim
DTSTART;VALUE=DATE:20260330
END:VEVENT
BEGIN:VEVENT
UID:3d4858df-e97d-4102-ad9f-6c1452192a77
DTSTAMP:20260424T092949Z
LAST-MODIFIED:20251008T100000Z
CREATED:20251008T100000Z
SUMMARY;LANGUAGE=de-de:Singletonne (Restmüll)
LOCATION:Wiesenttal - Voigendorf\, Forchheim
DTSTART;VALUE=DATE:20260427
END:VEVENT
BEGIN:VEVENT
UID:692fc406-0366-432a-a0c0-e3c07cbbefd4
DTSTAMP:20260424T092949Z
LAST-MODIFIED:20251008T100000Z
CREATED:20251008T100000Z
SUMMARY;LANGUAGE=de-de:Singletonne (Restmüll)
LOCATION:Wiesenttal - Voigendorf\, Forchheim
DTSTART;VALUE=DATE:20260526
END:VEVENT
BEGIN:VEVENT
UID:dcabb3ba-499c-4c70-aaf0-5d2bacf9417e
DTSTAMP:20260424T092949Z
LAST-MODIFIED:20251008T100000Z
CREATED:20251008T100000Z
SUMMARY;LANGUAGE=de-de:Singletonne (Restmüll)
LOCATION:Wiesenttal - Voigendorf\, Forchheim
DTSTART;VALUE=DATE:20260622
END:VEVENT
BEGIN:VEVENT
UID:631728f9-f854-4724-ba85-b61f78fe52fd
DTSTAMP:20260424T092949Z
LAST-MODIFIED:20251008T100000Z
CREATED:20251008T100000Z
SUMMARY;LANGUAGE=de-de:Singletonne (Restmüll)
LOCATION:Wiesenttal - Voigendorf\, Forchheim
DTSTART;VALUE=DATE:20260720
END:VEVENT
BEGIN:VEVENT
UID:ea5b2a13-5e85-40cd-a2dc-91d5fde0221b
DTSTAMP:20260424T092949Z
LAST-MODIFIED:20251008T100000Z
CREATED:20251008T100000Z
SUMMARY;LANGUAGE=de-de:Singletonne (Restmüll)
LOCATION:Wiesenttal - Voigendorf\, Forchheim
DTSTART;VALUE=DATE:20260817
END:VEVENT
BEGIN:VEVENT
UID:7de45bdc-7167-4b65-973a-33a0d24262b6
DTSTAMP:20260424T092949Z
LAST-MODIFIED:20251008T100000Z
CREATED:20251008T100000Z
SUMMARY;LANGUAGE=de-de:Singletonne (Restmüll)
LOCATION:Wiesenttal - Voigendorf\, Forchheim
DTSTART;VALUE=DATE:20260914
END:VEVENT
BEGIN:VEVENT
UID:7af4d3f5-4877-4ad1-a868-7de85659a045
DTSTAMP:20260424T092949Z
LAST-MODIFIED:20251008T100000Z
CREATED:20251008T100000Z
SUMMARY;LANGUAGE=de-de:Singletonne (Restmüll)
LOCATION:Wiesenttal - Voigendorf\, Forchheim
DTSTART;VALUE=DATE:20261012
END:VEVENT
BEGIN:VEVENT
UID:df6f1d12-77b5-4a4e-b33e-6c96120b02d9
DTSTAMP:20260424T092949Z
LAST-MODIFIED:20251008T100000Z
CREATED:20251008T100000Z
SUMMARY;LANGUAGE=de-de:Singletonne (Restmüll)
LOCATION:Wiesenttal - Voigendorf\, Forchheim
DTSTART;VALUE=DATE:20261109
END:VEVENT
BEGIN:VEVENT
UID:54946359-2517-47e4-9b27-5b2155bb2b45
DTSTAMP:20260424T092949Z
LAST-MODIFIED:20251008T100000Z
CREATED:20251008T100000Z
SUMMARY;LANGUAGE=de-de:Singletonne (Restmüll)
LOCATION:Wiesenttal - Voigendorf\, Forchheim
DTSTART;VALUE=DATE:20261207
END:VEVENT
BEGIN:VEVENT
UID:6e6c4204-09b9-4bbe-9ba6-f4a49be220ea
DTSTAMP:20260424T092949Z
LAST-MODIFIED:20251008T100000Z
CREATED:20251008T100000Z
SUMMARY;LANGUAGE=de-de:Biotonne
LOCATION:Wiesenttal - Voigendorf\, Forchheim
DTSTART;VALUE=DATE:20260105
END:VEVENT
BEGIN:VEVENT
UID:dbf30ab3-c87d-4d86-84a7-bb18923364da
DTSTAMP:20260424T092949Z
LAST-MODIFIED:20251008T100000Z
CREATED:20251008T100000Z
SUMMARY;LANGUAGE=de-de:Biotonne
LOCATION:Wiesenttal - Voigendorf\, Forchheim
DTSTART;VALUE=DATE:20260119
END:VEVENT
BEGIN:VEVENT
UID:7e74bf2b-fed8-4481-92e8-f0b73fc2a784
DTSTAMP:20260424T092949Z
LAST-MODIFIED:20251008T100000Z
CREATED:20251008T100000Z
SUMMARY;LANGUAGE=de-de:Biotonne
LOCATION:Wiesenttal - Voigendorf\, Forchheim
DTSTART;VALUE=DATE:20260202
END:VEVENT
BEGIN:VEVENT
UID:ea7fedd0-bd66-4414-99df-2927fce3e225
DTSTAMP:20260424T092949Z
LAST-MODIFIED:20251008T100000Z
CREATED:20251008T100000Z
SUMMARY;LANGUAGE=de-de:Biotonne
LOCATION:Wiesenttal - Voigendorf\, Forchheim
DTSTART;VALUE=DATE:20260216
END:VEVENT
BEGIN:VEVENT
UID:d57fc180-af7c-47b1-bab5-67f96458cb2f
DTSTAMP:20260424T092949Z
LAST-MODIFIED:20251008T100000Z
CREATED:20251008T100000Z
SUMMARY;LANGUAGE=de-de:Biotonne
LOCATION:Wiesenttal - Voigendorf\, Forchheim
DTSTART;VALUE=DATE:20260223
END:VEVENT
BEGIN:VEVENT
UID:0975a997-d1c1-41f9-ad4b-6860152a110a
DTSTAMP:20260424T092949Z
LAST-MODIFIED:20251008T100000Z
CREATED:20251008T100000Z
SUMMARY;LANGUAGE=de-de:Biotonne
LOCATION:Wiesenttal - Voigendorf\, Forchheim
DTSTART;VALUE=DATE:20260302
END:VEVENT
BEGIN:VEVENT
UID:84c1c92e-0f9e-4deb-933c-75617fd60416
DTSTAMP:20260424T092949Z
LAST-MODIFIED:20251008T100000Z
CREATED:20251008T100000Z
SUMMARY;LANGUAGE=de-de:Biotonne
LOCATION:Wiesenttal - Voigendorf\, Forchheim
DTSTART;VALUE=DATE:20260309
END:VEVENT
BEGIN:VEVENT
UID:c9357fd6-e11d-470c-b865-3cd67fe78e6b
DTSTAMP:20260424T092949Z
LAST-MODIFIED:20251008T100000Z
CREATED:20251008T100000Z
SUMMARY;LANGUAGE=de-de:Biotonne
LOCATION:Wiesenttal - Voigendorf\, Forchheim
DTSTART;VALUE=DATE:20260316
END:VEVENT
BEGIN:VEVENT
UID:23541288-a911-4244-9b44-b24b0b52287e
DTSTAMP:20260424T092949Z
LAST-MODIFIED:20251008T100000Z
CREATED:20251008T100000Z
SUMMARY;LANGUAGE=de-de:Biotonne
LOCATION:Wiesenttal - Voigendorf\, Forchheim
DTSTART;VALUE=DATE:20260323
END:VEVENT
BEGIN:VEVENT
UID:9f35aaac-d375-484a-9c14-1fb98279dd2e
DTSTAMP:20260424T092949Z
LAST-MODIFIED:20251008T100000Z
CREATED:20251008T100000Z
SUMMARY;LANGUAGE=de-de:Biotonne
LOCATION:Wiesenttal - Voigendorf\, Forchheim
DTSTART;VALUE=DATE:20260330
END:VEVENT
BEGIN:VEVENT
UID:084ffe3a-30d5-47b0-a6ad-8713e418ce1a
DTSTAMP:20260424T092949Z
LAST-MODIFIED:20251008T100000Z
CREATED:20251008T100000Z
SUMMARY;LANGUAGE=de-de:Biotonne
LOCATION:Wiesenttal - Voigendorf\, Forchheim
DTSTART;VALUE=DATE:20260407
END:VEVENT
BEGIN:VEVENT
UID:667f65ca-341c-4819-b9a7-10ed622c9ea9
DTSTAMP:20260424T092949Z
LAST-MODIFIED:20251008T100000Z
CREATED:20251008T100000Z
SUMMARY;LANGUAGE=de-de:Biotonne
LOCATION:Wiesenttal - Voigendorf\, Forchheim
DTSTART;VALUE=DATE:20260413
END:VEVENT
BEGIN:VEVENT
UID:f6846268-e26e-4e81-b38b-2322604a87cf
DTSTAMP:20260424T092949Z
LAST-MODIFIED:20251008T100000Z
CREATED:20251008T100000Z
SUMMARY;LANGUAGE=de-de:Biotonne
LOCATION:Wiesenttal - Voigendorf\, Forchheim
DTSTART;VALUE=DATE:20260420
END:VEVENT
BEGIN:VEVENT
UID:b22e57ab-e766-4417-a90f-2be73e23cacd
DTSTAMP:20260424T092949Z
LAST-MODIFIED:20251008T100000Z
CREATED:20251008T100000Z
SUMMARY;LANGUAGE=de-de:Biotonne
LOCATION:Wiesenttal - Voigendorf\, Forchheim
DTSTART;VALUE=DATE:20260427
END:VEVENT
BEGIN:VEVENT
UID:91be93cd-8666-44a5-8aee-165e4ac05a40
DTSTAMP:20260424T092949Z
LAST-MODIFIED:20251008T100000Z
CREATED:20251008T100000Z
SUMMARY;LANGUAGE=de-de:Biotonne
LOCATION:Wiesenttal - Voigendorf\, Forchheim
DTSTART;VALUE=DATE:20260504
END:VEVENT
BEGIN:VEVENT
UID:50d44c55-6791-4b6c-b0a5-dff3795d9e0d
DTSTAMP:20260424T092949Z
LAST-MODIFIED:20251008T100000Z
CREATED:20251008T100000Z
SUMMARY;LANGUAGE=de-de:Biotonne
LOCATION:Wiesenttal - Voigendorf\, Forchheim
DTSTART;VALUE=DATE:20260511
END:VEVENT
BEGIN:VEVENT
UID:9b9f511c-5eff-4b7f-995b-3e25ea303bfe
DTSTAMP:20260424T092949Z
LAST-MODIFIED:20251008T100000Z
CREATED:20251008T100000Z
SUMMARY;LANGUAGE=de-de:Biotonne
LOCATION:Wiesenttal - Voigendorf\, Forchheim
DTSTART;VALUE=DATE:20260518
END:VEVENT
BEGIN:VEVENT
UID:f47e895e-41fc-412e-a486-446ea0a818c9
DTSTAMP:20260424T092949Z
LAST-MODIFIED:20251008T100000Z
CREATED:20251008T100000Z
SUMMARY;LANGUAGE=de-de:Biotonne
LOCATION:Wiesenttal - Voigendorf\, Forchheim
DTSTART;VALUE=DATE:20260526
END:VEVENT
BEGIN:VEVENT
UID:dfd008d5-acb0-431d-ba7e-b70fde543e0c
DTSTAMP:20260424T092949Z
LAST-MODIFIED:20251008T100000Z
CREATED:20251008T100000Z
SUMMARY;LANGUAGE=de-de:Biotonne
LOCATION:Wiesenttal - Voigendorf\, Forchheim
DTSTART;VALUE=DATE:20260601
END:VEVENT
BEGIN:VEVENT
UID:e6fc4eef-9a49-47e8-988a-112ac1576acb
DTSTAMP:20260424T092949Z
LAST-MODIFIED:20251008T100000Z
CREATED:20251008T100000Z
SUMMARY;LANGUAGE=de-de:Biotonne
LOCATION:Wiesenttal - Voigendorf\, Forchheim
DTSTART;VALUE=DATE:20260608
END:VEVENT
BEGIN:VEVENT
UID:1987f6d2-e7dd-41c5-8d0b-eaafa45262cc
DTSTAMP:20260424T092949Z
LAST-MODIFIED:20251008T100000Z
CREATED:20251008T100000Z
SUMMARY;LANGUAGE=de-de:Biotonne
LOCATION:Wiesenttal - Voigendorf\, Forchheim
DTSTART;VALUE=DATE:20260615
END:VEVENT
BEGIN:VEVENT
UID:1fa9fb56-3a0e-4e61-bd8a-525088ae3b78
DTSTAMP:20260424T092949Z
LAST-MODIFIED:20251008T100000Z
CREATED:20251008T100000Z
SUMMARY;LANGUAGE=de-de:Biotonne
LOCATION:Wiesenttal - Voigendorf\, Forchheim
DTSTART;VALUE=DATE:20260622
END:VEVENT
BEGIN:VEVENT
UID:db84f80b-d1bb-475b-b6db-009e5f73bfb0
DTSTAMP:20260424T092949Z
LAST-MODIFIED:20251008T100000Z
CREATED:20251008T100000Z
SUMMARY;LANGUAGE=de-de:Biotonne
LOCATION:Wiesenttal - Voigendorf\, Forchheim
DTSTART;VALUE=DATE:20260629
END:VEVENT
BEGIN:VEVENT
UID:547f5f4c-fba0-4a66-a7fe-e07952cb861e
DTSTAMP:20260424T092949Z
LAST-MODIFIED:20251008T100000Z
CREATED:20251008T100000Z
SUMMARY;LANGUAGE=de-de:Biotonne
LOCATION:Wiesenttal - Voigendorf\, Forchheim
DTSTART;VALUE=DATE:20260706
END:VEVENT
BEGIN:VEVENT
UID:5f1f5985-348b-48b0-a0c4-feca780da593
DTSTAMP:20260424T092949Z
LAST-MODIFIED:20251008T100000Z
CREATED:20251008T100000Z
SUMMARY;LANGUAGE=de-de:Biotonne
LOCATION:Wiesenttal - Voigendorf\, Forchheim
DTSTART;VALUE=DATE:20260713
END:VEVENT
BEGIN:VEVENT
UID:7ccde22e-1bb5-4d5c-bdc7-b0c730d2d71d
DTSTAMP:20260424T092949Z
LAST-MODIFIED:20251008T100000Z
CREATED:20251008T100000Z
SUMMARY;LANGUAGE=de-de:Biotonne
LOCATION:Wiesenttal - Voigendorf\, Forchheim
DTSTART;VALUE=DATE:20260720
END:VEVENT
BEGIN:VEVENT
UID:c1afc240-3f9f-4a6e-9c53-431dafa9e5bc
DTSTAMP:20260424T092949Z
LAST-MODIFIED:20251008T100000Z
CREATED:20251008T100000Z
SUMMARY;LANGUAGE=de-de:Biotonne
LOCATION:Wiesenttal - Voigendorf\, Forchheim
DTSTART;VALUE=DATE:20260727
END:VEVENT
BEGIN:VEVENT
UID:dfb49bc1-cb5f-43a5-9366-b7c5adca784b
DTSTAMP:20260424T092949Z
LAST-MODIFIED:20251008T100000Z
CREATED:20251008T100000Z
SUMMARY;LANGUAGE=de-de:Biotonne
LOCATION:Wiesenttal - Voigendorf\, Forchheim
DTSTART;VALUE=DATE:20260803
END:VEVENT
BEGIN:VEVENT
UID:02710f83-fef2-4be2-b3de-b247612e1db5
DTSTAMP:20260424T092949Z
LAST-MODIFIED:20251008T100000Z
CREATED:20251008T100000Z
SUMMARY;LANGUAGE=de-de:Biotonne
LOCATION:Wiesenttal - Voigendorf\, Forchheim
DTSTART;VALUE=DATE:20260810
END:VEVENT
BEGIN:VEVENT
UID:d05a2b3b-2231-467b-b580-cafabf10b378
DTSTAMP:20260424T092949Z
LAST-MODIFIED:20251008T100000Z
CREATED:20251008T100000Z
SUMMARY;LANGUAGE=de-de:Biotonne
LOCATION:Wiesenttal - Voigendorf\, Forchheim
DTSTART;VALUE=DATE:20260817
END:VEVENT
BEGIN:VEVENT
UID:65b25469-c50e-4dd5-8c67-ba403771f969
DTSTAMP:20260424T092949Z
LAST-MODIFIED:20251008T100000Z
CREATED:20251008T100000Z
SUMMARY;LANGUAGE=de-de:Biotonne
LOCATION:Wiesenttal - Voigendorf\, Forchheim
DTSTART;VALUE=DATE:20260824
END:VEVENT
BEGIN:VEVENT
UID:4a5af806-8abe-4f7e-b51f-1f25c67bc8ee
DTSTAMP:20260424T092949Z
LAST-MODIFIED:20251008T100000Z
CREATED:20251008T100000Z
SUMMARY;LANGUAGE=de-de:Biotonne
LOCATION:Wiesenttal - Voigendorf\, Forchheim
DTSTART;VALUE=DATE:20260831
END:VEVENT
BEGIN:VEVENT
UID:99b001b4-3155-424d-94ad-e05c33f7ad0d
DTSTAMP:20260424T092949Z
LAST-MODIFIED:20251008T100000Z
CREATED:20251008T100000Z
SUMMARY;LANGUAGE=de-de:Biotonne
LOCATION:Wiesenttal - Voigendorf\, Forchheim
DTSTART;VALUE=DATE:20260907
END:VEVENT
BEGIN:VEVENT
UID:995ba9d3-d63f-4cb9-b236-434c27f8906f
DTSTAMP:20260424T092949Z
LAST-MODIFIED:20251008T100000Z
CREATED:20251008T100000Z
SUMMARY;LANGUAGE=de-de:Biotonne
LOCATION:Wiesenttal - Voigendorf\, Forchheim
DTSTART;VALUE=DATE:20260914
END:VEVENT
BEGIN:VEVENT
UID:b3d2c5d6-3620-4ef7-a926-d7b08091fd0a
DTSTAMP:20260424T092949Z
LAST-MODIFIED:20251008T100000Z
CREATED:20251008T100000Z
SUMMARY;LANGUAGE=de-de:Biotonne
LOCATION:Wiesenttal - Voigendorf\, Forchheim
DTSTART;VALUE=DATE:20260921
END:VEVENT
BEGIN:VEVENT
UID:db8343cb-250e-4e63-b745-c5a573377945
DTSTAMP:20260424T092949Z
LAST-MODIFIED:20251008T100000Z
CREATED:20251008T100000Z
SUMMARY;LANGUAGE=de-de:Biotonne
LOCATION:Wiesenttal - Voigendorf\, Forchheim
DTSTART;VALUE=DATE:20260928
END:VEVENT
BEGIN:VEVENT
UID:66ea121a-fd03-405b-b85f-2e825a78438b
DTSTAMP:20260424T092949Z
LAST-MODIFIED:20251008T100000Z
CREATED:20251008T100000Z
SUMMARY;LANGUAGE=de-de:Biotonne
LOCATION:Wiesenttal - Voigendorf\, Forchheim
DTSTART;VALUE=DATE:20261005
END:VEVENT
BEGIN:VEVENT
UID:d08c8fe5-acce-49aa-a966-3307616b235e
DTSTAMP:20260424T092949Z
LAST-MODIFIED:20251008T100000Z
CREATED:20251008T100000Z
SUMMARY;LANGUAGE=de-de:Biotonne
LOCATION:Wiesenttal - Voigendorf\, Forchheim
DTSTART;VALUE=DATE:20261012
END:VEVENT
BEGIN:VEVENT
UID:4c0026b6-95a9-4b43-bd67-40a82fe02cfe
DTSTAMP:20260424T092949Z
LAST-MODIFIED:20251008T100000Z
CREATED:20251008T100000Z
SUMMARY;LANGUAGE=de-de:Biotonne
LOCATION:Wiesenttal - Voigendorf\, Forchheim
DTSTART;VALUE=DATE:20261019
END:VEVENT
BEGIN:VEVENT
UID:edb8b423-944d-4881-a260-a74249f3395d
DTSTAMP:20260424T092949Z
LAST-MODIFIED:20251008T100000Z
CREATED:20251008T100000Z
SUMMARY;LANGUAGE=de-de:Biotonne
LOCATION:Wiesenttal - Voigendorf\, Forchheim
DTSTART;VALUE=DATE:20261026
END:VEVENT
BEGIN:VEVENT
UID:6cf7b2b3-1485-4efb-abc0-f66f1ac1c458
DTSTAMP:20260424T092949Z
LAST-MODIFIED:20251008T100000Z
CREATED:20251008T100000Z
SUMMARY;LANGUAGE=de-de:Biotonne
LOCATION:Wiesenttal - Voigendorf\, Forchheim
DTSTART;VALUE=DATE:20261102
END:VEVENT
BEGIN:VEVENT
UID:92fd6563-acc7-4316-9c28-13ef49cd35e0
DTSTAMP:20260424T092949Z
LAST-MODIFIED:20251008T100000Z
CREATED:20251008T100000Z
SUMMARY;LANGUAGE=de-de:Biotonne
LOCATION:Wiesenttal - Voigendorf\, Forchheim
DTSTART;VALUE=DATE:20261109
END:VEVENT
BEGIN:VEVENT
UID:30ee186f-ed33-43aa-8e8a-66cc101223f9
DTSTAMP:20260424T092949Z
LAST-MODIFIED:20251008T100000Z
CREATED:20251008T100000Z
SUMMARY;LANGUAGE=de-de:Biotonne
LOCATION:Wiesenttal - Voigendorf\, Forchheim
DTSTART;VALUE=DATE:20261116
END:VEVENT
BEGIN:VEVENT
UID:b8b81d91-1238-47a8-ad49-5e4d50beff97
DTSTAMP:20260424T092949Z
LAST-MODIFIED:20251008T100000Z
CREATED:20251008T100000Z
SUMMARY;LANGUAGE=de-de:Biotonne
LOCATION:Wiesenttal - Voigendorf\, Forchheim
DTSTART;VALUE=DATE:20261123
END:VEVENT
BEGIN:VEVENT
UID:85188b75-0856-4313-ac5f-8f74b6b24aad
DTSTAMP:20260424T092949Z
LAST-MODIFIED:20251008T100000Z
CREATED:20251008T100000Z
SUMMARY;LANGUAGE=de-de:Biotonne
LOCATION:Wiesenttal - Voigendorf\, Forchheim
DTSTART;VALUE=DATE:20261207
END:VEVENT
BEGIN:VEVENT
UID:dbf7c829-6ef7-4d90-9635-8f6cccea004b
DTSTAMP:20260424T092949Z
LAST-MODIFIED:20251008T100000Z
CREATED:20251008T100000Z
SUMMARY;LANGUAGE=de-de:Biotonne
LOCATION:Wiesenttal - Voigendorf\, Forchheim
DTSTART;VALUE=DATE:20261221
END:VEVENT
BEGIN:VEVENT
UID:5bed7bcb-420c-46cb-9385-eca74b059a10
DTSTAMP:20260424T092949Z
LAST-MODIFIED:20251008T100000Z
CREATED:20251008T100000Z
SUMMARY;LANGUAGE=de-de:Gelbe Tonne
LOCATION:Wiesenttal - Voigendorf\, Forchheim
DTSTART;VALUE=DATE:20260127
END:VEVENT
BEGIN:VEVENT
UID:dfc060d9-364a-4f25-b257-1de8c6c607bc
DTSTAMP:20260424T092949Z
LAST-MODIFIED:20251008T100000Z
CREATED:20251008T100000Z
SUMMARY;LANGUAGE=de-de:Gelbe Tonne
LOCATION:Wiesenttal - Voigendorf\, Forchheim
DTSTART;VALUE=DATE:20260224
END:VEVENT
BEGIN:VEVENT
UID:343a8a51-8dd5-40b2-8871-18003c3a1ac3
DTSTAMP:20260424T092949Z
LAST-MODIFIED:20251008T100000Z
CREATED:20251008T100000Z
SUMMARY;LANGUAGE=de-de:Gelbe Tonne
LOCATION:Wiesenttal - Voigendorf\, Forchheim
DTSTART;VALUE=DATE:20260324
END:VEVENT
BEGIN:VEVENT
UID:7b884536-4682-4d0f-856c-02fd9e8cfe12
DTSTAMP:20260424T092949Z
LAST-MODIFIED:20251008T100000Z
CREATED:20251008T100000Z
SUMMARY;LANGUAGE=de-de:Gelbe Tonne
LOCATION:Wiesenttal - Voigendorf\, Forchheim
DTSTART;VALUE=DATE:20260423
END:VEVENT
BEGIN:VEVENT
UID:4cf235a6-50f9-4dfa-ab5e-f155c16d2bb7
DTSTAMP:20260424T092949Z
LAST-MODIFIED:20251008T100000Z
CREATED:20251008T100000Z
SUMMARY;LANGUAGE=de-de:Gelbe Tonne
LOCATION:Wiesenttal - Voigendorf\, Forchheim
DTSTART;VALUE=DATE:20260526
END:VEVENT
BEGIN:VEVENT
UID:e5c7c5a6-81c9-413e-8efa-01d4fc3ae3eb
DTSTAMP:20260424T092949Z
LAST-MODIFIED:20251008T100000Z
CREATED:20251008T100000Z
SUMMARY;LANGUAGE=de-de:Gelbe Tonne
LOCATION:Wiesenttal - Voigendorf\, Forchheim
DTSTART;VALUE=DATE:20260624
END:VEVENT
BEGIN:VEVENT
UID:43b1981f-b3f5-458b-b743-9e9d30966983
DTSTAMP:20260424T092949Z
LAST-MODIFIED:20251008T100000Z
CREATED:20251008T100000Z
SUMMARY;LANGUAGE=de-de:Gelbe Tonne
LOCATION:Wiesenttal - Voigendorf\, Forchheim
DTSTART;VALUE=DATE:20260722
END:VEVENT
BEGIN:VEVENT
UID:dffc311c-12b0-4ca2-978c-5c8b31fba8fd
DTSTAMP:20260424T092949Z
LAST-MODIFIED:20251008T100000Z
CREATED:20251008T100000Z
SUMMARY;LANGUAGE=de-de:Gelbe Tonne
LOCATION:Wiesenttal - Voigendorf\, Forchheim
DTSTART;VALUE=DATE:20260819
END:VEVENT
BEGIN:VEVENT
UID:bfdcfaf9-c499-4348-90b0-0c95810502cb
DTSTAMP:20260424T092949Z
LAST-MODIFIED:20251008T100000Z
CREATED:20251008T100000Z
SUMMARY;LANGUAGE=de-de:Gelbe Tonne
LOCATION:Wiesenttal - Voigendorf\, Forchheim
DTSTART;VALUE=DATE:20260916
END:VEVENT
BEGIN:VEVENT
UID:87525533-45a6-421c-81e6-22b6a50aeec3
DTSTAMP:20260424T092949Z
LAST-MODIFIED:20251008T100000Z
CREATED:20251008T100000Z
SUMMARY;LANGUAGE=de-de:Gelbe Tonne
LOCATION:Wiesenttal - Voigendorf\, Forchheim
DTSTART;VALUE=DATE:20261014
END:VEVENT
BEGIN:VEVENT
UID:b6d4459a-94ee-45f1-93bf-a7d76ee4fb5e
DTSTAMP:20260424T092949Z
LAST-MODIFIED:20251008T100000Z
CREATED:20251008T100000Z
SUMMARY;LANGUAGE=de-de:Gelbe Tonne
LOCATION:Wiesenttal - Voigendorf\, Forchheim
DTSTART;VALUE=DATE:20261111
END:VEVENT
BEGIN:VEVENT
UID:d7831b32-5cfd-42e2-a7b9-8955abeaa41f
DTSTAMP:20260424T092949Z
LAST-MODIFIED:20251008T100000Z
CREATED:20251008T100000Z
SUMMARY;LANGUAGE=de-de:Gelbe Tonne
LOCATION:Wiesenttal - Voigendorf\, Forchheim
DTSTART;VALUE=DATE:20261209
END:VEVENT
BEGIN:VEVENT
UID:75a1cc08-1c20-4bcb-b017-844bf1e8d9b7
DTSTAMP:20260424T092949Z
LAST-MODIFIED:20251008T100000Z
CREATED:20251008T100000Z
SUMMARY;LANGUAGE=de-de:Papiertonne
LOCATION:Wiesenttal - Voigendorf\, Forchheim
DTSTART;VALUE=DATE:20260107
END:VEVENT
BEGIN:VEVENT
UID:9ff9007a-4861-4069-9e8c-0ea2817efa08
DTSTAMP:20260424T092949Z
LAST-MODIFIED:20251008T100000Z
CREATED:20251008T100000Z
SUMMARY;LANGUAGE=de-de:Papiertonne
LOCATION:Wiesenttal - Voigendorf\, Forchheim
DTSTART;VALUE=DATE:20260203
END:VEVENT
BEGIN:VEVENT
UID:49ef82b5-2666-43e7-8031-a56e9ee3c899
DTSTAMP:20260424T092949Z
LAST-MODIFIED:20251008T100000Z
CREATED:20251008T100000Z
SUMMARY;LANGUAGE=de-de:Papiertonne
LOCATION:Wiesenttal - Voigendorf\, Forchheim
DTSTART;VALUE=DATE:20260302
END:VEVENT
BEGIN:VEVENT
UID:bce542f7-ab51-46ce-a8d2-9049d445f442
DTSTAMP:20260424T092949Z
LAST-MODIFIED:20251008T100000Z
CREATED:20251008T100000Z
SUMMARY;LANGUAGE=de-de:Papiertonne
LOCATION:Wiesenttal - Voigendorf\, Forchheim
DTSTART;VALUE=DATE:20260327
END:VEVENT
BEGIN:VEVENT
UID:dcdc14e9-8f4a-47b2-8f5c-d9284bb800a2
DTSTAMP:20260424T092949Z
LAST-MODIFIED:20251008T100000Z
CREATED:20251008T100000Z
SUMMARY;LANGUAGE=de-de:Papiertonne
LOCATION:Wiesenttal - Voigendorf\, Forchheim
DTSTART;VALUE=DATE:20260427
END:VEVENT
BEGIN:VEVENT
UID:6fd2fd28-cbe2-42f9-a7b8-2d479fab4fc7
DTSTAMP:20260424T092949Z
LAST-MODIFIED:20251008T100000Z
CREATED:20251008T100000Z
SUMMARY;LANGUAGE=de-de:Papiertonne
LOCATION:Wiesenttal - Voigendorf\, Forchheim
DTSTART;VALUE=DATE:20260528
END:VEVENT
BEGIN:VEVENT
UID:a67ca1f2-4bff-465e-acbf-d130e6fca5db
DTSTAMP:20260424T092949Z
LAST-MODIFIED:20251008T100000Z
CREATED:20251008T100000Z
SUMMARY;LANGUAGE=de-de:Papiertonne
LOCATION:Wiesenttal - Voigendorf\, Forchheim
DTSTART;VALUE=DATE:20260626
END:VEVENT
BEGIN:VEVENT
UID:ba260f30-e49e-4898-a46e-fbe795359ed9
DTSTAMP:20260424T092949Z
LAST-MODIFIED:20251008T100000Z
CREATED:20251008T100000Z
SUMMARY;LANGUAGE=de-de:Papiertonne
LOCATION:Wiesenttal - Voigendorf\, Forchheim
DTSTART;VALUE=DATE:20260723
END:VEVENT
BEGIN:VEVENT
UID:045285c7-b4b4-4810-94df-c0c93a1bbe05
DTSTAMP:20260424T092949Z
LAST-MODIFIED:20251008T100000Z
CREATED:20251008T100000Z
SUMMARY;LANGUAGE=de-de:Papiertonne
LOCATION:Wiesenttal - Voigendorf\, Forchheim
DTSTART;VALUE=DATE:20260819
END:VEVENT
BEGIN:VEVENT
UID:d5899229-017c-485c-ac28-d4aa617c382f
DTSTAMP:20260424T092949Z
LAST-MODIFIED:20251008T100000Z
CREATED:20251008T100000Z
SUMMARY;LANGUAGE=de-de:Papiertonne
LOCATION:Wiesenttal - Voigendorf\, Forchheim
DTSTART;VALUE=DATE:20260915
END:VEVENT
BEGIN:VEVENT
UID:ab7d66b1-b511-43a0-a679-81935c95a7e3
DTSTAMP:20260424T092949Z
LAST-MODIFIED:20251008T100000Z
CREATED:20251008T100000Z
SUMMARY;LANGUAGE=de-de:Papiertonne
LOCATION:Wiesenttal - Voigendorf\, Forchheim
DTSTART;VALUE=DATE:20261012
END:VEVENT
BEGIN:VEVENT
UID:b2f0453e-3dd2-4f3f-809b-fcfb7be20c9e
DTSTAMP:20260424T092949Z
LAST-MODIFIED:20251008T100000Z
CREATED:20251008T100000Z
SUMMARY;LANGUAGE=de-de:Papiertonne
LOCATION:Wiesenttal - Voigendorf\, Forchheim
DTSTART;VALUE=DATE:20261106
END:VEVENT
BEGIN:VEVENT
UID:208508e6-c276-49ae-8d77-9ab3e8d1248e
DTSTAMP:20260424T092949Z
LAST-MODIFIED:20251008T100000Z
CREATED:20251008T100000Z
SUMMARY;LANGUAGE=de-de:Papiertonne
LOCATION:Wiesenttal - Voigendorf\, Forchheim
DTSTART;VALUE=DATE:20261203
END:VEVENT
END:VCALENDAR
